BEGIN:VCALENDAR
VERSION:2.0
PRODID:-//Philly Drag Mafia - ECPv6.15.20//NONSGML v1.0//EN
CALSCALE:GREGORIAN
METHOD:PUBLISH
X-WR-CALNAME:Philly Drag Mafia
X-ORIGINAL-URL:https://phillydragmafia.com
X-WR-CALDESC:Events for Philly Drag Mafia
REFRESH-INTERVAL;VALUE=DURATION:PT1H
X-Robots-Tag:noindex
X-PUBLISHED-TTL:PT1H
BEGIN:VTIMEZONE
TZID:America/New_York
BEGIN:DAYLIGHT
TZOFFSETFROM:-0500
TZOFFSETTO:-0400
TZNAME:EDT
DTSTART:20220313T070000
END:DAYLIGHT
BEGIN:STANDARD
TZOFFSETFROM:-0400
TZOFFSETTO:-0500
TZNAME:EST
DTSTART:20221106T060000
END:STANDARD
BEGIN:DAYLIGHT
TZOFFSETFROM:-0500
TZOFFSETTO:-0400
TZNAME:EDT
DTSTART:20230312T070000
END:DAYLIGHT
BEGIN:STANDARD
TZOFFSETFROM:-0400
TZOFFSETTO:-0500
TZNAME:EST
DTSTART:20231105T060000
END:STANDARD
BEGIN:DAYLIGHT
TZOFFSETFROM:-0500
TZOFFSETTO:-0400
TZNAME:EDT
DTSTART:20240310T070000
END:DAYLIGHT
BEGIN:STANDARD
TZOFFSETFROM:-0400
TZOFFSETTO:-0500
TZNAME:EST
DTSTART:20241103T060000
END:STANDARD
END:VTIMEZONE
BEGIN:VEVENT
DTSTART;TZID=America/New_York:20230928T180000
DTEND;TZID=America/New_York:20231001T180000
DTSTAMP:20260421T153446
CREATED:20230901T071114Z
LAST-MODIFIED:20230901T072659Z
UID:10000010-1695924000-1696183200@phillydragmafia.com
SUMMARY:Out & About Manayunk Weekend
DESCRIPTION:Manayunk is excited to be bringing back Out & About in MNYK to Main Street! In honor of National Coming Out Day in October\, Out & About in MNYK will host LGBTQ+ organizations and entertainment to promote Manayunk as a safe place that welcomes everyone. \nHere is the list of venues and events where you can see the Philly Drag Mafia:\nThursday 9/28 \nDrag Bingo | Blondie | 7PM \nDrag Cabaret + Variety Show | Manayunk Brewing Company | 8PM \nFriday 9/29 \nDrag Bingo | Winnie’s Manayunk | 7PM \nSaturday 9/30 \nDrag Storytime | 11AM \nPride Party on Gay Street | 1PM \nOut & About Quizzo Night + Karaoke | La Roca | 8PM \nSunday 10/1 \nBlondie Drag Brunch | Blondie | 11AM \nSidewalk Showgirls | Sunday Afternoon \nLa Roca \nLucky’s Last Chance \nJake’s & Cooper’s Wine Bar \nSOMO Manayunk \nThe Goat’s Beard \nMia Ragazza
URL:https://phillydragmafia.com/event/out-about-manayunk-weekend/
LOCATION:Manayunk\, Phila\, Pennsylvania
CATEGORIES:Drag Bingo,Drag Brunch,Drag Queen Story Time,Drag Shows,Trivia Night
ATTACH;FMTTYPE=image/png:https://phillydragmafia.com/wp-content/uploads/2023/09/September_30_-_October_2__1500____500_px___6_.png
END:VEVENT
BEGIN:VEVENT
DTSTART;TZID=America/New_York:20230930T130000
DTEND;TZID=America/New_York:20230930T150000
DTSTAMP:20260421T153446
CREATED:20230910T155842Z
LAST-MODIFIED:20230910T155842Z
UID:10000281-1696078800-1696086000@phillydragmafia.com
SUMMARY:Pride Show and Block Party on Gay Street in Manayunk
DESCRIPTION:Fabulous shows with amazing performers-under the Rainbow Umbrella installation on Gay Street-starting at 1pm. Hosted by Brittany Lynn and featuring the Philly Drag Mafia!
URL:https://phillydragmafia.com/event/pride-show-and-block-party-on-gay-street-in-manayunk/
LOCATION:Gay Street\, Gay Street\, Phila\, PA\, 19127\, United States
CATEGORIES:Drag Shows
ATTACH;FMTTYPE=image/jpeg:https://phillydragmafia.com/wp-content/uploads/2023/09/244426446_10159253211799760_2245180198001774756_n.jpg
END:VEVENT
BEGIN:VEVENT
DTSTART;TZID=America/New_York:20230930T180000
DTEND;TZID=America/New_York:20230930T220000
DTSTAMP:20260421T153446
CREATED:20230901T065904Z
LAST-MODIFIED:20230901T065904Z
UID:10000009-1696096800-1696111200@phillydragmafia.com
SUMMARY:What A Drag Fundraiser
DESCRIPTION:Join us for a fun evening out to see the “Philly Drag Mafia” show!  Doors open at 6:00PM.  Show begins at 7:00 PM.  Bring your own dinner and snacks.  Alcohol available for purchase through the VFW. \nIan Morrison\, aka Brittany Lynn\, is a household name in Philadelphia for many reasons. He’s been getting into drag for over 30 years – starting by entertaining crowds in nightclubs and bars (along with the Rocky Horror Picture Show). He’s gotten a day dedicated to him for his fundraising efforts from City Council\, along with bringing drag into the Mummer’s Parade and hosting the LGBTQ+ float in the city’s annual July 4th Parade. \nIan hosts regular gigs with his Drag Mafia including Drag Brunch\, Bingo and a cabaret show at Resorts Casino.  We will have the opportunity to be dazzled by several members of the Drag Mafia. You never know what kind of trouble and/or fun this group will create.
URL:https://phillydragmafia.com/event/what-a-drag-fundraiser/
LOCATION:Warminster VFW\, 645 Louis Dr.\, Warminster\, PA\, 18974\, United States
CATEGORIES:Drag Shows
ATTACH;FMTTYPE=image/jpeg:https://phillydragmafia.com/wp-content/uploads/2023/09/Ian-long.jpg
END:VEVENT
BEGIN:VEVENT
DTSTART;TZID=America/New_York:20230930T200000
DTEND;TZID=America/New_York:20230930T230000
DTSTAMP:20260421T153446
CREATED:20230910T160120Z
LAST-MODIFIED:20230910T160120Z
UID:10000282-1696104000-1696114800@phillydragmafia.com
SUMMARY:Trivia and Karaoke at La Roca
DESCRIPTION:Trivia with Dominique Lee and Demi Gawdess-followed by Karaoke!
URL:https://phillydragmafia.com/event/trivia-and-karaoke-at-la-roca/
LOCATION:La Roca\, 4161 Main St\, Phila\, PA\, 19127\, United States
CATEGORIES:Drag Shows
ATTACH;FMTTYPE=image/jpeg:https://phillydragmafia.com/wp-content/uploads/2023/09/download.jpg
END:VEVENT
END:VCALENDAR