BEGIN:VCALENDAR
VERSION:2.0
PRODID:-//Philly Drag Mafia - ECPv6.15.20//NONSGML v1.0//EN
CALSCALE:GREGORIAN
METHOD:PUBLISH
X-ORIGINAL-URL:https://phillydragmafia.com
X-WR-CALDESC:Events for Philly Drag Mafia
REFRESH-INTERVAL;VALUE=DURATION:PT1H
X-Robots-Tag:noindex
X-PUBLISHED-TTL:PT1H
BEGIN:VTIMEZONE
TZID:America/New_York
BEGIN:DAYLIGHT
TZOFFSETFROM:-0500
TZOFFSETTO:-0400
TZNAME:EDT
DTSTART:20220313T070000
END:DAYLIGHT
BEGIN:STANDARD
TZOFFSETFROM:-0400
TZOFFSETTO:-0500
TZNAME:EST
DTSTART:20221106T060000
END:STANDARD
BEGIN:DAYLIGHT
TZOFFSETFROM:-0500
TZOFFSETTO:-0400
TZNAME:EDT
DTSTART:20230312T070000
END:DAYLIGHT
BEGIN:STANDARD
TZOFFSETFROM:-0400
TZOFFSETTO:-0500
TZNAME:EST
DTSTART:20231105T060000
END:STANDARD
BEGIN:DAYLIGHT
TZOFFSETFROM:-0500
TZOFFSETTO:-0400
TZNAME:EDT
DTSTART:20240310T070000
END:DAYLIGHT
BEGIN:STANDARD
TZOFFSETFROM:-0400
TZOFFSETTO:-0500
TZNAME:EST
DTSTART:20241103T060000
END:STANDARD
END:VTIMEZONE
BEGIN:VEVENT
DTSTART;TZID=America/New_York:20231014T110000
DTEND;TZID=America/New_York:20231014T140000
DTSTAMP:20260421T140134
CREATED:20230923T144600Z
LAST-MODIFIED:20230923T144621Z
UID:10000287-1697281200-1697292000@phillydragmafia.com
SUMMARY:Halloween Drag Brunch at Santucci's
DESCRIPTION:J﻿oin us at Santucci’s North Broad for a Halloween Drag Brunch Featuring Brittany Lynn and the Drag Mafia (Philadelphia Magazine’s Best of Philly 2023 for Best Drag Shows) \nT﻿ickets start at $25 \nCOSTUMES RECOMMENDED! \n$﻿30 Option for 2 Hour Bloodys and Mimosas \no﻿r \n$12 Espresso Martinis\, $10 Wig-Flip\, $﻿7 House Mimosas\, Bloodys (Mary & Maria)\, $6 House Margaritas\, and $5 Stateside or Surfside \nDoors open at 11am | First set starts at 12PM | Second set at 1PM \nEnd Brunch with Pictures with your favorite QUEENS! \n*﻿Single Seats and Tables of Two and Four are available for purchase\, however we will work to accommodate all party sizes* \nA﻿ll guests are subject to ID prior to entry
URL:https://phillydragmafia.com/event/halloween-drag-brunch-at-santuccis/
LOCATION:Santucci’s\, 655 North Broad Street\, Phila\, PA\, 19123\, United States
CATEGORIES:Drag Brunch,Drag Shows
ATTACH;FMTTYPE=image/jpeg:https://phillydragmafia.com/wp-content/uploads/2023/09/https___cdn.evbuc_.com_images_576012329_634854851313_1_original.jpg
END:VEVENT
END:VCALENDAR