BEGIN:VCALENDAR
VERSION:2.0
PRODID:-//Philly Drag Mafia - ECPv6.15.20//NONSGML v1.0//EN
CALSCALE:GREGORIAN
METHOD:PUBLISH
X-WR-CALNAME:Philly Drag Mafia
X-ORIGINAL-URL:https://phillydragmafia.com
X-WR-CALDESC:Events for Philly Drag Mafia
REFRESH-INTERVAL;VALUE=DURATION:PT1H
X-Robots-Tag:noindex
X-PUBLISHED-TTL:PT1H
BEGIN:VTIMEZONE
TZID:America/New_York
BEGIN:DAYLIGHT
TZOFFSETFROM:-0500
TZOFFSETTO:-0400
TZNAME:EDT
DTSTART:20220313T070000
END:DAYLIGHT
BEGIN:STANDARD
TZOFFSETFROM:-0400
TZOFFSETTO:-0500
TZNAME:EST
DTSTART:20221106T060000
END:STANDARD
BEGIN:DAYLIGHT
TZOFFSETFROM:-0500
TZOFFSETTO:-0400
TZNAME:EDT
DTSTART:20230312T070000
END:DAYLIGHT
BEGIN:STANDARD
TZOFFSETFROM:-0400
TZOFFSETTO:-0500
TZNAME:EST
DTSTART:20231105T060000
END:STANDARD
BEGIN:DAYLIGHT
TZOFFSETFROM:-0500
TZOFFSETTO:-0400
TZNAME:EDT
DTSTART:20240310T070000
END:DAYLIGHT
BEGIN:STANDARD
TZOFFSETFROM:-0400
TZOFFSETTO:-0500
TZNAME:EST
DTSTART:20241103T060000
END:STANDARD
END:VTIMEZONE
BEGIN:VEVENT
DTSTART;TZID=America/New_York:20231019T190000
DTEND;TZID=America/New_York:20231019T210000
DTSTAMP:20260421T140047
CREATED:20231004T170617Z
LAST-MODIFIED:20231004T171157Z
UID:10000292-1697742000-1697749200@phillydragmafia.com
SUMMARY:Halloween Horror Trivia Night and Halloween Screening
DESCRIPTION:Pitchers and Potions Trivia Night: Halloween Horror Movie \nJoin us for a spooktacular evening of trivia and frights at our Pitchers and Potions Trivia Night: Halloween Horror Movie event! Get ready to test your knowledge of all things scary and supernatural while enjoying delicious drinks and a lively atmosphere. \nDate: Thursday\, Oct. 19th 2023 \nTime: 7:00 PM \nLocation: 1305 Locust St\, Philadelphia\, PA 19107 \nGather your friends\, put on your most haunting costumes\, and join us for a night filled with thrilling trivia questions\, Halloween-themed cocktails\, and a chance to win amazing prizes. Whether you are a horror movie buff or just looking for a fun night out\, this event is perfect for all Halloween enthusiasts. \nDon’t miss out on the opportunity to show off your knowledge of the scariest movies\, while enjoying a chilling evening with fellow horror fans. Mark your calendars and get ready to scream with excitement at our Pitchers and Potions Trivia Night: Halloween Horror Movie event!
URL:https://phillydragmafia.com/event/halloween-horror-trivia-night-and-halloween-screening/
LOCATION:Cauldron Philly\, 1305 Locust St.\, Phila\, PA\, 19107\, United States
CATEGORIES:Drag Shows,Trivia Night
ATTACH;FMTTYPE=image/jpeg:https://phillydragmafia.com/wp-content/uploads/2023/10/https___cdn.evbuc_.com_images_599577399_235383791913_1_original.jpg
END:VEVENT
END:VCALENDAR