BEGIN:VCALENDAR
VERSION:2.0
PRODID:-//Philly Drag Mafia - ECPv6.15.20//NONSGML v1.0//EN
CALSCALE:GREGORIAN
METHOD:PUBLISH
X-WR-CALNAME:Philly Drag Mafia
X-ORIGINAL-URL:https://phillydragmafia.com
X-WR-CALDESC:Events for Philly Drag Mafia
REFRESH-INTERVAL;VALUE=DURATION:PT1H
X-Robots-Tag:noindex
X-PUBLISHED-TTL:PT1H
BEGIN:VTIMEZONE
TZID:America/New_York
BEGIN:DAYLIGHT
TZOFFSETFROM:-0500
TZOFFSETTO:-0400
TZNAME:EDT
DTSTART:20220313T070000
END:DAYLIGHT
BEGIN:STANDARD
TZOFFSETFROM:-0400
TZOFFSETTO:-0500
TZNAME:EST
DTSTART:20221106T060000
END:STANDARD
BEGIN:DAYLIGHT
TZOFFSETFROM:-0500
TZOFFSETTO:-0400
TZNAME:EDT
DTSTART:20230312T070000
END:DAYLIGHT
BEGIN:STANDARD
TZOFFSETFROM:-0400
TZOFFSETTO:-0500
TZNAME:EST
DTSTART:20231105T060000
END:STANDARD
BEGIN:DAYLIGHT
TZOFFSETFROM:-0500
TZOFFSETTO:-0400
TZNAME:EDT
DTSTART:20240310T070000
END:DAYLIGHT
BEGIN:STANDARD
TZOFFSETFROM:-0400
TZOFFSETTO:-0500
TZNAME:EST
DTSTART:20241103T060000
END:STANDARD
END:VTIMEZONE
BEGIN:VEVENT
DTSTART;TZID=America/New_York:20231113T193000
DTEND;TZID=America/New_York:20231113T220000
DTSTAMP:20260421T123457
CREATED:20231016T135045Z
LAST-MODIFIED:20231016T135045Z
UID:10000301-1699903800-1699912800@phillydragmafia.com
SUMMARY:Mazzoni Honors Stephen Schwartz
DESCRIPTION:Be part of an unforgettable evening at the Kimmel Center as the inaugural Mazzoni Center Honors benefit pays tribute to legendary composer Stephen Schwartz – Grammy\, Tony\, and Academy Award Winning Composer of Wicked\, Godspell\, Pippin\, and more.  Join Stephen Schwartz as part of the audience as a spectacular line-up of award-winning Broadway and pop music stars perform songs from his incredible musical catalog.  Stephen will be presented with a special award in recognition of his musical and humanitarian impact. \nBUY TICKETS \nArtists currently slated to perform include*:\nJason Robert Brown\, Tony Award Winner (Parade\, Bridges of Madison County)\nPaula Cole\, Grammy Award Winning Singer-Songwriter\nLorna Courtney\, Tony Award Nominee (& Juliet)\nCharlotte d’Amboise\, Tony Award Nominee (A Chorus Line\, Jerome Robbins’ Broadway)\nJ Harrison Ghee\, Tony Award Winner (Some Like It Hot)\nLauren Hart\, Voted Best Anthem Singer in NHL History\nTelly Leung\, Broadway and Television star (Glee\, Godspell\, Aladdin)\nTerrence Mann\, Tony Award Nominee (Les Miserables\, Beauty and the Beast\, Pippin)\nLizzy McAlpine\, International Pop Music Sensation\nAlex Newell\, Tony Award Winner (Shucked)\nDee Dee Sharp\, Philadelphia Music Walk of Fame Honoree\nAnd The Philadelphia Gay Men’s Chorus \nHosted by Emmy and Peabody Award Winner\, Soledad O’Brien\nDrag show opening by Brittany Lynn\, Nurse Morgamn\, and Phoebe Mantrapp \nProduced by: Richard Barone   Music Director: Nick Wilders \n*Line-up subject to change without notice. \nAll proceeds from the evening will benefit Mazzoni Center\, the premiere comprehensive health and wellness center serving Philadelphia’s LGBTQ community.
URL:https://phillydragmafia.com/event/mazzoni-honors-stephen-schwartz/
LOCATION:PA
CATEGORIES:Drag Shows
ATTACH;FMTTYPE=image/jpeg:https://phillydragmafia.com/wp-content/uploads/2023/10/header_1002.jpg
END:VEVENT
END:VCALENDAR