BEGIN:VCALENDAR
VERSION:2.0
PRODID:-//Philly Drag Mafia - ECPv6.15.20//NONSGML v1.0//EN
CALSCALE:GREGORIAN
METHOD:PUBLISH
X-WR-CALNAME:Philly Drag Mafia
X-ORIGINAL-URL:https://phillydragmafia.com
X-WR-CALDESC:Events for Philly Drag Mafia
REFRESH-INTERVAL;VALUE=DURATION:PT1H
X-Robots-Tag:noindex
X-PUBLISHED-TTL:PT1H
BEGIN:VTIMEZONE
TZID:America/New_York
BEGIN:DAYLIGHT
TZOFFSETFROM:-0500
TZOFFSETTO:-0400
TZNAME:EDT
DTSTART:20220313T070000
END:DAYLIGHT
BEGIN:STANDARD
TZOFFSETFROM:-0400
TZOFFSETTO:-0500
TZNAME:EST
DTSTART:20221106T060000
END:STANDARD
BEGIN:DAYLIGHT
TZOFFSETFROM:-0500
TZOFFSETTO:-0400
TZNAME:EDT
DTSTART:20230312T070000
END:DAYLIGHT
BEGIN:STANDARD
TZOFFSETFROM:-0400
TZOFFSETTO:-0500
TZNAME:EST
DTSTART:20231105T060000
END:STANDARD
BEGIN:DAYLIGHT
TZOFFSETFROM:-0500
TZOFFSETTO:-0400
TZNAME:EDT
DTSTART:20240310T070000
END:DAYLIGHT
BEGIN:STANDARD
TZOFFSETFROM:-0400
TZOFFSETTO:-0500
TZNAME:EST
DTSTART:20241103T060000
END:STANDARD
END:VTIMEZONE
BEGIN:VEVENT
DTSTART;TZID=America/New_York:20231115T190000
DTEND;TZID=America/New_York:20231115T210000
DTSTAMP:20260421T123532
CREATED:20231020T123941Z
LAST-MODIFIED:20231109T155503Z
UID:10000304-1700074800-1700082000@phillydragmafia.com
SUMMARY:BIG BIRD BINGO at the Cauldron
DESCRIPTION:Hey Hun! \nDrag Bingo comes to the Cauldron Philly! Come play five rounds of bingo at Philly’s premier Wizard and Potions Bar and see fabulous performances in between games by The Philly Drag Mafia (Phillydragmafia.com) – Winner Best of Philly 2022 for Best Drag Shows! Hosted by Miss Brittany Lynn! \nJoin us for an unforgettable evening of fabulous entertainment at Drag Bingo! Get ready to laugh\, cheer\, and win exciting prizes while enjoying the electrifying performances by talented drag queens. This in-person event will take place on Wednesday\, November 15th 2023 at 1305 Locust St\, Philadelphia\, PA 19107. \nThis month’s Bingo features Victoria Cortez and Yari. \nGames begin at 7pm\, come a little earlier and grab some amazing food and cocktails-or enjoy some during the games! \nSo come on OUT and play with Brittany and her girls and win some fabulous prizes including tickets for a fully paid potions experience for 4 and tickets and A THANSKGIVING TURKEY AND SIDES. \n5﻿ rounds including a special Cover All final round ! \n(*Tickets include your seat\, your dabber\, and your playing sheets-food\, drink\, and grat not included.) \n*﻿Tickets sell fast as space is limited Don’t miss out on this fabulous event!
URL:https://phillydragmafia.com/event/big-bird-bingo-at-the-cauldron/
LOCATION:Cauldron Philly\, 1305 Locust St.\, Phila\, PA\, 19107\, United States
CATEGORIES:Drag Bingo,Drag Shows
ATTACH;FMTTYPE=image/jpeg:https://phillydragmafia.com/wp-content/uploads/2023/10/https___cdn.evbuc_.com_images_626829669_235383791913_1_original.jpg
END:VEVENT
END:VCALENDAR