BEGIN:VCALENDAR
VERSION:2.0
PRODID:-//Philly Drag Mafia - ECPv6.15.20//NONSGML v1.0//EN
CALSCALE:GREGORIAN
METHOD:PUBLISH
X-ORIGINAL-URL:https://phillydragmafia.com
X-WR-CALDESC:Events for Philly Drag Mafia
REFRESH-INTERVAL;VALUE=DURATION:PT1H
X-Robots-Tag:noindex
X-PUBLISHED-TTL:PT1H
BEGIN:VTIMEZONE
TZID:America/New_York
BEGIN:DAYLIGHT
TZOFFSETFROM:-0500
TZOFFSETTO:-0400
TZNAME:EDT
DTSTART:20220313T070000
END:DAYLIGHT
BEGIN:STANDARD
TZOFFSETFROM:-0400
TZOFFSETTO:-0500
TZNAME:EST
DTSTART:20221106T060000
END:STANDARD
BEGIN:DAYLIGHT
TZOFFSETFROM:-0500
TZOFFSETTO:-0400
TZNAME:EDT
DTSTART:20230312T070000
END:DAYLIGHT
BEGIN:STANDARD
TZOFFSETFROM:-0400
TZOFFSETTO:-0500
TZNAME:EST
DTSTART:20231105T060000
END:STANDARD
BEGIN:DAYLIGHT
TZOFFSETFROM:-0500
TZOFFSETTO:-0400
TZNAME:EDT
DTSTART:20240310T070000
END:DAYLIGHT
BEGIN:STANDARD
TZOFFSETFROM:-0400
TZOFFSETTO:-0500
TZNAME:EST
DTSTART:20241103T060000
END:STANDARD
END:VTIMEZONE
BEGIN:VEVENT
DTSTART;TZID=America/New_York:20231202T110000
DTEND;TZID=America/New_York:20231202T140000
DTSTAMP:20260421T110418
CREATED:20231007T010733Z
LAST-MODIFIED:20231007T010856Z
UID:10000296-1701514800-1701525600@phillydragmafia.com
SUMMARY:SLEIGH Drag Brunch at Towne House in Media
DESCRIPTION:Drag Brunch Returns to Media\, Pa. at the Towne House-holiday style! What better way to celebrate the holidays than with Drag queens\, live singing\, comedy\, sexy Santas for photos\, and more! \nDoors open at 11am-show starts at noon! Hosted by Brittany Lynn and featuring the Philly Drag Mafia! (Phillydragmafia.com) \n*Ticket purchase includes your seats and two fabulous shows. Brunch food and drinks are additional purchases the day of the event. \nWe have tables for two\, and tables for four available. We can arrange the tables to accomodate your group once they are purchased (if purchased seperately). \nBrittany and her Drag Mafia have been performing for over two decades — with shows at casinos\, restaurants\, and concert venues all over the tri-state area! Brittany currently has a show residency at Resorts Casino\, recently won Philadelphia Magazine’s Best of Philly 2022 for BEST DRAG SHOWS and 2023 for BEST DRAG BRUNCHES\, AAAND was named one of “The 100 Most Influential People of Philadelphia”. \nDrag Mafia is the most award winning drag troupe around-not only for their shows\, but for their work with multiple charities on various platforms. Don’t miss out on this show-we are sure to please even the fussiest Queen in your crew!
URL:https://phillydragmafia.com/event/39554/
LOCATION:Towne House\, 117 Veterans Square\, Media\, Pennsylvania\, 19063
CATEGORIES:Drag Brunch,Drag Shows
ATTACH;FMTTYPE=image/png:https://phillydragmafia.com/wp-content/uploads/2023/10/SLEIGH-Instagram-Post.png
END:VEVENT
BEGIN:VEVENT
DTSTART;TZID=America/New_York:20231202T180000
DTEND;TZID=America/New_York:20231202T220000
DTSTAMP:20260421T110418
CREATED:20231026T212604Z
LAST-MODIFIED:20231031T165541Z
UID:10000306-1701540000-1701554400@phillydragmafia.com
SUMMARY:Drag Bingo at Wildwood Convention Center
DESCRIPTION:Wildwoods Convention Center. Have a little extra fun with some Holiday Cheer. Join us for this FUNdraiser! Holiday Drag Queen BINGO with 12 rounds of Bingo & CASH Prizes. Tickets are $35.00 per person. Doors are 5PM with BINGO starting at 7PM. Food and drinks available to purchase inside. NO OUTSIDE food and drinks allowed. ALL new Drag Queens for this event. Drag Queens provided by: Brittany Lynn & The Philly Drag Mafia. For questions or concerns\, please contact Greater Wildwood Chamber of Commerce Foundation at 609.729.4000 or visit the office at 3306 Pacific Avenue Wildwood\, NJ 08260 . Tickets are non-refundable. PLEASE note this event has sold out in the past and we expect it will again\, so do not delay and get your tickets NOW! For more information call 609.729.4000 or visit gwcoc.org
URL:https://phillydragmafia.com/event/drag-bingo-at-wildwood-convention-center/
LOCATION:Wildwood Convention center\, 4501 Boardwalk Wildwood\, Wildwood\, NJ\, 08260\, United States
CATEGORIES:Drag Bingo,Drag Shows
ATTACH;FMTTYPE=image/jpeg:https://phillydragmafia.com/wp-content/uploads/2023/10/Dec-Drag-Queen-Bingo-Facebook-Post-1.jpg
END:VEVENT
END:VCALENDAR