BEGIN:VCALENDAR
VERSION:2.0
PRODID:-//Philly Drag Mafia - ECPv6.15.20//NONSGML v1.0//EN
CALSCALE:GREGORIAN
METHOD:PUBLISH
X-ORIGINAL-URL:https://phillydragmafia.com
X-WR-CALDESC:Events for Philly Drag Mafia
REFRESH-INTERVAL;VALUE=DURATION:PT1H
X-Robots-Tag:noindex
X-PUBLISHED-TTL:PT1H
BEGIN:VTIMEZONE
TZID:America/New_York
BEGIN:DAYLIGHT
TZOFFSETFROM:-0500
TZOFFSETTO:-0400
TZNAME:EDT
DTSTART:20220313T070000
END:DAYLIGHT
BEGIN:STANDARD
TZOFFSETFROM:-0400
TZOFFSETTO:-0500
TZNAME:EST
DTSTART:20221106T060000
END:STANDARD
BEGIN:DAYLIGHT
TZOFFSETFROM:-0500
TZOFFSETTO:-0400
TZNAME:EDT
DTSTART:20230312T070000
END:DAYLIGHT
BEGIN:STANDARD
TZOFFSETFROM:-0400
TZOFFSETTO:-0500
TZNAME:EST
DTSTART:20231105T060000
END:STANDARD
BEGIN:DAYLIGHT
TZOFFSETFROM:-0500
TZOFFSETTO:-0400
TZNAME:EDT
DTSTART:20240310T070000
END:DAYLIGHT
BEGIN:STANDARD
TZOFFSETFROM:-0400
TZOFFSETTO:-0500
TZNAME:EST
DTSTART:20241103T060000
END:STANDARD
END:VTIMEZONE
BEGIN:VEVENT
DTSTART;TZID=America/New_York:20231210T110000
DTEND;TZID=America/New_York:20231210T140000
DTSTAMP:20260421T110408
CREATED:20231017T173547Z
LAST-MODIFIED:20231017T173613Z
UID:10000302-1702206000-1702216800@phillydragmafia.com
SUMMARY:Big Gay Holiday Drag Brunch at Xfinity Live
DESCRIPTION:Brittany Lynn and her Drag Mafia are ready to put you in the holiday spirit with their Big Gay Holiday Drag Brunch inside Victory Beer Hall at Xfinity Live! Naughty or nice\, you’re invited to the biggest holiday drag show in the city! Live singing\, comedy\, sexy Santas-and more!\nEnjoy a specialty brunch menu\, holiday cocktails and an unforgettable show!
URL:https://phillydragmafia.com/event/big-gay-holiday-drag-brunch-at-xfinity-live/
LOCATION:Xfinity Live\, 1100 Pattison Ave\, Philadelphia\, PA\, 19148\, United States
CATEGORIES:Drag Brunch,Drag Shows
ATTACH;FMTTYPE=image/jpeg:https://phillydragmafia.com/wp-content/uploads/2023/10/unnamed-2.jpg
END:VEVENT
END:VCALENDAR