BEGIN:VCALENDAR
VERSION:2.0
PRODID:-//Philly Drag Mafia - ECPv6.15.20//NONSGML v1.0//EN
CALSCALE:GREGORIAN
METHOD:PUBLISH
X-WR-CALNAME:Philly Drag Mafia
X-ORIGINAL-URL:https://phillydragmafia.com
X-WR-CALDESC:Events for Philly Drag Mafia
REFRESH-INTERVAL;VALUE=DURATION:PT1H
X-Robots-Tag:noindex
X-PUBLISHED-TTL:PT1H
BEGIN:VTIMEZONE
TZID:America/New_York
BEGIN:DAYLIGHT
TZOFFSETFROM:-0500
TZOFFSETTO:-0400
TZNAME:EDT
DTSTART:20230312T070000
END:DAYLIGHT
BEGIN:STANDARD
TZOFFSETFROM:-0400
TZOFFSETTO:-0500
TZNAME:EST
DTSTART:20231105T060000
END:STANDARD
BEGIN:DAYLIGHT
TZOFFSETFROM:-0500
TZOFFSETTO:-0400
TZNAME:EDT
DTSTART:20240310T070000
END:DAYLIGHT
BEGIN:STANDARD
TZOFFSETFROM:-0400
TZOFFSETTO:-0500
TZNAME:EST
DTSTART:20241103T060000
END:STANDARD
BEGIN:DAYLIGHT
TZOFFSETFROM:-0500
TZOFFSETTO:-0400
TZNAME:EDT
DTSTART:20250309T070000
END:DAYLIGHT
BEGIN:STANDARD
TZOFFSETFROM:-0400
TZOFFSETTO:-0500
TZNAME:EST
DTSTART:20251102T060000
END:STANDARD
END:VTIMEZONE
BEGIN:VEVENT
DTSTART;TZID=America/New_York:20240102T170000
DTEND;TZID=America/New_York:20240102T200000
DTSTAMP:20260421T075958
CREATED:20231211T163154Z
LAST-MODIFIED:20231211T163154Z
UID:10000313-1704214800-1704225600@phillydragmafia.com
SUMMARY:Queen Cabaret at Resorts Casino
DESCRIPTION:Atlantic City’s diva Brittany Lynn hosts a live singing cabaret with her best vocalists!\nDoors at 5pm\, show starts at 6pm-FREE EVENT!\nMusic buy Dj Da Boo Boo
URL:https://phillydragmafia.com/event/queen-cabaret-at-resorts-casino/
LOCATION:Resorts Casino\, 1133 Boardwalk\, Atlantic City\, NJ\, 08401\, United States
CATEGORIES:Drag Shows
ATTACH;FMTTYPE=image/png:https://phillydragmafia.com/wp-content/uploads/2023/12/brittany-lynns-2.png
END:VEVENT
END:VCALENDAR