BEGIN:VCALENDAR
VERSION:2.0
PRODID:-//Philly Drag Mafia - ECPv6.15.20//NONSGML v1.0//EN
CALSCALE:GREGORIAN
METHOD:PUBLISH
X-WR-CALNAME:Philly Drag Mafia
X-ORIGINAL-URL:https://phillydragmafia.com
X-WR-CALDESC:Events for Philly Drag Mafia
REFRESH-INTERVAL;VALUE=DURATION:PT1H
X-Robots-Tag:noindex
X-PUBLISHED-TTL:PT1H
BEGIN:VTIMEZONE
TZID:America/New_York
BEGIN:DAYLIGHT
TZOFFSETFROM:-0500
TZOFFSETTO:-0400
TZNAME:EDT
DTSTART:20230312T070000
END:DAYLIGHT
BEGIN:STANDARD
TZOFFSETFROM:-0400
TZOFFSETTO:-0500
TZNAME:EST
DTSTART:20231105T060000
END:STANDARD
BEGIN:DAYLIGHT
TZOFFSETFROM:-0500
TZOFFSETTO:-0400
TZNAME:EDT
DTSTART:20240310T070000
END:DAYLIGHT
BEGIN:STANDARD
TZOFFSETFROM:-0400
TZOFFSETTO:-0500
TZNAME:EST
DTSTART:20241103T060000
END:STANDARD
BEGIN:DAYLIGHT
TZOFFSETFROM:-0500
TZOFFSETTO:-0400
TZNAME:EDT
DTSTART:20250309T070000
END:DAYLIGHT
BEGIN:STANDARD
TZOFFSETFROM:-0400
TZOFFSETTO:-0500
TZNAME:EST
DTSTART:20251102T060000
END:STANDARD
END:VTIMEZONE
BEGIN:VEVENT
DTSTART;TZID=America/New_York:20240413T120000
DTEND;TZID=America/New_York:20240413T150000
DTSTAMP:20260421T112306
CREATED:20240312T160221Z
LAST-MODIFIED:20240312T160501Z
UID:10000619-1713009600-1713020400@phillydragmafia.com
SUMMARY:90's Drag Bingo at Ridley House
DESCRIPTION:90’s BINGO Brunch AT RIDLEY HOUSE \nJoin us for a fabulous 90’s Bingo Brunch at The Ridley House! Get ready to laugh\, cheer\, and win amazing prizes while our talented drag performers entertain you as your fave 90’s pop diva performances. Hosted by Brittany Lynn (Best of Philly 2022 and 2023 for BEST DRAG SHOWS AND DRAG BRUNCHES) and featuring her Philly Drag Mafia (Phillydragmafia.com)! \n90’s attire encouraged but not mandatory! \nLocated on MacDade Boulevard in Holmes\, PA\, our bingo and drag show promises a night of unforgettable fun. Don’t miss out on this exciting opportunity to enjoy a unique blend of drag\, laughter\, and bingo. Grab your friends and get ready to have a blast!\n$50 per person includes buffet\, game cards\, and dabber plus two fabulous shows-plus BIGGER PRIZE PACKAGES from local sponsors!
URL:https://phillydragmafia.com/event/90s-drag-bingo-at-ridley-house/
LOCATION:Ridley House\, 2017 McDade Blvd\, Holmes\, PA\, 19043\, United States
CATEGORIES:Drag Bingo,Drag Brunch,Drag Shows
ATTACH;FMTTYPE=image/png:https://phillydragmafia.com/wp-content/uploads/2024/03/90s-drag-bingo-Instagram-Post.png
END:VEVENT
END:VCALENDAR