BEGIN:VCALENDAR
VERSION:2.0
PRODID:-//Philly Drag Mafia - ECPv6.15.20//NONSGML v1.0//EN
CALSCALE:GREGORIAN
METHOD:PUBLISH
X-ORIGINAL-URL:https://phillydragmafia.com
X-WR-CALDESC:Events for Philly Drag Mafia
REFRESH-INTERVAL;VALUE=DURATION:PT1H
X-Robots-Tag:noindex
X-PUBLISHED-TTL:PT1H
BEGIN:VTIMEZONE
TZID:America/New_York
BEGIN:DAYLIGHT
TZOFFSETFROM:-0500
TZOFFSETTO:-0400
TZNAME:EDT
DTSTART:20230312T070000
END:DAYLIGHT
BEGIN:STANDARD
TZOFFSETFROM:-0400
TZOFFSETTO:-0500
TZNAME:EST
DTSTART:20231105T060000
END:STANDARD
BEGIN:DAYLIGHT
TZOFFSETFROM:-0500
TZOFFSETTO:-0400
TZNAME:EDT
DTSTART:20240310T070000
END:DAYLIGHT
BEGIN:STANDARD
TZOFFSETFROM:-0400
TZOFFSETTO:-0500
TZNAME:EST
DTSTART:20241103T060000
END:STANDARD
BEGIN:DAYLIGHT
TZOFFSETFROM:-0500
TZOFFSETTO:-0400
TZNAME:EDT
DTSTART:20250309T070000
END:DAYLIGHT
BEGIN:STANDARD
TZOFFSETFROM:-0400
TZOFFSETTO:-0500
TZNAME:EST
DTSTART:20251102T060000
END:STANDARD
END:VTIMEZONE
BEGIN:VEVENT
DTSTART;TZID=America/New_York:20240420T110000
DTEND;TZID=America/New_York:20240420T140000
DTSTAMP:20260421T105448
CREATED:20240328T142557Z
LAST-MODIFIED:20240404T235008Z
UID:10000622-1713610800-1713621600@phillydragmafia.com
SUMMARY:Drag Brunch Legends Only -At Tabu!
DESCRIPTION:Join us for a fabulous Saturday Brunch! Hosted by Brittany Lynn (Winner Best of Philly 2022 and 2023- Best Drag Shows)\, this brunch is sure to dazzle the fussiest fairy in your crew! Shows and Stunts by the Philly Drag Mafia Legends! Aeryanah\, Miss Ty\, Lisa Lisa from Bob & Barbaras\, Karen Vonsay\, Aurora aka Antonio\, Billy Carvallo\, Chris Murphy! With beats from DJ Da Boo Boo! \nMark your calendars Every 3rd Saturday at 12:00PM! \nGrab your friends\, bring your positive vibes\, and let’s make this Drag Brunch a day to remember! \nTickets include one welcome mimosa! \n* FOOD AND ADDITIONAL DRINK IS NOT INCLUDED IN TICKET PRICE * \nDoors: 11AM/Show: 12PM \nTickets:\n$30 General Admission\nTicket includes only a seat & 1 mimosa + show. Food & other Drink NOT included. \n**Coffee is unavailable on location\, but outside coffee is allowed. All other outside food or drink NOT allowed.** \n**Consent Disclaimer: Do not touch performers without explicit consent to do so. This includes forcibly placing tips\, smacking or inappropriate touching as they walk by etc. Your entire party will be asked to leave\, and no refunds will be issued.** \n**If you are purchasing a ticket that is meant to be apart of a group/party please have the main contact of the group/party reach out to us to ensure you can sit together if applicable. If purchasing more than one ticket its assumed that you and your party will be sitting together.**
URL:https://phillydragmafia.com/event/drag-brunch-legends-only-at-tabu/
LOCATION:254\, 254 S. 12th St.\, Phila\, PA\, 19107\, United States
CATEGORIES:Drag Brunch,Drag Shows
ATTACH;FMTTYPE=image/jpeg:https://phillydragmafia.com/wp-content/uploads/2024/03/BL-Birthday-Brunch-Flyer-April-scaled.jpg
END:VEVENT
END:VCALENDAR