BEGIN:VCALENDAR
VERSION:2.0
PRODID:-//Philly Drag Mafia - ECPv6.15.20//NONSGML v1.0//EN
CALSCALE:GREGORIAN
METHOD:PUBLISH
X-ORIGINAL-URL:https://phillydragmafia.com
X-WR-CALDESC:Events for Philly Drag Mafia
REFRESH-INTERVAL;VALUE=DURATION:PT1H
X-Robots-Tag:noindex
X-PUBLISHED-TTL:PT1H
BEGIN:VTIMEZONE
TZID:America/New_York
BEGIN:DAYLIGHT
TZOFFSETFROM:-0500
TZOFFSETTO:-0400
TZNAME:EDT
DTSTART:20230312T070000
END:DAYLIGHT
BEGIN:STANDARD
TZOFFSETFROM:-0400
TZOFFSETTO:-0500
TZNAME:EST
DTSTART:20231105T060000
END:STANDARD
BEGIN:DAYLIGHT
TZOFFSETFROM:-0500
TZOFFSETTO:-0400
TZNAME:EDT
DTSTART:20240310T070000
END:DAYLIGHT
BEGIN:STANDARD
TZOFFSETFROM:-0400
TZOFFSETTO:-0500
TZNAME:EST
DTSTART:20241103T060000
END:STANDARD
BEGIN:DAYLIGHT
TZOFFSETFROM:-0500
TZOFFSETTO:-0400
TZNAME:EDT
DTSTART:20250309T070000
END:DAYLIGHT
BEGIN:STANDARD
TZOFFSETFROM:-0400
TZOFFSETTO:-0500
TZNAME:EST
DTSTART:20251102T060000
END:STANDARD
END:VTIMEZONE
BEGIN:VEVENT
DTSTART;TZID=America/New_York:20240421T113000
DTEND;TZID=America/New_York:20240421T143000
DTSTAMP:20260421T112358
CREATED:20240307T160412Z
LAST-MODIFIED:20240307T160412Z
UID:10000614-1713699000-1713709800@phillydragmafia.com
SUMMARY:Broadway & Bingo Drag Brunch at Twenty One Pips
DESCRIPTION:It’s Bingo! It’s Broadway! And it’s a Buffet Brunch! \nIt’s the best of all worlds combined to give you the best Sunday Funday ever!\nJoin us for a live singing drag brunch hosted by Brittany Lynn and the Philly Drag Mafia-winner “Best of Philly” 2022 and 2023 for Best Drag Shows and Drag Brunches! \nIn between their jaw dropping Broadway themed performances\, we will be playing four rounds of bingo\, and giving away some great games as prizes. \nTicket includes the show\, everything you need to play bingo (cards and dabbers)\, and a fabulous brunch buffet! \nDrag Mafia is the most award winning drag troupe around. Not only for their shows\, but for their work with multiple charities on various platforms. Don’t miss out on this show-we are sure to please even the fussiest member in your crew! See you there!
URL:https://phillydragmafia.com/event/broadway-bingo-drag-brunch-at-twenty-one-pips/
LOCATION:Twenty One Pips\, 24 Cricket Ave\, Ardmore\, 19003\, United States
CATEGORIES:Drag Bingo,Drag Brunch,Drag Shows
ATTACH;FMTTYPE=image/png:https://phillydragmafia.com/wp-content/uploads/2024/03/broadway-bingo-drag-brunch-copy.png
END:VEVENT
END:VCALENDAR