BEGIN:VCALENDAR
VERSION:2.0
PRODID:-//Philly Drag Mafia - ECPv6.15.20//NONSGML v1.0//EN
CALSCALE:GREGORIAN
METHOD:PUBLISH
X-WR-CALNAME:Philly Drag Mafia
X-ORIGINAL-URL:https://phillydragmafia.com
X-WR-CALDESC:Events for Philly Drag Mafia
REFRESH-INTERVAL;VALUE=DURATION:PT1H
X-Robots-Tag:noindex
X-PUBLISHED-TTL:PT1H
BEGIN:VTIMEZONE
TZID:America/New_York
BEGIN:DAYLIGHT
TZOFFSETFROM:-0500
TZOFFSETTO:-0400
TZNAME:EDT
DTSTART:20230312T070000
END:DAYLIGHT
BEGIN:STANDARD
TZOFFSETFROM:-0400
TZOFFSETTO:-0500
TZNAME:EST
DTSTART:20231105T060000
END:STANDARD
BEGIN:DAYLIGHT
TZOFFSETFROM:-0500
TZOFFSETTO:-0400
TZNAME:EDT
DTSTART:20240310T070000
END:DAYLIGHT
BEGIN:STANDARD
TZOFFSETFROM:-0400
TZOFFSETTO:-0500
TZNAME:EST
DTSTART:20241103T060000
END:STANDARD
BEGIN:DAYLIGHT
TZOFFSETFROM:-0500
TZOFFSETTO:-0400
TZNAME:EDT
DTSTART:20250309T070000
END:DAYLIGHT
BEGIN:STANDARD
TZOFFSETFROM:-0400
TZOFFSETTO:-0500
TZNAME:EST
DTSTART:20251102T060000
END:STANDARD
END:VTIMEZONE
BEGIN:VEVENT
DTSTART;TZID=America/New_York:20240505T110000
DTEND;TZID=America/New_York:20240505T140000
DTSTAMP:20260421T110238
CREATED:20240415T191234Z
LAST-MODIFIED:20240415T191234Z
UID:10000628-1714906800-1714917600@phillydragmafia.com
SUMMARY:Drag Brunch at Cauldron Philly
DESCRIPTION:Be prepared to witness jaw-dropping performances by the most talented drag queens in town. Indulge in a delectable array of mouth-watering dishes while sipping on refreshing cocktails. \nWhether you’re a seasoned drag enthusiast or new to the scene\, our Drag Brunch guarantees a memorable experience for everyone. Get ready to dance\, sing along\, and immerse yourself in the vibrant atmosphere. \nMark your calendars for Sunday\, May 5th at 11:00 AM and secure your spot at this unforgettable event. \nGrab your friends\, bring your positive vibes\, and let’s make this Drag Brunch a day to remember! \nGeneral tickets include one welcome cocktail per guest. A mimosa welcome! \n* FOOD AND ADDITIONAL DRINK IS NOT INCLUDED IN TICKET PRICE UNLESS PAYING FOR A PACKAGE* \nDoors open at 11am\, show starts promptly at 12pm. \nPlease be aware that the Broad Street Run will be occuring on this day which may impact travel.
URL:https://phillydragmafia.com/event/drag-brunch-at-cauldron-philly-4/
LOCATION:Cauldron Philly\, 1305 Locust St.\, Phila\, PA\, 19107\, United States
CATEGORIES:Drag Brunch,Drag Shows
ATTACH;FMTTYPE=image/jpeg:https://phillydragmafia.com/wp-content/uploads/2024/04/https___cdn.evbuc_.com_images_732105319_235383791913_1_original.jpg
END:VEVENT
END:VCALENDAR