BEGIN:VCALENDAR
VERSION:2.0
PRODID:-//Philly Drag Mafia - ECPv6.15.20//NONSGML v1.0//EN
CALSCALE:GREGORIAN
METHOD:PUBLISH
X-WR-CALNAME:Philly Drag Mafia
X-ORIGINAL-URL:https://phillydragmafia.com
X-WR-CALDESC:Events for Philly Drag Mafia
REFRESH-INTERVAL;VALUE=DURATION:PT1H
X-Robots-Tag:noindex
X-PUBLISHED-TTL:PT1H
BEGIN:VTIMEZONE
TZID:America/New_York
BEGIN:DAYLIGHT
TZOFFSETFROM:-0500
TZOFFSETTO:-0400
TZNAME:EDT
DTSTART:20230312T070000
END:DAYLIGHT
BEGIN:STANDARD
TZOFFSETFROM:-0400
TZOFFSETTO:-0500
TZNAME:EST
DTSTART:20231105T060000
END:STANDARD
BEGIN:DAYLIGHT
TZOFFSETFROM:-0500
TZOFFSETTO:-0400
TZNAME:EDT
DTSTART:20240310T070000
END:DAYLIGHT
BEGIN:STANDARD
TZOFFSETFROM:-0400
TZOFFSETTO:-0500
TZNAME:EST
DTSTART:20241103T060000
END:STANDARD
BEGIN:DAYLIGHT
TZOFFSETFROM:-0500
TZOFFSETTO:-0400
TZNAME:EDT
DTSTART:20250309T070000
END:DAYLIGHT
BEGIN:STANDARD
TZOFFSETFROM:-0400
TZOFFSETTO:-0500
TZNAME:EST
DTSTART:20251102T060000
END:STANDARD
END:VTIMEZONE
BEGIN:VEVENT
DTSTART;TZID=America/New_York:20240510T200000
DTEND;TZID=America/New_York:20240510T220000
DTSTAMP:20260421T110818
CREATED:20240405T001750Z
LAST-MODIFIED:20240405T001750Z
UID:10000625-1715371200-1715378400@phillydragmafia.com
SUMMARY:DRAG BINGO AT MILKBOY ON SOUTH STREET
DESCRIPTION:Play five rounds with Brittany Lynn and a different special guest every month – at Milkboy on the infamous South Street in Philly! Games start promtply at 8pm! Grab a seat while you can\, we fill up early with people waiting to snatch up our amazing prizes! See you there hun!\nFREE EVENT!
URL:https://phillydragmafia.com/event/drag-bingo-at-milkboy-on-south-street/
LOCATION:Milkboy\, 401 South Street\, Phila\, PA\, 19147\, United States
CATEGORIES:Drag Bingo,Drag Shows
ATTACH;FMTTYPE=image/png:https://phillydragmafia.com/wp-content/uploads/2024/04/Drag-Instagram-Post.png
END:VEVENT
END:VCALENDAR