BEGIN:VCALENDAR
VERSION:2.0
PRODID:-//Philly Drag Mafia - ECPv6.15.20//NONSGML v1.0//EN
CALSCALE:GREGORIAN
METHOD:PUBLISH
X-WR-CALNAME:Philly Drag Mafia
X-ORIGINAL-URL:https://phillydragmafia.com
X-WR-CALDESC:Events for Philly Drag Mafia
REFRESH-INTERVAL;VALUE=DURATION:PT1H
X-Robots-Tag:noindex
X-PUBLISHED-TTL:PT1H
BEGIN:VTIMEZONE
TZID:America/New_York
BEGIN:DAYLIGHT
TZOFFSETFROM:-0500
TZOFFSETTO:-0400
TZNAME:EDT
DTSTART:20230312T070000
END:DAYLIGHT
BEGIN:STANDARD
TZOFFSETFROM:-0400
TZOFFSETTO:-0500
TZNAME:EST
DTSTART:20231105T060000
END:STANDARD
BEGIN:DAYLIGHT
TZOFFSETFROM:-0500
TZOFFSETTO:-0400
TZNAME:EDT
DTSTART:20240310T070000
END:DAYLIGHT
BEGIN:STANDARD
TZOFFSETFROM:-0400
TZOFFSETTO:-0500
TZNAME:EST
DTSTART:20241103T060000
END:STANDARD
BEGIN:DAYLIGHT
TZOFFSETFROM:-0500
TZOFFSETTO:-0400
TZNAME:EDT
DTSTART:20250309T070000
END:DAYLIGHT
BEGIN:STANDARD
TZOFFSETFROM:-0400
TZOFFSETTO:-0500
TZNAME:EST
DTSTART:20251102T060000
END:STANDARD
END:VTIMEZONE
BEGIN:VEVENT
DTSTART;TZID=America/New_York:20240518T110000
DTEND;TZID=America/New_York:20240518T140000
DTSTAMP:20260421T110220
CREATED:20240503T130453Z
LAST-MODIFIED:20240504T141832Z
UID:10000696-1716030000-1716040800@phillydragmafia.com
SUMMARY:Drag Brunch Legends Only! At Tabu Philly
DESCRIPTION:Join us for a fabulous Saturday Brunch! Hosted by Brittany Lynn (Winner Best of Philly 2022 and 2023- Best Drag Shows)\, this brunch is sure to dazzle the fussiest fairy in your crew! Shows and Stunts by Philly Drag Mafia Legends! With beats from DJ DA_BOOBOO! \nMark your calendars Every 3rd Saturday at 12:00PM! \nGrab your friends\, bring your positive vibes\, and let’s make this Drag Brunch a day to remember! \nTickets include one welcome mimosa!
URL:https://phillydragmafia.com/event/drag-brunch-legends-only-at-tabu-philly/
LOCATION:PA
CATEGORIES:Drag Brunch,Drag Shows
ATTACH;FMTTYPE=image/jpeg:https://phillydragmafia.com/wp-content/uploads/2024/05/BL-Birthday-Brunch-Cover-May.jpg
END:VEVENT
END:VCALENDAR