BEGIN:VCALENDAR
VERSION:2.0
PRODID:-//Philly Drag Mafia - ECPv6.15.20//NONSGML v1.0//EN
CALSCALE:GREGORIAN
METHOD:PUBLISH
X-WR-CALNAME:Philly Drag Mafia
X-ORIGINAL-URL:https://phillydragmafia.com
X-WR-CALDESC:Events for Philly Drag Mafia
REFRESH-INTERVAL;VALUE=DURATION:PT1H
X-Robots-Tag:noindex
X-PUBLISHED-TTL:PT1H
BEGIN:VTIMEZONE
TZID:America/New_York
BEGIN:DAYLIGHT
TZOFFSETFROM:-0500
TZOFFSETTO:-0400
TZNAME:EDT
DTSTART:20230312T070000
END:DAYLIGHT
BEGIN:STANDARD
TZOFFSETFROM:-0400
TZOFFSETTO:-0500
TZNAME:EST
DTSTART:20231105T060000
END:STANDARD
BEGIN:DAYLIGHT
TZOFFSETFROM:-0500
TZOFFSETTO:-0400
TZNAME:EDT
DTSTART:20240310T070000
END:DAYLIGHT
BEGIN:STANDARD
TZOFFSETFROM:-0400
TZOFFSETTO:-0500
TZNAME:EST
DTSTART:20241103T060000
END:STANDARD
BEGIN:DAYLIGHT
TZOFFSETFROM:-0500
TZOFFSETTO:-0400
TZNAME:EDT
DTSTART:20250309T070000
END:DAYLIGHT
BEGIN:STANDARD
TZOFFSETFROM:-0400
TZOFFSETTO:-0500
TZNAME:EST
DTSTART:20251102T060000
END:STANDARD
END:VTIMEZONE
BEGIN:VEVENT
DTSTART;TZID=America/New_York:20240523T180000
DTEND;TZID=America/New_York:20240523T210000
DTSTAMP:20260421T110819
CREATED:20240415T202707Z
LAST-MODIFIED:20240510T135947Z
UID:10000631-1716487200-1716498000@phillydragmafia.com
SUMMARY:Guac Off For MANNA
DESCRIPTION:MANNA & Morgan’s Pier are ready to once again kick off summer @ #GuacOffPHL! Sample fresh guacamole crafted by Philadelphia’s best restaurants while taking in iconic river views from Morgan’s Pier. \nWith your attendance & votes\, MANNA will crown 2024’s much anticipated Guac Master! All proceeds benefit MANNA’s mission to prepare and deliver meals to individuals battling critical illnesses. \nWe’ll guac\, rain or shine![Rain location\, Craft Hall] \nAll proceeds benefit MANNA\, whose mission is to prepare and deliver medically tailored meals and nutrition counseling to those battling critical illnesses.
URL:https://phillydragmafia.com/event/guac-off-for-manna/
LOCATION:Morgan’s Pier\, 221 N. Christopher Columbus Blvd\, Phila\, PA\, 19106\, United States
CATEGORIES:Community Event,Drag Shows
ATTACH;FMTTYPE=image/png:https://phillydragmafia.com/wp-content/uploads/2024/04/4.png
END:VEVENT
END:VCALENDAR