BEGIN:VCALENDAR
VERSION:2.0
PRODID:-//Philly Drag Mafia - ECPv6.15.20//NONSGML v1.0//EN
CALSCALE:GREGORIAN
METHOD:PUBLISH
X-WR-CALNAME:Philly Drag Mafia
X-ORIGINAL-URL:https://phillydragmafia.com
X-WR-CALDESC:Events for Philly Drag Mafia
REFRESH-INTERVAL;VALUE=DURATION:PT1H
X-Robots-Tag:noindex
X-PUBLISHED-TTL:PT1H
BEGIN:VTIMEZONE
TZID:America/New_York
BEGIN:DAYLIGHT
TZOFFSETFROM:-0500
TZOFFSETTO:-0400
TZNAME:EDT
DTSTART:20230312T070000
END:DAYLIGHT
BEGIN:STANDARD
TZOFFSETFROM:-0400
TZOFFSETTO:-0500
TZNAME:EST
DTSTART:20231105T060000
END:STANDARD
BEGIN:DAYLIGHT
TZOFFSETFROM:-0500
TZOFFSETTO:-0400
TZNAME:EDT
DTSTART:20240310T070000
END:DAYLIGHT
BEGIN:STANDARD
TZOFFSETFROM:-0400
TZOFFSETTO:-0500
TZNAME:EST
DTSTART:20241103T060000
END:STANDARD
BEGIN:DAYLIGHT
TZOFFSETFROM:-0500
TZOFFSETTO:-0400
TZNAME:EDT
DTSTART:20250309T070000
END:DAYLIGHT
BEGIN:STANDARD
TZOFFSETFROM:-0400
TZOFFSETTO:-0500
TZNAME:EST
DTSTART:20251102T060000
END:STANDARD
END:VTIMEZONE
BEGIN:VEVENT
DTSTART;TZID=America/New_York:20240625T160000
DTEND;TZID=America/New_York:20240625T220000
DTSTAMP:20260421T153447
CREATED:20240620T221714Z
LAST-MODIFIED:20240620T221714Z
UID:10000719-1719331200-1719352800@phillydragmafia.com
SUMMARY:Pride Showcase at the Kimmel Center
DESCRIPTION:The Philadelphia Orchestra and Ensemble Arts celebrate Pride with free plaza events and a special one-night-only Orchestra performance hosted by Sapphira Cristál!  \nJoin The Philadelphia Orchestra and incoming Principal Guest Conductor Designate Marin Alsop for our third annual FREE Pride Concert! Fresh off her appearance on RuPaul’s Drag Race\, Philadelphia drag queen Sapphira Cristál will host this fabulous celebration of unity\, empowerment\, and the Philadelphia region’s LGBTQ+ community.  \nThe concert will feature music by LGBTQ+ composers and allies including works by Bernstein\, Copland\, and more. Joining in on the fun are the ANNA Crusis Feminist Choir\, the Philadelphia Gay Men’s Chorus\, and Philadelphia Voices of Pride. \nEnjoy fun entertainment in the plaza\, including a drag storytime with Brittany Lynn and a performance showcase featuring local drag queens and kings. \nPride Pre-Concert Celebration (no tickets required)\n4:00 PM–7:00 PM  \nJoin us for pre-concert entertainment in Commonwealth Plaza!  \n4:00 PM: Drag storytime with Brittany Lynn \n5:00 PM: Drag performance showcase featuring Brittany Lynn\, LisaLisa\, Cyrus K. Stratton\, Mister Right\, Karen Vonsay\, Iris Spectre\, Morgan Wells\, Victoria Courtez\, Hannibal Lickher \nPhiladelphia Orchestra Pride Concert (sold out)\n7:00 PM  \nMarin Alsop Conductor\nSapphira Cristál Host\nANNA Crusis Feminist Choir\nMiriam Davidson Artistic Director\nPhiladelphia Gay Men’s Chorus\nJoseph J. Buches Artistic Director\nPhiladelphia Voices of Pride\nDaniel Schwartz Artistic Director   \nProgram to include:  \nBernstein Overture to Candide\nCopland Excerpt from Appalachian Spring Suite\nEdwards and Rodgers “We Are Family”\nMaggio “As Long as We Live (Allons! Allons!)\,” from Open Road\nHigdon Fanfare Ritmico\nTchaikovsky Third movement from Symphony No. 6 (“Pathétique”) \nImportant: This is a free\, general admission event. Tickets are required for entry into the Philadelphia Orchestra concert in Marian Anderson Hall. Ticket holders will be seated on a first-come\, first-served basis beginning approximately 45 minutes prior to the start of the performance. Entry to the concert is not guaranteed. Please plan to arrive early\, as you may need to wait in line. A standby line will let additional people into the concert if seats are still available at the earliest convenience.  \nVogue Category and Dancing\n9:00 PM \nIn a Mock ball co-curated by Philadelphia Mother Rylee Prodigy\, witness the Performance category featuring some of the “It Girls” of the new generation and Legends from the Philadelphia Ballroom Scene with commentator ICON Kevin JZ Prodigy\, then dance and mingle with the community to the sounds of Legendary VJtheDJ. \nSponsors\nThe Pride Concert is generously supported in part by Dr. James F. Dougherty and George Condos. Additional support is given by Donald E. Barb\, Esq.\, and the Rev. Bruce H. Davidson; Christos Coutifaris and Deborah Driscoll\, in memory of Woody Driscoll; Allan Schimmel; and Jennifer and Ralph Watts.
URL:https://phillydragmafia.com/event/pride-showcase-at-the-kimmel-center/
LOCATION:PA
CATEGORIES:Community Event,Drag Queen Story Time,Drag Shows
ATTACH;FMTTYPE=image/jpeg:https://phillydragmafia.com/wp-content/uploads/2024/06/unnamed.jpg
END:VEVENT
END:VCALENDAR