BEGIN:VCALENDAR
VERSION:2.0
PRODID:-//Philly Drag Mafia - ECPv6.15.20//NONSGML v1.0//EN
CALSCALE:GREGORIAN
METHOD:PUBLISH
X-WR-CALNAME:Philly Drag Mafia
X-ORIGINAL-URL:https://phillydragmafia.com
X-WR-CALDESC:Events for Philly Drag Mafia
REFRESH-INTERVAL;VALUE=DURATION:PT1H
X-Robots-Tag:noindex
X-PUBLISHED-TTL:PT1H
BEGIN:VTIMEZONE
TZID:America/New_York
BEGIN:DAYLIGHT
TZOFFSETFROM:-0500
TZOFFSETTO:-0400
TZNAME:EDT
DTSTART:20230312T070000
END:DAYLIGHT
BEGIN:STANDARD
TZOFFSETFROM:-0400
TZOFFSETTO:-0500
TZNAME:EST
DTSTART:20231105T060000
END:STANDARD
BEGIN:DAYLIGHT
TZOFFSETFROM:-0500
TZOFFSETTO:-0400
TZNAME:EDT
DTSTART:20240310T070000
END:DAYLIGHT
BEGIN:STANDARD
TZOFFSETFROM:-0400
TZOFFSETTO:-0500
TZNAME:EST
DTSTART:20241103T060000
END:STANDARD
BEGIN:DAYLIGHT
TZOFFSETFROM:-0500
TZOFFSETTO:-0400
TZNAME:EDT
DTSTART:20250309T070000
END:DAYLIGHT
BEGIN:STANDARD
TZOFFSETFROM:-0400
TZOFFSETTO:-0500
TZNAME:EST
DTSTART:20251102T060000
END:STANDARD
END:VTIMEZONE
BEGIN:VEVENT
DTSTART;TZID=America/New_York:20240629T110000
DTEND;TZID=America/New_York:20240629T140000
DTSTAMP:20260421T075406
CREATED:20240507T235913Z
LAST-MODIFIED:20240507T235913Z
UID:10000710-1719658800-1719669600@phillydragmafia.com
SUMMARY:Crazy 80's Drag Brunch at the Marriott City Line Ave.
DESCRIPTION:Welcome to the Crazy for the 80’s Drag Brunch! Get ready to travel back in time to the iconic era of big hair\, neon colors\, and unforgettable music. Join us at the Courtyard by Marriott Philadelphia City Avenue for a morning filled with fabulous drag performances and delicious food. Put on your best 80’s attire and dance the day away with our talented queens. Don’t miss out on this one hun-we are sure to please even the fussiest Queen in your crew! \nHosted by Brittany Lynn and featuring the Philly Drag Mafia! (Phillydragmafia.com) \nWinner Philadelphia Magazine’s Best of Philly 2022 AND 2023 -BEST DRAG SHOWS AND DRAG BRUNCHES! \n*Ticket purchase includes your seats\, a buffet brunch\, and two fabulous shows. Bottomless mimosas\, VIP packages\, and Meet & Greet all available for purchase. Don’t miss out on what IS THE HOTTEST TICKET IN TOWN- Get your tickets now queen! Bring your brunch besties and GET READY TO SLAY-and dance the day away to your fave 80’s bops! \nDRESSING IN 80’S ATTIRE IS TOTALLY ENCOURAGED…but not required. \nWe have tables for two and tables for four available. We can arrange the tables to accommodate your group once they are purchased (if purchased separately). Convenient self parking in attached lot is complimentary. \nBrittany and her Drag Mafia have been performing for over two decades — with shows at casinos\, restaurants\, and concert venues all over the tri-state area! \nDrag Mafia is the most award winning drag troupe around-not only for their shows\, but for their work with multiple charities on various platforms.
URL:https://phillydragmafia.com/event/crazy-80s-drag-brunch-at-the-marriott-city-line-ave/
LOCATION:Mariott City Line Ave.\, 4100 Presidential Blvd.\, Phila\, PA\, 19131\, United States
CATEGORIES:Drag Brunch,Drag Shows
ATTACH;FMTTYPE=image/jpeg:https://phillydragmafia.com/wp-content/uploads/2024/04/crazy-for-the-80s-final.jpg
END:VEVENT
END:VCALENDAR