BEGIN:VCALENDAR
VERSION:2.0
PRODID:-//Philly Drag Mafia - ECPv6.15.20//NONSGML v1.0//EN
CALSCALE:GREGORIAN
METHOD:PUBLISH
X-ORIGINAL-URL:https://phillydragmafia.com
X-WR-CALDESC:Events for Philly Drag Mafia
REFRESH-INTERVAL;VALUE=DURATION:PT1H
X-Robots-Tag:noindex
X-PUBLISHED-TTL:PT1H
BEGIN:VTIMEZONE
TZID:America/New_York
BEGIN:DAYLIGHT
TZOFFSETFROM:-0500
TZOFFSETTO:-0400
TZNAME:EDT
DTSTART:20230312T070000
END:DAYLIGHT
BEGIN:STANDARD
TZOFFSETFROM:-0400
TZOFFSETTO:-0500
TZNAME:EST
DTSTART:20231105T060000
END:STANDARD
BEGIN:DAYLIGHT
TZOFFSETFROM:-0500
TZOFFSETTO:-0400
TZNAME:EDT
DTSTART:20240310T070000
END:DAYLIGHT
BEGIN:STANDARD
TZOFFSETFROM:-0400
TZOFFSETTO:-0500
TZNAME:EST
DTSTART:20241103T060000
END:STANDARD
BEGIN:DAYLIGHT
TZOFFSETFROM:-0500
TZOFFSETTO:-0400
TZNAME:EDT
DTSTART:20250309T070000
END:DAYLIGHT
BEGIN:STANDARD
TZOFFSETFROM:-0400
TZOFFSETTO:-0500
TZNAME:EST
DTSTART:20251102T060000
END:STANDARD
END:VTIMEZONE
BEGIN:VEVENT
DTSTART;TZID=America/New_York:20240714T110000
DTEND;TZID=America/New_York:20240714T140000
DTSTAMP:20260421T064211
CREATED:20240620T222311Z
LAST-MODIFIED:20240620T222311Z
UID:10000720-1720954800-1720965600@phillydragmafia.com
SUMMARY:Divas Live at Keenan's
DESCRIPTION:Come get your Sunday started with Britany Lynn & the Philly Drag Mafia as they host a Sunday Funday brunch in the Neighborhood Grille located in Keenan’s-live singing\, standup comedy\, and more! \nDoors open at 11am\, show starts at 12pm! Music by Dj Da BooBoo
URL:https://phillydragmafia.com/event/divas-live-at-keenans/
LOCATION:Keenan’s\, 113 Olde New Jersey Ave\, North Wildwood\, NJ\, 08260\, United States
CATEGORIES:Drag Brunch,Drag Shows
ATTACH;FMTTYPE=image/png:https://phillydragmafia.com/wp-content/uploads/2024/05/DIVAS-1.png
END:VEVENT
END:VCALENDAR