BEGIN:VCALENDAR
VERSION:2.0
PRODID:-//Philly Drag Mafia - ECPv6.15.20//NONSGML v1.0//EN
CALSCALE:GREGORIAN
METHOD:PUBLISH
X-ORIGINAL-URL:https://phillydragmafia.com
X-WR-CALDESC:Events for Philly Drag Mafia
REFRESH-INTERVAL;VALUE=DURATION:PT1H
X-Robots-Tag:noindex
X-PUBLISHED-TTL:PT1H
BEGIN:VTIMEZONE
TZID:America/New_York
BEGIN:DAYLIGHT
TZOFFSETFROM:-0500
TZOFFSETTO:-0400
TZNAME:EDT
DTSTART:20230312T070000
END:DAYLIGHT
BEGIN:STANDARD
TZOFFSETFROM:-0400
TZOFFSETTO:-0500
TZNAME:EST
DTSTART:20231105T060000
END:STANDARD
BEGIN:DAYLIGHT
TZOFFSETFROM:-0500
TZOFFSETTO:-0400
TZNAME:EDT
DTSTART:20240310T070000
END:DAYLIGHT
BEGIN:STANDARD
TZOFFSETFROM:-0400
TZOFFSETTO:-0500
TZNAME:EST
DTSTART:20241103T060000
END:STANDARD
BEGIN:DAYLIGHT
TZOFFSETFROM:-0500
TZOFFSETTO:-0400
TZNAME:EDT
DTSTART:20250309T070000
END:DAYLIGHT
BEGIN:STANDARD
TZOFFSETFROM:-0400
TZOFFSETTO:-0500
TZNAME:EST
DTSTART:20251102T060000
END:STANDARD
END:VTIMEZONE
BEGIN:VEVENT
DTSTART;TZID=America/New_York:20240721T110000
DTEND;TZID=America/New_York:20240721T140000
DTSTAMP:20260419T111436
CREATED:20240515T205534Z
LAST-MODIFIED:20240515T210325Z
UID:10000713-1721559600-1721570400@phillydragmafia.com
SUMMARY:Drag Brunch at Nucky's in Ventnor!
DESCRIPTION:Drag brunch returns to Ventnor\, NJ – at Nucky’s Kitchen and Speakeasy! Now featuring your fave drag queens-with female burlesque and go-go dancing! And EVERYONE is welcome to come OUT and play with us! \nWinner Philadelphia Magazine’s Best of Philly 2022- Best Drag Shows! \nFabulous food and cocktails from the Nucky’s kitchen! \nS﻿hows hosted by the Queen\, Brittany Lynn-featuring female burlesque superstars Honeytree Evileye and Caresse DeVille-and members of the Philly Drag Mafia! \nD﻿ancing and Go Go after the show with music by Dj Da_BooBoo! \n(*Food\, drinks\, and grat not included in this ticket purchase.) \nSo come on OUT and play with the girls for Jersey’s best Sunday Funday!
URL:https://phillydragmafia.com/event/drag-brunch-at-nuckys-in-ventnor/
LOCATION:Nucky’s Kitchen and Speakeasy\, 5211 Ventnor Avenue\, Ventnor\, NJ\, 08406\, United States
CATEGORIES:Community Event,Drag Brunch,Drag Shows
ATTACH;FMTTYPE=image/png:https://phillydragmafia.com/wp-content/uploads/2024/05/drag-brunch-Poster-US.png
END:VEVENT
END:VCALENDAR