BEGIN:VCALENDAR
VERSION:2.0
PRODID:-//Philly Drag Mafia - ECPv6.15.20//NONSGML v1.0//EN
CALSCALE:GREGORIAN
METHOD:PUBLISH
X-ORIGINAL-URL:https://phillydragmafia.com
X-WR-CALDESC:Events for Philly Drag Mafia
REFRESH-INTERVAL;VALUE=DURATION:PT1H
X-Robots-Tag:noindex
X-PUBLISHED-TTL:PT1H
BEGIN:VTIMEZONE
TZID:America/New_York
BEGIN:DAYLIGHT
TZOFFSETFROM:-0500
TZOFFSETTO:-0400
TZNAME:EDT
DTSTART:20230312T070000
END:DAYLIGHT
BEGIN:STANDARD
TZOFFSETFROM:-0400
TZOFFSETTO:-0500
TZNAME:EST
DTSTART:20231105T060000
END:STANDARD
BEGIN:DAYLIGHT
TZOFFSETFROM:-0500
TZOFFSETTO:-0400
TZNAME:EDT
DTSTART:20240310T070000
END:DAYLIGHT
BEGIN:STANDARD
TZOFFSETFROM:-0400
TZOFFSETTO:-0500
TZNAME:EST
DTSTART:20241103T060000
END:STANDARD
BEGIN:DAYLIGHT
TZOFFSETFROM:-0500
TZOFFSETTO:-0400
TZNAME:EDT
DTSTART:20250309T070000
END:DAYLIGHT
BEGIN:STANDARD
TZOFFSETFROM:-0400
TZOFFSETTO:-0500
TZNAME:EST
DTSTART:20251102T060000
END:STANDARD
END:VTIMEZONE
BEGIN:VEVENT
DTSTART;TZID=America/New_York:20240927T190000
DTEND;TZID=America/New_York:20240927T220000
DTSTAMP:20260421T092146
CREATED:20240828T164657Z
LAST-MODIFIED:20240828T164657Z
UID:10000750-1727463600-1727474400@phillydragmafia.com
SUMMARY:Rocky Horror LIVE! At PHS Pop Up Garden Manayunk
DESCRIPTION:One fateful night\, Brad Majors and his fiancée\, Janet Weiss — a wholesome\, well-behaved\, utterly normal young couple in love — innocently set out to visit an old professor. Unfortunately for them\, this night out is destined to be one they will never forget. A thunderstorm and a flat-tire force them to seek help at the castle of Dr. Frank ’N’ Furter\, an alien\, transvestite scientist with a manic genius and insatiable libido. Brad\, Janet\, and Frank’ N’ Furter’s cohorts are swept up into the scientist’s latest experiment. The night’s misadventures will cause Brad and Janet to question everything they’ve known about themselves\, each other\, love\, and lust.  \nA loving homage to the classic B sci-fi film and horror genres with an irresistible rock’n’roll score\, The Rocky Horror Show is a hilarious\, wild ride that no audience will soon forget. \nVIP Priority Seating $35 (includes drink ticket and prop bag) \nGeneral Admission Seating $25
URL:https://phillydragmafia.com/event/rocky-horror-live-at-phs-pop-up-garden-manayunk/
LOCATION:PHS Pop Up Garden\, 106 Jamestown\, Philadelphia\, PA\, 19127\, United States
CATEGORIES:Community Event,Drag Shows
ATTACH;FMTTYPE=image/jpeg:https://phillydragmafia.com/wp-content/uploads/2024/08/2024-Retro-Rocky-Horror-Poster-scaled.jpg
END:VEVENT
END:VCALENDAR