BEGIN:VCALENDAR
VERSION:2.0
PRODID:-//Philly Drag Mafia - ECPv6.15.20//NONSGML v1.0//EN
CALSCALE:GREGORIAN
METHOD:PUBLISH
X-WR-CALNAME:Philly Drag Mafia
X-ORIGINAL-URL:https://phillydragmafia.com
X-WR-CALDESC:Events for Philly Drag Mafia
REFRESH-INTERVAL;VALUE=DURATION:PT1H
X-Robots-Tag:noindex
X-PUBLISHED-TTL:PT1H
BEGIN:VTIMEZONE
TZID:America/New_York
BEGIN:DAYLIGHT
TZOFFSETFROM:-0500
TZOFFSETTO:-0400
TZNAME:EDT
DTSTART:20230312T070000
END:DAYLIGHT
BEGIN:STANDARD
TZOFFSETFROM:-0400
TZOFFSETTO:-0500
TZNAME:EST
DTSTART:20231105T060000
END:STANDARD
BEGIN:DAYLIGHT
TZOFFSETFROM:-0500
TZOFFSETTO:-0400
TZNAME:EDT
DTSTART:20240310T070000
END:DAYLIGHT
BEGIN:STANDARD
TZOFFSETFROM:-0400
TZOFFSETTO:-0500
TZNAME:EST
DTSTART:20241103T060000
END:STANDARD
BEGIN:DAYLIGHT
TZOFFSETFROM:-0500
TZOFFSETTO:-0400
TZNAME:EDT
DTSTART:20250309T070000
END:DAYLIGHT
BEGIN:STANDARD
TZOFFSETFROM:-0400
TZOFFSETTO:-0500
TZNAME:EST
DTSTART:20251102T060000
END:STANDARD
END:VTIMEZONE
BEGIN:VEVENT
DTSTART;TZID=America/New_York:20241005T110000
DTEND;TZID=America/New_York:20241005T120000
DTSTAMP:20260421T092011
CREATED:20241001T103200Z
LAST-MODIFIED:20241001T103236Z
UID:10000766-1728126000-1728129600@phillydragmafia.com
SUMMARY:Drag Queen Story Hour at Launchpad Fitness
DESCRIPTION:Hear interactive stories about love\, diversity\, and acceptance- from the creator of the Philadelphia Story Time Program!\nFREE EVENT
URL:https://phillydragmafia.com/event/drag-queen-story-hour-at-launchpad-fitness/
LOCATION:PA
CATEGORIES:Community Event,Drag Queen Story Time
ATTACH;FMTTYPE=image/png:https://phillydragmafia.com/wp-content/uploads/2024/10/STORY-TIME.png
END:VEVENT
BEGIN:VEVENT
DTSTART;TZID=America/New_York:20241005T140000
DTEND;TZID=America/New_York:20241005T150000
DTSTAMP:20260421T092011
CREATED:20241001T103651Z
LAST-MODIFIED:20241001T103651Z
UID:10000767-1728136800-1728140400@phillydragmafia.com
SUMMARY:Out & About Drag Show on Gay Street
DESCRIPTION:Go OUT & ABOUT to Gay Street in Manayunk for an amazing variety show hosted by Brittany Lynn and featuring the Philly Drag Mafia-with DJ Da Boo Boo!  \nShow starts promptly at 2pm-FREE EVENT! \nShow is right on Gay Street off of Main Street – under the Umbrella Installation!
URL:https://phillydragmafia.com/event/out-about-drag-show-on-gay-street/
LOCATION:Gay Street\, Gay Street\, Phila\, PA\, 19127\, United States
CATEGORIES:Community Event,Drag Shows
ATTACH;FMTTYPE=image/jpeg:https://phillydragmafia.com/wp-content/uploads/2024/10/download-1.jpg
END:VEVENT
BEGIN:VEVENT
DTSTART;TZID=America/New_York:20241005T180000
DTEND;TZID=America/New_York:20241005T210000
DTSTAMP:20260421T092011
CREATED:20240901T143159Z
LAST-MODIFIED:20240901T143322Z
UID:10000755-1728151200-1728162000@phillydragmafia.com
SUMMARY:Divas In Red Hill
DESCRIPTION:Philly Drag Mafia’s Celebrity Impersonation Show comes to Red Hill! \nHosted by Brittany Lynn (Winner Best of Philly 2022 & 2023 for Best Drag Shows and Drag Brunches)\, music by Dj Da Boo Boo and featuring the dolls of the Philly Drag Mafia! \nSeating is limited! Contact Jenn (see on above flyer\, or scan to use Venmo to purchase tickets!
URL:https://phillydragmafia.com/event/divas-in-red-hill/
LOCATION:Red Hill Fire Department\, 82 E. 5th St.\, Red Hill\, PA\, United States
CATEGORIES:Community Event,Drag Shows
ATTACH;FMTTYPE=image/png:https://phillydragmafia.com/wp-content/uploads/2024/09/DRAG-1.png
END:VEVENT
END:VCALENDAR