BEGIN:VCALENDAR
VERSION:2.0
PRODID:-//Philly Drag Mafia - ECPv6.15.20//NONSGML v1.0//EN
CALSCALE:GREGORIAN
METHOD:PUBLISH
X-WR-CALNAME:Philly Drag Mafia
X-ORIGINAL-URL:https://phillydragmafia.com
X-WR-CALDESC:Events for Philly Drag Mafia
REFRESH-INTERVAL;VALUE=DURATION:PT1H
X-Robots-Tag:noindex
X-PUBLISHED-TTL:PT1H
BEGIN:VTIMEZONE
TZID:America/New_York
BEGIN:DAYLIGHT
TZOFFSETFROM:-0500
TZOFFSETTO:-0400
TZNAME:EDT
DTSTART:20230312T070000
END:DAYLIGHT
BEGIN:STANDARD
TZOFFSETFROM:-0400
TZOFFSETTO:-0500
TZNAME:EST
DTSTART:20231105T060000
END:STANDARD
BEGIN:DAYLIGHT
TZOFFSETFROM:-0500
TZOFFSETTO:-0400
TZNAME:EDT
DTSTART:20240310T070000
END:DAYLIGHT
BEGIN:STANDARD
TZOFFSETFROM:-0400
TZOFFSETTO:-0500
TZNAME:EST
DTSTART:20241103T060000
END:STANDARD
BEGIN:DAYLIGHT
TZOFFSETFROM:-0500
TZOFFSETTO:-0400
TZNAME:EDT
DTSTART:20250309T070000
END:DAYLIGHT
BEGIN:STANDARD
TZOFFSETFROM:-0400
TZOFFSETTO:-0500
TZNAME:EST
DTSTART:20251102T060000
END:STANDARD
END:VTIMEZONE
BEGIN:VEVENT
DTSTART;TZID=America/New_York:20241007T180000
DTEND;TZID=America/New_York:20241007T203000
DTSTAMP:20260421T110228
CREATED:20241001T155910Z
LAST-MODIFIED:20241001T155917Z
UID:10000769-1728324000-1728333000@phillydragmafia.com
SUMMARY:Drag For Harris at Craft Hall
DESCRIPTION:Get ready to slay! 👑✨\nThe PA Dems\, Out For Harris\, and J D Evans Solutions Present ‘Drag 4 Harris’ Drag Show!\nElection Day is coming up\, and we’re rallying behind Team Harris-Walz!\nCome see Philly’s Queen Brittany Lynn” and the Drag Mafia werk it on stage with incredible performances\, fierce looks\, and unforgettable energy. It’s going to be a night to remember! 🌈\nSpecial Guests include Philadelphia City Councilperson Rue Landau\, and more!
URL:https://phillydragmafia.com/event/dra-for-harris-at-craft-hall/
LOCATION:PA
CATEGORIES:Community Event,Drag Shows
ATTACH;FMTTYPE=image/png:https://phillydragmafia.com/wp-content/uploads/2024/10/Drag-For-Harris-Party-1.png
END:VEVENT
END:VCALENDAR