BEGIN:VCALENDAR
VERSION:2.0
PRODID:-//Philly Drag Mafia - ECPv6.15.20//NONSGML v1.0//EN
CALSCALE:GREGORIAN
METHOD:PUBLISH
X-ORIGINAL-URL:https://phillydragmafia.com
X-WR-CALDESC:Events for Philly Drag Mafia
REFRESH-INTERVAL;VALUE=DURATION:PT1H
X-Robots-Tag:noindex
X-PUBLISHED-TTL:PT1H
BEGIN:VTIMEZONE
TZID:America/New_York
BEGIN:DAYLIGHT
TZOFFSETFROM:-0500
TZOFFSETTO:-0400
TZNAME:EDT
DTSTART:20230312T070000
END:DAYLIGHT
BEGIN:STANDARD
TZOFFSETFROM:-0400
TZOFFSETTO:-0500
TZNAME:EST
DTSTART:20231105T060000
END:STANDARD
BEGIN:DAYLIGHT
TZOFFSETFROM:-0500
TZOFFSETTO:-0400
TZNAME:EDT
DTSTART:20240310T070000
END:DAYLIGHT
BEGIN:STANDARD
TZOFFSETFROM:-0400
TZOFFSETTO:-0500
TZNAME:EST
DTSTART:20241103T060000
END:STANDARD
BEGIN:DAYLIGHT
TZOFFSETFROM:-0500
TZOFFSETTO:-0400
TZNAME:EDT
DTSTART:20250309T070000
END:DAYLIGHT
BEGIN:STANDARD
TZOFFSETFROM:-0400
TZOFFSETTO:-0500
TZNAME:EST
DTSTART:20251102T060000
END:STANDARD
END:VTIMEZONE
BEGIN:VEVENT
DTSTART;TZID=America/New_York:20241017T190000
DTEND;TZID=America/New_York:20241017T220000
DTSTAMP:20260421T110319
CREATED:20240901T140841Z
LAST-MODIFIED:20240901T142157Z
UID:10000754-1729191600-1729202400@phillydragmafia.com
SUMMARY:Rocky Horror LIVE! At Cauldron Philly
DESCRIPTION:Rocky Horror Live Show \nGive yourself over to absolute pleasure with the Rocky Horror Picture Show on the Cauldron Philly screen with special guests The Transducer Players and Brittany Lynn as Frank-N-Furter! \nThe Transducer Players were the tri-state area’s most renown shadow cast with over 25 years of Rocky history- and are featured in both “Creatures of the Night” Rocky Horror fan books sold all over the world. \nThe Transducer Players will guide you through the movie with audience participation and with some featured pop up performance throughout the show! \nSo don’t dream it-be it! \nSeating begins at 7pm\, Rocky begins at 8pm! \nLet there be lips!!! \nVIP Tickets include a round of Bubbling Shots\, as well as Prime Seating within our venue. These tickets are good for up to 6 guests per ticket.
URL:https://phillydragmafia.com/event/rocky-horror-live-at-cauldron-philly-3/
LOCATION:Cauldron Philly\, 1305 Locust St.\, Phila\, PA\, 19107\, United States
CATEGORIES:Community Event,Drag Shows
ATTACH;FMTTYPE=image/jpeg:https://phillydragmafia.com/wp-content/uploads/2024/09/https___cdn.evbuc_.com_images_823598849_235383791913_1_original.jpg
END:VEVENT
END:VCALENDAR