BEGIN:VCALENDAR
VERSION:2.0
PRODID:-//Philly Drag Mafia - ECPv6.15.20//NONSGML v1.0//EN
CALSCALE:GREGORIAN
METHOD:PUBLISH
X-ORIGINAL-URL:https://phillydragmafia.com
X-WR-CALDESC:Events for Philly Drag Mafia
REFRESH-INTERVAL;VALUE=DURATION:PT1H
X-Robots-Tag:noindex
X-PUBLISHED-TTL:PT1H
BEGIN:VTIMEZONE
TZID:America/New_York
BEGIN:DAYLIGHT
TZOFFSETFROM:-0500
TZOFFSETTO:-0400
TZNAME:EDT
DTSTART:20230312T070000
END:DAYLIGHT
BEGIN:STANDARD
TZOFFSETFROM:-0400
TZOFFSETTO:-0500
TZNAME:EST
DTSTART:20231105T060000
END:STANDARD
BEGIN:DAYLIGHT
TZOFFSETFROM:-0500
TZOFFSETTO:-0400
TZNAME:EDT
DTSTART:20240310T070000
END:DAYLIGHT
BEGIN:STANDARD
TZOFFSETFROM:-0400
TZOFFSETTO:-0500
TZNAME:EST
DTSTART:20241103T060000
END:STANDARD
BEGIN:DAYLIGHT
TZOFFSETFROM:-0500
TZOFFSETTO:-0400
TZNAME:EDT
DTSTART:20250309T070000
END:DAYLIGHT
BEGIN:STANDARD
TZOFFSETFROM:-0400
TZOFFSETTO:-0500
TZNAME:EST
DTSTART:20251102T060000
END:STANDARD
END:VTIMEZONE
BEGIN:VEVENT
DTSTART;TZID=America/New_York:20241020T110000
DTEND;TZID=America/New_York:20241020T140000
DTSTAMP:20260421T110411
CREATED:20240711T180857Z
LAST-MODIFIED:20241007T141637Z
UID:10000732-1729422000-1729432800@phillydragmafia.com
SUMMARY:Nightmare On City Ave-Halloween Drag Brunch at the Marriott City Line Ave.
DESCRIPTION:Come join us for a spooktacular event at Courtyard by Marriott Philadelphia City Avenue! Get ready for a fabulous Boo-zey Brunch with performances by the one and only Brittany Lynn and The Philly Drag Mafia. It’s going to be a hauntingly good time\, so grab your friends and dress to impress for a day of drag\, drinks\, and delicious food. Don’t miss out on this wickedly fun event!
URL:https://phillydragmafia.com/event/nightmare-on-city-ave-halloween-drag-brunch-at-the-marriott-city-line-ave/
LOCATION:PA
CATEGORIES:Community Event,Drag Brunch,Drag Shows
ATTACH;FMTTYPE=image/png:https://phillydragmafia.com/wp-content/uploads/2024/07/unnamed-7.png
END:VEVENT
END:VCALENDAR