BEGIN:VCALENDAR
VERSION:2.0
PRODID:-//Philly Drag Mafia - ECPv6.15.20//NONSGML v1.0//EN
CALSCALE:GREGORIAN
METHOD:PUBLISH
X-ORIGINAL-URL:https://phillydragmafia.com
X-WR-CALDESC:Events for Philly Drag Mafia
REFRESH-INTERVAL;VALUE=DURATION:PT1H
X-Robots-Tag:noindex
X-PUBLISHED-TTL:PT1H
BEGIN:VTIMEZONE
TZID:America/New_York
BEGIN:DAYLIGHT
TZOFFSETFROM:-0500
TZOFFSETTO:-0400
TZNAME:EDT
DTSTART:20230312T070000
END:DAYLIGHT
BEGIN:STANDARD
TZOFFSETFROM:-0400
TZOFFSETTO:-0500
TZNAME:EST
DTSTART:20231105T060000
END:STANDARD
BEGIN:DAYLIGHT
TZOFFSETFROM:-0500
TZOFFSETTO:-0400
TZNAME:EDT
DTSTART:20240310T070000
END:DAYLIGHT
BEGIN:STANDARD
TZOFFSETFROM:-0400
TZOFFSETTO:-0500
TZNAME:EST
DTSTART:20241103T060000
END:STANDARD
BEGIN:DAYLIGHT
TZOFFSETFROM:-0500
TZOFFSETTO:-0400
TZNAME:EDT
DTSTART:20250309T070000
END:DAYLIGHT
BEGIN:STANDARD
TZOFFSETFROM:-0400
TZOFFSETTO:-0500
TZNAME:EST
DTSTART:20251102T060000
END:STANDARD
END:VTIMEZONE
BEGIN:VEVENT
DTSTART;TZID=America/New_York:20241105T170000
DTEND;TZID=America/New_York:20241105T200000
DTSTAMP:20260421T121821
CREATED:20241016T190359Z
LAST-MODIFIED:20241016T190359Z
UID:10000777-1730826000-1730836800@phillydragmafia.com
SUMMARY:QUEEN CABARET AT RESORTS CASINO
DESCRIPTION:Brittany Lynn hosts her live singing and comedy cabaret the first Tuesday of every month at Resorts Casino in Atlantic City!\nHappy hour mixer at 5pm-show at 6pm!\nFREE EVENT in the first floor lounge bar!
URL:https://phillydragmafia.com/event/queen-cabaret-at-resorts-casino-4/
LOCATION:Resorts Casino\, 1133 Boardwalk\, Atlantic City\, NJ\, 08401\, United States
CATEGORIES:Community Event,Drag Shows
ATTACH;FMTTYPE=image/png:https://phillydragmafia.com/wp-content/uploads/2024/10/QUEEN-CABARET-1-1.png
END:VEVENT
END:VCALENDAR