BEGIN:VCALENDAR
VERSION:2.0
PRODID:-//Philly Drag Mafia - ECPv6.15.20//NONSGML v1.0//EN
CALSCALE:GREGORIAN
METHOD:PUBLISH
X-WR-CALNAME:Philly Drag Mafia
X-ORIGINAL-URL:https://phillydragmafia.com
X-WR-CALDESC:Events for Philly Drag Mafia
REFRESH-INTERVAL;VALUE=DURATION:PT1H
X-Robots-Tag:noindex
X-PUBLISHED-TTL:PT1H
BEGIN:VTIMEZONE
TZID:America/New_York
BEGIN:DAYLIGHT
TZOFFSETFROM:-0500
TZOFFSETTO:-0400
TZNAME:EDT
DTSTART:20230312T070000
END:DAYLIGHT
BEGIN:STANDARD
TZOFFSETFROM:-0400
TZOFFSETTO:-0500
TZNAME:EST
DTSTART:20231105T060000
END:STANDARD
BEGIN:DAYLIGHT
TZOFFSETFROM:-0500
TZOFFSETTO:-0400
TZNAME:EDT
DTSTART:20240310T070000
END:DAYLIGHT
BEGIN:STANDARD
TZOFFSETFROM:-0400
TZOFFSETTO:-0500
TZNAME:EST
DTSTART:20241103T060000
END:STANDARD
BEGIN:DAYLIGHT
TZOFFSETFROM:-0500
TZOFFSETTO:-0400
TZNAME:EDT
DTSTART:20250309T070000
END:DAYLIGHT
BEGIN:STANDARD
TZOFFSETFROM:-0400
TZOFFSETTO:-0500
TZNAME:EST
DTSTART:20251102T060000
END:STANDARD
END:VTIMEZONE
BEGIN:VEVENT
DTSTART;TZID=America/New_York:20241201T110000
DTEND;TZID=America/New_York:20241201T140000
DTSTAMP:20260421T134113
CREATED:20241015T140304Z
LAST-MODIFIED:20241015T140304Z
UID:10000774-1733050800-1733061600@phillydragmafia.com
SUMMARY:Slay ride at Xfinity Live!
DESCRIPTION:Brittany Lynn and her Drag Mafia are ready to put you in the holiday spirit with Slay Ride: Holiday Drag Brunch inside Victory Beer Hall at Xfinity Live!\nNaughty or nice\, you’re invited the biggest holiday drag show in the city! Enjoy a speciality brunch menu\, holiday cocktails and an unforgettable show! Tables must purchase all seats at table.  \nMust be 21 or over for service of alcohol. Age verification will be required at the venue. No refund will be provided
URL:https://phillydragmafia.com/event/slay-ride-at-xfinity-live/
LOCATION:Xfinity Live\, 1100 Pattison Ave\, Philadelphia\, PA\, 19148\, United States
CATEGORIES:Drag Brunch,Drag Shows
ATTACH;FMTTYPE=image/jpeg:https://phillydragmafia.com/wp-content/uploads/2024/10/Slay-Ride-Drag-Brunch_1080x1080-2.jpg
END:VEVENT
END:VCALENDAR