BEGIN:VCALENDAR
VERSION:2.0
PRODID:-//Philly Drag Mafia - ECPv6.15.20//NONSGML v1.0//EN
CALSCALE:GREGORIAN
METHOD:PUBLISH
X-ORIGINAL-URL:https://phillydragmafia.com
X-WR-CALDESC:Events for Philly Drag Mafia
REFRESH-INTERVAL;VALUE=DURATION:PT1H
X-Robots-Tag:noindex
X-PUBLISHED-TTL:PT1H
BEGIN:VTIMEZONE
TZID:America/New_York
BEGIN:DAYLIGHT
TZOFFSETFROM:-0500
TZOFFSETTO:-0400
TZNAME:EDT
DTSTART:20230312T070000
END:DAYLIGHT
BEGIN:STANDARD
TZOFFSETFROM:-0400
TZOFFSETTO:-0500
TZNAME:EST
DTSTART:20231105T060000
END:STANDARD
BEGIN:DAYLIGHT
TZOFFSETFROM:-0500
TZOFFSETTO:-0400
TZNAME:EDT
DTSTART:20240310T070000
END:DAYLIGHT
BEGIN:STANDARD
TZOFFSETFROM:-0400
TZOFFSETTO:-0500
TZNAME:EST
DTSTART:20241103T060000
END:STANDARD
BEGIN:DAYLIGHT
TZOFFSETFROM:-0500
TZOFFSETTO:-0400
TZNAME:EDT
DTSTART:20250309T070000
END:DAYLIGHT
BEGIN:STANDARD
TZOFFSETFROM:-0400
TZOFFSETTO:-0500
TZNAME:EST
DTSTART:20251102T060000
END:STANDARD
END:VTIMEZONE
BEGIN:VEVENT
DTSTART;TZID=America/New_York:20241215T110000
DTEND;TZID=America/New_York:20241215T140000
DTSTAMP:20260421T135139
CREATED:20240711T181825Z
LAST-MODIFIED:20241028T145527Z
UID:10000733-1734260400-1734271200@phillydragmafia.com
SUMMARY:Babes & Bingo Drag Brunch=BRINGO!
DESCRIPTION:Come join us for a fabulous event filled with brunch\, bingo\, and drag performances! Hosted by the one and only Brittany Lynn and The Philly Drag Mafia\, this is a can’t-miss extravaganza. Let’s gather at the Courtyard by Marriott Philadelphia City Avenue for a day of fun\, laughter\, and maybe even some prizes. Get ready to be entertained and have a blast with your friends. See you there!
URL:https://phillydragmafia.com/event/babes-bingo-drag-brunchbringo/
LOCATION:Mariott City Line Ave.\, 4100 Presidential Blvd.\, Phila\, PA\, 19131\, United States
CATEGORIES:Community Event,Drag Bingo,Drag Brunch,Drag Shows
ATTACH;FMTTYPE=image/jpeg:https://phillydragmafia.com/wp-content/uploads/2024/07/Jingle-All-the-Way.jpg
END:VEVENT
END:VCALENDAR