BEGIN:VCALENDAR
VERSION:2.0
PRODID:-//Philly Drag Mafia - ECPv6.15.20//NONSGML v1.0//EN
CALSCALE:GREGORIAN
METHOD:PUBLISH
X-WR-CALNAME:Philly Drag Mafia
X-ORIGINAL-URL:https://phillydragmafia.com
X-WR-CALDESC:Events for Philly Drag Mafia
REFRESH-INTERVAL;VALUE=DURATION:PT1H
X-Robots-Tag:noindex
X-PUBLISHED-TTL:PT1H
BEGIN:VTIMEZONE
TZID:America/New_York
BEGIN:DAYLIGHT
TZOFFSETFROM:-0500
TZOFFSETTO:-0400
TZNAME:EDT
DTSTART:20230312T070000
END:DAYLIGHT
BEGIN:STANDARD
TZOFFSETFROM:-0400
TZOFFSETTO:-0500
TZNAME:EST
DTSTART:20231105T060000
END:STANDARD
BEGIN:DAYLIGHT
TZOFFSETFROM:-0500
TZOFFSETTO:-0400
TZNAME:EDT
DTSTART:20240310T070000
END:DAYLIGHT
BEGIN:STANDARD
TZOFFSETFROM:-0400
TZOFFSETTO:-0500
TZNAME:EST
DTSTART:20241103T060000
END:STANDARD
BEGIN:DAYLIGHT
TZOFFSETFROM:-0500
TZOFFSETTO:-0400
TZNAME:EDT
DTSTART:20250309T070000
END:DAYLIGHT
BEGIN:STANDARD
TZOFFSETFROM:-0400
TZOFFSETTO:-0500
TZNAME:EST
DTSTART:20251102T060000
END:STANDARD
END:VTIMEZONE
BEGIN:VEVENT
DTSTART;TZID=America/New_York:20241221T110000
DTEND;TZID=America/New_York:20241221T140000
DTSTAMP:20260421T134110
CREATED:20241126T211212Z
LAST-MODIFIED:20241126T211212Z
UID:10000787-1734778800-1734789600@phillydragmafia.com
SUMMARY:WICKED SING - ALONG BRUNCH AT BAKE'N BACON
DESCRIPTION:Come and sing ALL THINGS WICKED-along with Brittany Lynn and the dolls of the Philly Drag Mafia!  \nTicket Options are as follow:\nA- (Toto) Entry $25/pp\nGeneral admission includes complimentary welcome shot – choose your side Elphaba(Green) or (Glinda) Pink (Buffet Not Included)\nB – (The Wizard) Entry $45 /pp Includes brunch and general admission entry.\nC – (Bewitched) VIP Admission $55 Brunch Buffet\, Welcome shot and 1 Mimosa\, plus a meet and greet with cast  \nBuffet includes:\nFrench Toast\, Eggs\, Bacon\, Home Fries\, Avocado Toast\, Fresh Fruit\, Brussel Sprouts with Balsamic Glaze. \nA cash bar will be offering:\nMimosas\nGreen & Pink theme drinks\nEspresso martinis  \nNote:\nSeating is first come\, first seated!\nLimited to 70 tickets.\nWristbands to be provided to distinguish guests levels.
URL:https://phillydragmafia.com/event/wicked-sing-along-brunch-at-baken-bacon/
LOCATION:Bake’n Bacon\, 1148 S. 11th St.\, Phila\, 19147\, United States
CATEGORIES:Community Event,Drag Brunch,Drag Shows
ATTACH;FMTTYPE=image/png:https://phillydragmafia.com/wp-content/uploads/2024/11/SINGALONG-Instagram-Post.png
END:VEVENT
END:VCALENDAR