BEGIN:VCALENDAR
VERSION:2.0
PRODID:-//Philly Drag Mafia - ECPv6.15.20//NONSGML v1.0//EN
CALSCALE:GREGORIAN
METHOD:PUBLISH
X-WR-CALNAME:Philly Drag Mafia
X-ORIGINAL-URL:https://phillydragmafia.com
X-WR-CALDESC:Events for Philly Drag Mafia
REFRESH-INTERVAL;VALUE=DURATION:PT1H
X-Robots-Tag:noindex
X-PUBLISHED-TTL:PT1H
BEGIN:VTIMEZONE
TZID:America/New_York
BEGIN:DAYLIGHT
TZOFFSETFROM:-0500
TZOFFSETTO:-0400
TZNAME:EDT
DTSTART:20230312T070000
END:DAYLIGHT
BEGIN:STANDARD
TZOFFSETFROM:-0400
TZOFFSETTO:-0500
TZNAME:EST
DTSTART:20231105T060000
END:STANDARD
BEGIN:DAYLIGHT
TZOFFSETFROM:-0500
TZOFFSETTO:-0400
TZNAME:EDT
DTSTART:20240310T070000
END:DAYLIGHT
BEGIN:STANDARD
TZOFFSETFROM:-0400
TZOFFSETTO:-0500
TZNAME:EST
DTSTART:20241103T060000
END:STANDARD
BEGIN:DAYLIGHT
TZOFFSETFROM:-0500
TZOFFSETTO:-0400
TZNAME:EDT
DTSTART:20250309T070000
END:DAYLIGHT
BEGIN:STANDARD
TZOFFSETFROM:-0400
TZOFFSETTO:-0500
TZNAME:EST
DTSTART:20251102T060000
END:STANDARD
END:VTIMEZONE
BEGIN:VEVENT
DTSTART;TZID=America/New_York:20241228T223000
DTEND;TZID=America/New_York:20241229T000000
DTSTAMP:20260421T134103
CREATED:20241211T113743Z
LAST-MODIFIED:20241211T113743Z
UID:10000789-1735425000-1735430400@phillydragmafia.com
SUMMARY:2025 Party at 254 - Drag Mafia Takeover
DESCRIPTION:NYE is on a friggin Tuesday this year-so let’s celebrate on the weekend hun!\nHosted by Brittany Lynn with Dj Da Boo boo\, and featuring performances by Morgan Wells\, Honeytree Evileye\, and Miss Redd!\nDoors open 10pm\, show starts 10:30pm-then we countdown to the New Year at midnight with a free champagne toast!
URL:https://phillydragmafia.com/event/2025-party-at-254-drag-mafia-takeover/
LOCATION:254\, 254 S. 12th St.\, Phila\, PA\, 19107\, United States
CATEGORIES:Community Event,Dance Party,Drag Shows
ATTACH;FMTTYPE=image/jpeg:https://phillydragmafia.com/wp-content/uploads/2024/12/unnamed-2-scaled.jpg
END:VEVENT
END:VCALENDAR