BEGIN:VCALENDAR
VERSION:2.0
PRODID:-//Philly Drag Mafia - ECPv6.15.20//NONSGML v1.0//EN
CALSCALE:GREGORIAN
METHOD:PUBLISH
X-WR-CALNAME:Philly Drag Mafia
X-ORIGINAL-URL:https://phillydragmafia.com
X-WR-CALDESC:Events for Philly Drag Mafia
REFRESH-INTERVAL;VALUE=DURATION:PT1H
X-Robots-Tag:noindex
X-PUBLISHED-TTL:PT1H
BEGIN:VTIMEZONE
TZID:America/New_York
BEGIN:DAYLIGHT
TZOFFSETFROM:-0500
TZOFFSETTO:-0400
TZNAME:EDT
DTSTART:20240310T070000
END:DAYLIGHT
BEGIN:STANDARD
TZOFFSETFROM:-0400
TZOFFSETTO:-0500
TZNAME:EST
DTSTART:20241103T060000
END:STANDARD
BEGIN:DAYLIGHT
TZOFFSETFROM:-0500
TZOFFSETTO:-0400
TZNAME:EDT
DTSTART:20250309T070000
END:DAYLIGHT
BEGIN:STANDARD
TZOFFSETFROM:-0400
TZOFFSETTO:-0500
TZNAME:EST
DTSTART:20251102T060000
END:STANDARD
BEGIN:DAYLIGHT
TZOFFSETFROM:-0500
TZOFFSETTO:-0400
TZNAME:EDT
DTSTART:20260308T070000
END:DAYLIGHT
BEGIN:STANDARD
TZOFFSETFROM:-0400
TZOFFSETTO:-0500
TZNAME:EST
DTSTART:20261101T060000
END:STANDARD
END:VTIMEZONE
BEGIN:VEVENT
DTSTART;TZID=America/New_York:20250112T103000
DTEND;TZID=America/New_York:20250112T140000
DTSTAMP:20260421T151747
CREATED:20241126T153336Z
LAST-MODIFIED:20241126T153336Z
UID:10000786-1736677800-1736690400@phillydragmafia.com
SUMMARY:Divas of the Decades Drag Brunch at BLDG 39
DESCRIPTION:The Divas of the Decades Drag Brunch will be an unforgettable celebration of talent\, glamour\, and timeless music – a dazzling showcase where fierce queens bring iconic hits from the 70’s\, 80’s\, 90’s\, and beyond to life with jaw dropping performances and unmatched charisma. Hosted by Events With ShaBars at the gorgeous BLDG39 at the Arsenal\, come see Philly’s Queen\, Brittany Lynn – featuring the dolls of the Philly Drag Mafia and music and dancing with DJ Da Boo Boo! \nBetween bites of delicious brunch favorites and sips of classic brunch cocktails\, the room will be buzzing with energy\, laughter\, and love. Whether you are a fan of disco divas\, pop legends\, or powerhouse ballads\, this event promises an elecrifying trip through musical history with a fabulous twist!
URL:https://phillydragmafia.com/event/divas-of-the-decades-drag-brunch-at-bldg-39/
LOCATION:BLDG39\, 5401 Tacony Street\, Phila\, PA\, 19137\, United States
CATEGORIES:Community Event,Drag Brunch
ATTACH;FMTTYPE=image/jpeg:https://phillydragmafia.com/wp-content/uploads/2024/11/unnamed-2-scaled.jpg
END:VEVENT
END:VCALENDAR