BEGIN:VCALENDAR
VERSION:2.0
PRODID:-//Philly Drag Mafia - ECPv6.15.20//NONSGML v1.0//EN
CALSCALE:GREGORIAN
METHOD:PUBLISH
X-ORIGINAL-URL:https://phillydragmafia.com
X-WR-CALDESC:Events for Philly Drag Mafia
REFRESH-INTERVAL;VALUE=DURATION:PT1H
X-Robots-Tag:noindex
X-PUBLISHED-TTL:PT1H
BEGIN:VTIMEZONE
TZID:America/New_York
BEGIN:DAYLIGHT
TZOFFSETFROM:-0500
TZOFFSETTO:-0400
TZNAME:EDT
DTSTART:20240310T070000
END:DAYLIGHT
BEGIN:STANDARD
TZOFFSETFROM:-0400
TZOFFSETTO:-0500
TZNAME:EST
DTSTART:20241103T060000
END:STANDARD
BEGIN:DAYLIGHT
TZOFFSETFROM:-0500
TZOFFSETTO:-0400
TZNAME:EDT
DTSTART:20250309T070000
END:DAYLIGHT
BEGIN:STANDARD
TZOFFSETFROM:-0400
TZOFFSETTO:-0500
TZNAME:EST
DTSTART:20251102T060000
END:STANDARD
BEGIN:DAYLIGHT
TZOFFSETFROM:-0500
TZOFFSETTO:-0400
TZNAME:EDT
DTSTART:20260308T070000
END:DAYLIGHT
BEGIN:STANDARD
TZOFFSETFROM:-0400
TZOFFSETTO:-0500
TZNAME:EST
DTSTART:20261101T060000
END:STANDARD
END:VTIMEZONE
BEGIN:VEVENT
DTSTART;TZID=America/New_York:20250215T130000
DTEND;TZID=America/New_York:20250215T160000
DTSTAMP:20260421T164250
CREATED:20250111T225233Z
LAST-MODIFIED:20250111T225233Z
UID:10000858-1739624400-1739635200@phillydragmafia.com
SUMMARY:Draggin' with the Dragons Bingo!
DESCRIPTION:YASSS QUEENS\, it’s time to PAR-TAY! This year we will be Draggin’ with the Dragons at Drag Queen Bingo featuring Drag Queen Mafia. It’s a great way to have a good time\, learn more about the Schuylkill Dragons\, and help raise much needed funds for the team! \nDon’t delay\, out last bingo event sold out fast so get your tickets today!  \nDate: Sunday\, February 15\, 2025\nTime: Doors Open at 1pm\, Bingo Starts at 2pm\nWhere: Keneseth Israel\, 8339 Old York Rd\, Elkins Park\, PA 19027 \nTickets\nTickets are $50 purchased online (30% of the ticket price is tax deductible) and Every ticket includes a three card pack of five (5) regular bingo games and one (1) coverall jackpot and a dabber! \nNote: Attendees must be 21 and up
URL:https://phillydragmafia.com/event/draggin-with-the-dragons-bingo/
LOCATION:Keneseth Israel\, 8339 Old York Rd.\, Elkins Park\, PA\, 19027\, United States
CATEGORIES:Community Event,Drag Bingo,Drag Shows
ATTACH;FMTTYPE=image/jpeg:https://phillydragmafia.com/wp-content/uploads/2025/01/unnamed-1-1.jpg
END:VEVENT
END:VCALENDAR