BEGIN:VCALENDAR
VERSION:2.0
PRODID:-//Philly Drag Mafia - ECPv6.15.20//NONSGML v1.0//EN
CALSCALE:GREGORIAN
METHOD:PUBLISH
X-ORIGINAL-URL:https://phillydragmafia.com
X-WR-CALDESC:Events for Philly Drag Mafia
REFRESH-INTERVAL;VALUE=DURATION:PT1H
X-Robots-Tag:noindex
X-PUBLISHED-TTL:PT1H
BEGIN:VTIMEZONE
TZID:America/New_York
BEGIN:DAYLIGHT
TZOFFSETFROM:-0500
TZOFFSETTO:-0400
TZNAME:EDT
DTSTART:20240310T070000
END:DAYLIGHT
BEGIN:STANDARD
TZOFFSETFROM:-0400
TZOFFSETTO:-0500
TZNAME:EST
DTSTART:20241103T060000
END:STANDARD
BEGIN:DAYLIGHT
TZOFFSETFROM:-0500
TZOFFSETTO:-0400
TZNAME:EDT
DTSTART:20250309T070000
END:DAYLIGHT
BEGIN:STANDARD
TZOFFSETFROM:-0400
TZOFFSETTO:-0500
TZNAME:EST
DTSTART:20251102T060000
END:STANDARD
BEGIN:DAYLIGHT
TZOFFSETFROM:-0500
TZOFFSETTO:-0400
TZNAME:EDT
DTSTART:20260308T070000
END:DAYLIGHT
BEGIN:STANDARD
TZOFFSETFROM:-0400
TZOFFSETTO:-0500
TZNAME:EST
DTSTART:20261101T060000
END:STANDARD
END:VTIMEZONE
BEGIN:VEVENT
DTSTART;TZID=America/New_York:20250323T130000
DTEND;TZID=America/New_York:20250323T160000
DTSTAMP:20260421T180659
CREATED:20250215T012730Z
LAST-MODIFIED:20250215T012730Z
UID:10000875-1742734800-1742745600@phillydragmafia.com
SUMMARY:Open Fairways Launch Party
DESCRIPTION:Golf 🤝 Queer and Trans People \nJoin us at the 5ir Golf in Fishtown on Sunday\, March 23 to launch Open Fairways! Open Fairways is an LGBTQ+ golf initiative that celebrates queer and trans joy in golf. We create art. We educate. We advocate. We play! And we couldn’t think of a better way to kick off these celebrations than turning your Sunday round into a drag brunch. \nWe will have a performance from a local queen the leader of the Philly Drag Mafia\, THEEEE Brittany Lynn\, the simulators will be set up for a range of fun games (no experience necessary!) with prizes courtesy of Callaway Golf\, goodies from Matchstick Golf\, Barnaby’s\, and The Number Thirty-Three. The fabulous Emily Joynton from Loop 306 Chainstitching will be stitching up a storm! Bring your own piece to get stitched\, get something from Emily\, or snag one of our Open Fairways Tour Towels! Food and drinks will be available! Local queer professional golf instructor Hal Clark will also be around to make sure you’re gripping your shaft right 🙃. \nTickets are 25$ pp\, but sliding scale options are available – just send us a message: maya@openfairwaysgolf.com \nYour ticket price includes unlimited play on the Trackman Golf simulators\, golf clubs\, sandwich bar. \nThank you to our partners: Philadelphia PGA Reach\, Athlete Ally\, The Number Thirty-Three\, Barnaby’s\, Matchstick Golf\, and Callaway Golf for donating tee prizes!
URL:https://phillydragmafia.com/event/open-fairways-launch-party/
LOCATION:Five Iron\, 27 East Allen St.\, Phila\, PA\, 19123\, United States
CATEGORIES:Community Event,Dance Party,Drag Shows
ATTACH;FMTTYPE=image/jpeg:https://phillydragmafia.com/wp-content/uploads/2025/02/unnamed.jpg
END:VEVENT
END:VCALENDAR