BEGIN:VCALENDAR
VERSION:2.0
PRODID:-//Philly Drag Mafia - ECPv6.15.20//NONSGML v1.0//EN
CALSCALE:GREGORIAN
METHOD:PUBLISH
X-ORIGINAL-URL:https://phillydragmafia.com
X-WR-CALDESC:Events for Philly Drag Mafia
REFRESH-INTERVAL;VALUE=DURATION:PT1H
X-Robots-Tag:noindex
X-PUBLISHED-TTL:PT1H
BEGIN:VTIMEZONE
TZID:America/New_York
BEGIN:DAYLIGHT
TZOFFSETFROM:-0500
TZOFFSETTO:-0400
TZNAME:EDT
DTSTART:20240310T070000
END:DAYLIGHT
BEGIN:STANDARD
TZOFFSETFROM:-0400
TZOFFSETTO:-0500
TZNAME:EST
DTSTART:20241103T060000
END:STANDARD
BEGIN:DAYLIGHT
TZOFFSETFROM:-0500
TZOFFSETTO:-0400
TZNAME:EDT
DTSTART:20250309T070000
END:DAYLIGHT
BEGIN:STANDARD
TZOFFSETFROM:-0400
TZOFFSETTO:-0500
TZNAME:EST
DTSTART:20251102T060000
END:STANDARD
BEGIN:DAYLIGHT
TZOFFSETFROM:-0500
TZOFFSETTO:-0400
TZNAME:EDT
DTSTART:20260308T070000
END:DAYLIGHT
BEGIN:STANDARD
TZOFFSETFROM:-0400
TZOFFSETTO:-0500
TZNAME:EST
DTSTART:20261101T060000
END:STANDARD
END:VTIMEZONE
BEGIN:VEVENT
DTSTART;TZID=America/New_York:20250529T180000
DTEND;TZID=America/New_York:20250529T210000
DTSTAMP:20260421T211317
CREATED:20250506T182944Z
LAST-MODIFIED:20250506T182944Z
UID:10000894-1748541600-1748552400@phillydragmafia.com
SUMMARY:Sunset Drag Show at Bok Bar!
DESCRIPTION:Join Philly’s Brittany Lynn and her Drag Mafia for a MONTHLY show at Bok Bar! Brittany and her drag troupe have been performing in Philadelphia for over twenty years — with shows at casinos\, restaurants\, and concert venues all over the tri-state area! Serving you the best in celebrity impersonation\, this is the closest thing to real celebrities you’ll get to see in South Philly! \nThis year the show takes over Golden Hour at Bok Bar! Sunset Drag will take place once a month on the last Thursday all season long (May-October). Doors will open promptly at 5pm for normal service\, with the show running from 7-9 pm. Guests will be seated in order of arrival time. We cannot wait to see you up on the roof! \nThis ticket doubles as a reservation at Bok Bar during the duration of the event. Food and drink can be ordered a la carte. We can only accommodate parties of 2\, 4\, and 6. There is not an ATM on-site\, so please come prepared with cash to tip these fabulous queens!
URL:https://phillydragmafia.com/event/sunset-drag-show-at-bok-bar/
LOCATION:Bok Bar\, 800 Mifflin St\, Phila\, PA\, 19148\, United States
CATEGORIES:Community Event,Dance Party,Drag Shows
ATTACH;FMTTYPE=image/jpeg:https://phillydragmafia.com/wp-content/uploads/2025/05/unnamed.jpg
END:VEVENT
END:VCALENDAR