BEGIN:VCALENDAR
VERSION:2.0
PRODID:-//Philly Drag Mafia - ECPv6.15.20//NONSGML v1.0//EN
CALSCALE:GREGORIAN
METHOD:PUBLISH
X-WR-CALNAME:Philly Drag Mafia
X-ORIGINAL-URL:https://phillydragmafia.com
X-WR-CALDESC:Events for Philly Drag Mafia
REFRESH-INTERVAL;VALUE=DURATION:PT1H
X-Robots-Tag:noindex
X-PUBLISHED-TTL:PT1H
BEGIN:VTIMEZONE
TZID:America/New_York
BEGIN:DAYLIGHT
TZOFFSETFROM:-0500
TZOFFSETTO:-0400
TZNAME:EDT
DTSTART:20240310T070000
END:DAYLIGHT
BEGIN:STANDARD
TZOFFSETFROM:-0400
TZOFFSETTO:-0500
TZNAME:EST
DTSTART:20241103T060000
END:STANDARD
BEGIN:DAYLIGHT
TZOFFSETFROM:-0500
TZOFFSETTO:-0400
TZNAME:EDT
DTSTART:20250309T070000
END:DAYLIGHT
BEGIN:STANDARD
TZOFFSETFROM:-0400
TZOFFSETTO:-0500
TZNAME:EST
DTSTART:20251102T060000
END:STANDARD
BEGIN:DAYLIGHT
TZOFFSETFROM:-0500
TZOFFSETTO:-0400
TZNAME:EDT
DTSTART:20260308T070000
END:DAYLIGHT
BEGIN:STANDARD
TZOFFSETFROM:-0400
TZOFFSETTO:-0500
TZNAME:EST
DTSTART:20261101T060000
END:STANDARD
END:VTIMEZONE
BEGIN:VEVENT
DTSTART;TZID=America/New_York:20250606T100000
DTEND;TZID=America/New_York:20250606T110000
DTSTAMP:20260421T225141
CREATED:20250519T203109Z
LAST-MODIFIED:20250519T203925Z
UID:10000913-1749204000-1749207600@phillydragmafia.com
SUMMARY:Drag Story Time at Clark Park
DESCRIPTION:Hear stories about love\, diversity\, and acceptance with Philly’s Brittany Lynn-the creator of the Philadelphia Drag Queen Story Time Program.                                                                       10am-11am; 4300 Baltimore Ave.                                                                                                    Free event\, all ages
URL:https://phillydragmafia.com/event/june-6-drag-story-time-at-clark-park/
LOCATION:PA
CATEGORIES:Community Event,Drag Queen Story Time
ATTACH;FMTTYPE=image/jpeg:https://phillydragmafia.com/wp-content/uploads/2025/05/IMG_1140.jpg
END:VEVENT
BEGIN:VEVENT
DTSTART;TZID=America/New_York:20250606T190000
DTEND;TZID=America/New_York:20250606T210000
DTSTAMP:20260421T225141
CREATED:20250514T142455Z
LAST-MODIFIED:20250514T142455Z
UID:10000899-1749236400-1749243600@phillydragmafia.com
SUMMARY:Movie Riffin Melee : Glen or Glenda!
DESCRIPTION:Break out your angora sweaters and “PULL DE STRING!” because Matt McGinnis’s Movie Riffing Melee returns to the Colonial Theatre for a special Pride Month event: the world’s first-ever all-drag riff\, featuring Ed Wood’s Glen or Glenda! Matt (Mystery Science Theater 3000)\, Roxie\, and two of the most fabulous drag queens this side of the Delaware take on Wood’s outrageous semi-autobiographical film in an all-out showdown for the title of “Movie Riffing Royalty.” \nThe Film:\nGlen (Ed Wood) doesn’t dare tell his fiancée Barbara (Dolores Fuller) that he likes to wear women’s clothes; in addition\, Alan is undergoing painful surgery to become a woman; both stories are told by a psychiatrist.
URL:https://phillydragmafia.com/event/movie-riffin-melee-glen-or-glenda/
LOCATION:PA
CATEGORIES:Community Event,Drag Shows
ATTACH;FMTTYPE=image/jpeg:https://phillydragmafia.com/wp-content/uploads/2025/05/IMG_4654-scaled.jpg
END:VEVENT
END:VCALENDAR