BEGIN:VCALENDAR
VERSION:2.0
PRODID:-//Philly Drag Mafia - ECPv6.15.20//NONSGML v1.0//EN
CALSCALE:GREGORIAN
METHOD:PUBLISH
X-ORIGINAL-URL:https://phillydragmafia.com
X-WR-CALDESC:Events for Philly Drag Mafia
REFRESH-INTERVAL;VALUE=DURATION:PT1H
X-Robots-Tag:noindex
X-PUBLISHED-TTL:PT1H
BEGIN:VTIMEZONE
TZID:America/New_York
BEGIN:DAYLIGHT
TZOFFSETFROM:-0500
TZOFFSETTO:-0400
TZNAME:EDT
DTSTART:20240310T070000
END:DAYLIGHT
BEGIN:STANDARD
TZOFFSETFROM:-0400
TZOFFSETTO:-0500
TZNAME:EST
DTSTART:20241103T060000
END:STANDARD
BEGIN:DAYLIGHT
TZOFFSETFROM:-0500
TZOFFSETTO:-0400
TZNAME:EDT
DTSTART:20250309T070000
END:DAYLIGHT
BEGIN:STANDARD
TZOFFSETFROM:-0400
TZOFFSETTO:-0500
TZNAME:EST
DTSTART:20251102T060000
END:STANDARD
BEGIN:DAYLIGHT
TZOFFSETFROM:-0500
TZOFFSETTO:-0400
TZNAME:EDT
DTSTART:20260308T070000
END:DAYLIGHT
BEGIN:STANDARD
TZOFFSETFROM:-0400
TZOFFSETTO:-0500
TZNAME:EST
DTSTART:20261101T060000
END:STANDARD
END:VTIMEZONE
BEGIN:VEVENT
DTSTART;TZID=America/New_York:20250614T103000
DTEND;TZID=America/New_York:20250614T233000
DTSTAMP:20260421T225244
CREATED:20250519T204625Z
LAST-MODIFIED:20250519T204625Z
UID:10000919-1749897000-1749943800@phillydragmafia.com
SUMMARY:Drag Story Time at the Andorra Library
DESCRIPTION:Hear stories about love\, diversity\, and acceptance with Philly’s Brittany Lynn-the creator of the Philadelphia Drag Queen Story Time Program.                                                       10:30am-11:30am\, 705 East Cathedral Road                                                                             Free event\, all ages
URL:https://phillydragmafia.com/event/drag-story-time-at-the-andorra-library/
LOCATION:PA
CATEGORIES:Community Event,Drag Queen Story Time
ATTACH;FMTTYPE=image/jpeg:https://phillydragmafia.com/wp-content/uploads/2025/05/IMG_8124.jpg
END:VEVENT
BEGIN:VEVENT
DTSTART;TZID=America/New_York:20250614T123000
DTEND;TZID=America/New_York:20250614T133000
DTSTAMP:20260421T225244
CREATED:20250519T204736Z
LAST-MODIFIED:20250519T204736Z
UID:10000920-1749904200-1749907800@phillydragmafia.com
SUMMARY:Drag Story Time in Pitman
DESCRIPTION:Hear stories about love\, diversity\, and acceptance with Philly’s Brittany Lynn-the creator of the Philadelphia Drag Queen Story Time Program.                                                          12:30pm-1:30pm\, 30 N. Broadway Pitmanj\, NJ                                                                           Free event\, all ages
URL:https://phillydragmafia.com/event/drag-story-time-in-pitman/
LOCATION:PA
CATEGORIES:Community Event,Drag Queen Story Time
ATTACH;FMTTYPE=image/jpeg:https://phillydragmafia.com/wp-content/uploads/2025/05/IMG_9094.jpg
END:VEVENT
END:VCALENDAR