BEGIN:VCALENDAR
VERSION:2.0
PRODID:-//Philly Drag Mafia - ECPv6.15.20//NONSGML v1.0//EN
CALSCALE:GREGORIAN
METHOD:PUBLISH
X-ORIGINAL-URL:https://phillydragmafia.com
X-WR-CALDESC:Events for Philly Drag Mafia
REFRESH-INTERVAL;VALUE=DURATION:PT1H
X-Robots-Tag:noindex
X-PUBLISHED-TTL:PT1H
BEGIN:VTIMEZONE
TZID:America/New_York
BEGIN:DAYLIGHT
TZOFFSETFROM:-0500
TZOFFSETTO:-0400
TZNAME:EDT
DTSTART:20240310T070000
END:DAYLIGHT
BEGIN:STANDARD
TZOFFSETFROM:-0400
TZOFFSETTO:-0500
TZNAME:EST
DTSTART:20241103T060000
END:STANDARD
BEGIN:DAYLIGHT
TZOFFSETFROM:-0500
TZOFFSETTO:-0400
TZNAME:EDT
DTSTART:20250309T070000
END:DAYLIGHT
BEGIN:STANDARD
TZOFFSETFROM:-0400
TZOFFSETTO:-0500
TZNAME:EST
DTSTART:20251102T060000
END:STANDARD
BEGIN:DAYLIGHT
TZOFFSETFROM:-0500
TZOFFSETTO:-0400
TZNAME:EDT
DTSTART:20260308T070000
END:DAYLIGHT
BEGIN:STANDARD
TZOFFSETFROM:-0400
TZOFFSETTO:-0500
TZNAME:EST
DTSTART:20261101T060000
END:STANDARD
END:VTIMEZONE
BEGIN:VEVENT
DTSTART;TZID=America/New_York:20250621T100000
DTEND;TZID=America/New_York:20250621T120000
DTSTAMP:20260421T225241
CREATED:20250502T204028Z
LAST-MODIFIED:20250507T141307Z
UID:10000891-1750500000-1750507200@phillydragmafia.com
SUMMARY:Drag Brunch at the Wayward - Show One!
DESCRIPTION:Sip. Slay. Sashay.\nJoin us at The Wayward for a dazzling Drag Brunch featuring Philly Drag Mafia on Saturday\, June 21\, 2025\, from 10:00 AM to 12:00 PM. Start your celebration with a complimentary Pride Mimosa upon arrival (21+)\, then sit back and enjoy the show! \n$25 gets you access to the show\, and $35 covers our pre-fixed brunch menu (drinks not included). Tax is not includedin the brunch cost\, and a 20% gratuity will be added to the final bill. \nSeating begins at 10:00 AM. Please arrive and be seated before 10:30 AM to ensure the best experience. \nLocation: 1170 Ludlow Street\, Philadelphia\, PA 19107\nFollow along: @thewaywardphilly | @phillydragbrunch \nCome ready to sip\, slay\, sashay—and don’t forget to tip your queens!
URL:https://phillydragmafia.com/event/drag-brunch-at-the-wayward-show-one/
LOCATION:Wayward\, 1170 Ludlow Street\, Phila\, Pa\, 19107
CATEGORIES:Community Event,Drag Brunch,Drag Shows
ATTACH;FMTTYPE=image/png:https://phillydragmafia.com/wp-content/uploads/2025/05/Social-Media-Flyer-1.png
END:VEVENT
BEGIN:VEVENT
DTSTART;TZID=America/New_York:20250621T123000
DTEND;TZID=America/New_York:20250621T143000
DTSTAMP:20260421T225241
CREATED:20250502T204219Z
LAST-MODIFIED:20250507T141340Z
UID:10000892-1750509000-1750516200@phillydragmafia.com
SUMMARY:Drag Brunch at the Wayward - Show Two!
DESCRIPTION:SSip. Slay. Sashay.\nJoin us at The Wayward for a dazzling Drag Brunch featuring Philly Drag Mafia on Saturday\, June 21\, 2025\, from 12:30 PM to 2:30 PM. Start your celebration with a complimentary Pride Mimosa upon arrival (21+)\, then sit back and enjoy the show! \n$25 gets you access to the show\, and $35 covers our pre-fixed brunch menu (drinks not included). Tax is not includedin the brunch cost\, and a 20% gratuity will be added to the final bill. \nSeating begins at 12:30 PM. Please arrive and be seated before 1:00 PM to ensure the best experience. \nLocation: 1170 Ludlow Street\, Philadelphia\, PA 19107\nFollow along: @thewaywardphilly | @phillydragbrunch \nCome ready to sip\, slay\, sashay—and don’t forget to tip your queens!
URL:https://phillydragmafia.com/event/drag-brunch-at-the-wayward-show-two/
LOCATION:Wayward\, 1170 Ludlow Street\, Phila\, Pa\, 19107
CATEGORIES:Community Event,Drag Brunch,Drag Shows
ATTACH;FMTTYPE=image/png:https://phillydragmafia.com/wp-content/uploads/2025/05/Social-Media-Flyer-1.png
END:VEVENT
BEGIN:VEVENT
DTSTART;TZID=America/New_York:20250621T183000
DTEND;TZID=America/New_York:20250621T213000
DTSTAMP:20260421T225241
CREATED:20250516T132632Z
LAST-MODIFIED:20250516T132809Z
UID:10000901-1750530600-1750541400@phillydragmafia.com
SUMMARY:PRIDE MONTH DRAG QUEEN CHEF COMPETITION: CHEF THOMAS VS. CHEF JUSTIN O
DESCRIPTION:Come experience a night like no other as we celebrate Pride Month with a fierce\, fabulous\, and flavorful twist! Watch two chefs go head-to-head in a 3-course mystery basket battle\, Iron Chef-style\, right before your eyes. Each chef will receive surprise ingredients and race against the clock to create an appetizer\, entrée\, and dessert. You get to be the judge — taste every course from both chefs and vote for the winner of the 1st place cash prize! The night doesn’t stop at the food — enjoy an unforgettable live performance by Philly’s own Brittany Lynn\, leader of the Philly Drag Mafia and local drag legend. From breaking a Guinness World Record to winning Best of Philly (2022 & 2023) and being named one of the Philly Phifty\, Brittany brings iconic energy and entertainment that lights up the room. A portion of proceeds will go to Gay and Sober\, a nonprofit providing a safe\, fun\, and enriching experience for the sober LGBTQ community. Light snacks will be served on arrival\, followed by full tasting plates of all six competition dishes. Limited seating available: 1st-row counter seating (front and center at the action) 2nd-row table seating (great views + comfy vibes) All seating is first come\, first serve within your selected section. We cannot accommodate any dietary restrictions or allergies at Chef Competitions. If you or a guest in your party have any allergies or dietary restrictions\, attending a chef competition is at your own risk. Our chefs are not able to ensure this is an allergy friendly event.
URL:https://phillydragmafia.com/event/pride-month-drag-queen-chef-competition-chef-thomas-vs-chef-justin-o/
LOCATION:Hudson Table\, 1001 North 2nd Street\, Phila\, PA\, 19123\, United States
CATEGORIES:Community Event,Drag Shows
ATTACH;FMTTYPE=image/jpeg:https://phillydragmafia.com/wp-content/uploads/2025/05/IMG_4669.jpg
END:VEVENT
END:VCALENDAR