BEGIN:VCALENDAR
VERSION:2.0
PRODID:-//Philly Drag Mafia - ECPv6.15.20//NONSGML v1.0//EN
CALSCALE:GREGORIAN
METHOD:PUBLISH
X-ORIGINAL-URL:https://phillydragmafia.com
X-WR-CALDESC:Events for Philly Drag Mafia
REFRESH-INTERVAL;VALUE=DURATION:PT1H
X-Robots-Tag:noindex
X-PUBLISHED-TTL:PT1H
BEGIN:VTIMEZONE
TZID:America/New_York
BEGIN:DAYLIGHT
TZOFFSETFROM:-0500
TZOFFSETTO:-0400
TZNAME:EDT
DTSTART:20240310T070000
END:DAYLIGHT
BEGIN:STANDARD
TZOFFSETFROM:-0400
TZOFFSETTO:-0500
TZNAME:EST
DTSTART:20241103T060000
END:STANDARD
BEGIN:DAYLIGHT
TZOFFSETFROM:-0500
TZOFFSETTO:-0400
TZNAME:EDT
DTSTART:20250309T070000
END:DAYLIGHT
BEGIN:STANDARD
TZOFFSETFROM:-0400
TZOFFSETTO:-0500
TZNAME:EST
DTSTART:20251102T060000
END:STANDARD
BEGIN:DAYLIGHT
TZOFFSETFROM:-0500
TZOFFSETTO:-0400
TZNAME:EDT
DTSTART:20260308T070000
END:DAYLIGHT
BEGIN:STANDARD
TZOFFSETFROM:-0400
TZOFFSETTO:-0500
TZNAME:EST
DTSTART:20261101T060000
END:STANDARD
END:VTIMEZONE
BEGIN:VEVENT
DTSTART;TZID=America/New_York:20250625T140000
DTEND;TZID=America/New_York:20250625T150000
DTSTAMP:20260421T225245
CREATED:20250519T205647Z
LAST-MODIFIED:20250519T205647Z
UID:10000924-1750860000-1750863600@phillydragmafia.com
SUMMARY:Drag Story Time at the Parkway Central Library
DESCRIPTION:Hear stories about love\, diversity\, and acceptance with Philly’s Brittany Lynn-the creator of the Philadelphia Drag Queen Story Time Program.                                                                   2pm-3pm\, 1901 Vine St.                                                                                                               Free event\, All ages
URL:https://phillydragmafia.com/event/drag-story-time-at-the-parkway-central-library/
LOCATION:PA
CATEGORIES:Community Event,Drag Queen Story Time
ATTACH;FMTTYPE=image/jpeg:https://phillydragmafia.com/wp-content/uploads/2025/05/IMG_1838-scaled.jpg
END:VEVENT
END:VCALENDAR