BEGIN:VCALENDAR
VERSION:2.0
PRODID:-//Philly Drag Mafia - ECPv6.15.20//NONSGML v1.0//EN
CALSCALE:GREGORIAN
METHOD:PUBLISH
X-ORIGINAL-URL:https://phillydragmafia.com
X-WR-CALDESC:Events for Philly Drag Mafia
REFRESH-INTERVAL;VALUE=DURATION:PT1H
X-Robots-Tag:noindex
X-PUBLISHED-TTL:PT1H
BEGIN:VTIMEZONE
TZID:America/New_York
BEGIN:DAYLIGHT
TZOFFSETFROM:-0500
TZOFFSETTO:-0400
TZNAME:EDT
DTSTART:20240310T070000
END:DAYLIGHT
BEGIN:STANDARD
TZOFFSETFROM:-0400
TZOFFSETTO:-0500
TZNAME:EST
DTSTART:20241103T060000
END:STANDARD
BEGIN:DAYLIGHT
TZOFFSETFROM:-0500
TZOFFSETTO:-0400
TZNAME:EDT
DTSTART:20250309T070000
END:DAYLIGHT
BEGIN:STANDARD
TZOFFSETFROM:-0400
TZOFFSETTO:-0500
TZNAME:EST
DTSTART:20251102T060000
END:STANDARD
BEGIN:DAYLIGHT
TZOFFSETFROM:-0500
TZOFFSETTO:-0400
TZNAME:EDT
DTSTART:20260308T070000
END:DAYLIGHT
BEGIN:STANDARD
TZOFFSETFROM:-0400
TZOFFSETTO:-0500
TZNAME:EST
DTSTART:20261101T060000
END:STANDARD
END:VTIMEZONE
BEGIN:VEVENT
DTSTART;TZID=America/New_York:20250626T190000
DTEND;TZID=America/New_York:20250626T210000
DTSTAMP:20260421T225244
CREATED:20250519T205840Z
LAST-MODIFIED:20250715T144537Z
UID:10000925-1750964400-1750971600@phillydragmafia.com
SUMMARY:Sunset Drag Show at Bok Bar
DESCRIPTION:Join Philly’s Brittany Lynn and her Drag Mafia for their annual PRIDE show at Bok Bar! This year the show takes over Golden Hour at Bok Bar! Performances by Brittany Lynn and Billy Cavallo\, Morgan Wells\, and Demi Gawdess. Sunset Drag will take place once a month on the last Thursday all season long (May-October). Doors will open promptly at 5pm for normal service\, with the show running\nfrom 7-9 pm. Guests will be seated in order of arrival time. We cannot wait to see you up on the roof!\nTicketed event\, All ages
URL:https://phillydragmafia.com/event/sunset-drag-show-at-bok-bar-6/
LOCATION:Bok Bar\, 800 Mifflin St\, Phila\, PA\, 19148\, United States
CATEGORIES:Community Event,Drag Shows
ATTACH;FMTTYPE=image/jpeg:https://phillydragmafia.com/wp-content/uploads/2025/05/unnamed.jpg
END:VEVENT
END:VCALENDAR