BEGIN:VCALENDAR
VERSION:2.0
PRODID:-//Philly Drag Mafia - ECPv6.15.20//NONSGML v1.0//EN
CALSCALE:GREGORIAN
METHOD:PUBLISH
X-WR-CALNAME:Philly Drag Mafia
X-ORIGINAL-URL:https://phillydragmafia.com
X-WR-CALDESC:Events for Philly Drag Mafia
REFRESH-INTERVAL;VALUE=DURATION:PT1H
X-Robots-Tag:noindex
X-PUBLISHED-TTL:PT1H
BEGIN:VTIMEZONE
TZID:America/New_York
BEGIN:DAYLIGHT
TZOFFSETFROM:-0500
TZOFFSETTO:-0400
TZNAME:EDT
DTSTART:20240310T070000
END:DAYLIGHT
BEGIN:STANDARD
TZOFFSETFROM:-0400
TZOFFSETTO:-0500
TZNAME:EST
DTSTART:20241103T060000
END:STANDARD
BEGIN:DAYLIGHT
TZOFFSETFROM:-0500
TZOFFSETTO:-0400
TZNAME:EDT
DTSTART:20250309T070000
END:DAYLIGHT
BEGIN:STANDARD
TZOFFSETFROM:-0400
TZOFFSETTO:-0500
TZNAME:EST
DTSTART:20251102T060000
END:STANDARD
BEGIN:DAYLIGHT
TZOFFSETFROM:-0500
TZOFFSETTO:-0400
TZNAME:EDT
DTSTART:20260308T070000
END:DAYLIGHT
BEGIN:STANDARD
TZOFFSETFROM:-0400
TZOFFSETTO:-0500
TZNAME:EST
DTSTART:20261101T060000
END:STANDARD
END:VTIMEZONE
BEGIN:VEVENT
DTSTART;TZID=America/New_York:20250628T220000
DTEND;TZID=America/New_York:20250628T230000
DTSTAMP:20260421T225140
CREATED:20250519T210643Z
LAST-MODIFIED:20250519T210643Z
UID:10000929-1751148000-1751151600@phillydragmafia.com
SUMMARY:254 Takeover Show
DESCRIPTION:Celebrate Pride in all its forms with a dazzling cast-Hosted by Brittany Lynn. Performances by Billy Cavallo\, Morgan Wells\, and Honeytree Evileye.                                                              10pm\, 254 S. 12th St.                                                                                                               Free event\, 21+ to attend
URL:https://phillydragmafia.com/event/254-takeover-show/
LOCATION:254\, 254 S. 12th St.\, Phila\, PA\, 19107\, United States
CATEGORIES:Community Event,Drag Shows
ATTACH;FMTTYPE=image/jpeg:https://phillydragmafia.com/wp-content/uploads/2025/05/Brittany-Lynn.jpg
END:VEVENT
BEGIN:VEVENT
DTSTART;TZID=America/New_York:20250628T220000
DTEND;TZID=America/New_York:20250628T230000
DTSTAMP:20260421T225140
CREATED:20250608T131143Z
LAST-MODIFIED:20250608T131143Z
UID:10000936-1751148000-1751151600@phillydragmafia.com
SUMMARY:254 Takeover - Pride Edition
DESCRIPTION:Brittany Lynn and the Philly Drag Mafia takeover 254 for the GAYEST ofr Pide Shows! Free event! Music by Dj Da Boo Boo – performances by Billy Cavallo\, Honeytree Evileye\, and Morgan Wells!
URL:https://phillydragmafia.com/event/254-takeover-pride-edition/
LOCATION:254\, 254 S. 12th St.\, Phila\, PA\, 19107\, United States
CATEGORIES:Community Event,Drag Shows
ATTACH;FMTTYPE=image/jpeg:https://phillydragmafia.com/wp-content/uploads/2025/06/unnamed-1.jpg
END:VEVENT
END:VCALENDAR