BEGIN:VCALENDAR
VERSION:2.0
PRODID:-//Philly Drag Mafia - ECPv6.15.20//NONSGML v1.0//EN
CALSCALE:GREGORIAN
METHOD:PUBLISH
X-WR-CALNAME:Philly Drag Mafia
X-ORIGINAL-URL:https://phillydragmafia.com
X-WR-CALDESC:Events for Philly Drag Mafia
REFRESH-INTERVAL;VALUE=DURATION:PT1H
X-Robots-Tag:noindex
X-PUBLISHED-TTL:PT1H
BEGIN:VTIMEZONE
TZID:America/New_York
BEGIN:DAYLIGHT
TZOFFSETFROM:-0500
TZOFFSETTO:-0400
TZNAME:EDT
DTSTART:20240310T070000
END:DAYLIGHT
BEGIN:STANDARD
TZOFFSETFROM:-0400
TZOFFSETTO:-0500
TZNAME:EST
DTSTART:20241103T060000
END:STANDARD
BEGIN:DAYLIGHT
TZOFFSETFROM:-0500
TZOFFSETTO:-0400
TZNAME:EDT
DTSTART:20250309T070000
END:DAYLIGHT
BEGIN:STANDARD
TZOFFSETFROM:-0400
TZOFFSETTO:-0500
TZNAME:EST
DTSTART:20251102T060000
END:STANDARD
BEGIN:DAYLIGHT
TZOFFSETFROM:-0500
TZOFFSETTO:-0400
TZNAME:EDT
DTSTART:20260308T070000
END:DAYLIGHT
BEGIN:STANDARD
TZOFFSETFROM:-0400
TZOFFSETTO:-0500
TZNAME:EST
DTSTART:20261101T060000
END:STANDARD
END:VTIMEZONE
BEGIN:VEVENT
DTSTART;TZID=America/New_York:20250629T110000
DTEND;TZID=America/New_York:20250629T140000
DTSTAMP:20260421T225140
CREATED:20250519T210915Z
LAST-MODIFIED:20250519T210915Z
UID:10000930-1751194800-1751205600@phillydragmafia.com
SUMMARY:Drag Brunch at Silk City
DESCRIPTION:Drag brunch returns to No Libs at everyone’s fave spot- Silk City! Hosted by Brittany Lynn with performances by THAT QUEEN\, Demi Gawdess\, and Billy Cavallo.\nGet ready – here comes your new Sunday Funday – filled with delicious food\, amazing cocktails\, and jaw-dropping performances by the tri-state area’s most talented queens!\nThis brunch has it all : drag queens\, live singing\, comedy\, and burlesque!\nDoors open at 11am\, shows start promptly at noon\, 435 Spring Garden St.\nTicketed event\, all ages
URL:https://phillydragmafia.com/event/drag-brunch-at-silk-city-3/
LOCATION:Silk City\, 435 Spring Garden\, Phila\, PA\, 19123-2846\, United States
CATEGORIES:Community Event,Drag Brunch,Drag Shows
ATTACH;FMTTYPE=image/jpeg:https://phillydragmafia.com/wp-content/uploads/2025/05/Silk-City-Drag-Brunch-FLYER-pride-scaled.jpg
END:VEVENT
END:VCALENDAR