BEGIN:VCALENDAR
VERSION:2.0
PRODID:-//Philly Drag Mafia - ECPv6.15.20//NONSGML v1.0//EN
CALSCALE:GREGORIAN
METHOD:PUBLISH
X-WR-CALNAME:Philly Drag Mafia
X-ORIGINAL-URL:https://phillydragmafia.com
X-WR-CALDESC:Events for Philly Drag Mafia
REFRESH-INTERVAL;VALUE=DURATION:PT1H
X-Robots-Tag:noindex
X-PUBLISHED-TTL:PT1H
BEGIN:VTIMEZONE
TZID:America/New_York
BEGIN:DAYLIGHT
TZOFFSETFROM:-0500
TZOFFSETTO:-0400
TZNAME:EDT
DTSTART:20230312T070000
END:DAYLIGHT
BEGIN:STANDARD
TZOFFSETFROM:-0400
TZOFFSETTO:-0500
TZNAME:EST
DTSTART:20231105T060000
END:STANDARD
BEGIN:DAYLIGHT
TZOFFSETFROM:-0500
TZOFFSETTO:-0400
TZNAME:EDT
DTSTART:20240310T070000
END:DAYLIGHT
BEGIN:STANDARD
TZOFFSETFROM:-0400
TZOFFSETTO:-0500
TZNAME:EST
DTSTART:20241103T060000
END:STANDARD
BEGIN:DAYLIGHT
TZOFFSETFROM:-0500
TZOFFSETTO:-0400
TZNAME:EDT
DTSTART:20250309T070000
END:DAYLIGHT
BEGIN:STANDARD
TZOFFSETFROM:-0400
TZOFFSETTO:-0500
TZNAME:EST
DTSTART:20251102T060000
END:STANDARD
END:VTIMEZONE
BEGIN:VEVENT
DTSTART;TZID=America/New_York:20240604T170000
DTEND;TZID=America/New_York:20240604T200000
DTSTAMP:20260423T015009
CREATED:20240507T221135Z
LAST-MODIFIED:20240507T221135Z
UID:10000698-1717520400-1717531200@phillydragmafia.com
SUMMARY:Queen Cabaret at Resorts - Pride Edition!
DESCRIPTION:An all live singing cabaret to celebrate pride month! Doors open 5pm\, show begins at 6pm! Free event!
URL:https://phillydragmafia.com/event/queen-cabaret-at-resorts-pride-edition/
LOCATION:Resorts Casino\, 1133 Boardwalk\, Atlantic City\, NJ\, 08401\, United States
CATEGORIES:Community Event,Drag Shows
ATTACH;FMTTYPE=image/png:https://phillydragmafia.com/wp-content/uploads/2024/05/DRAG-QUEEN-copy-2.png
END:VEVENT
BEGIN:VEVENT
DTSTART;TZID=America/New_York:20240606T100000
DTEND;TZID=America/New_York:20240606T110000
DTSTAMP:20260423T015009
CREATED:20240507T221643Z
LAST-MODIFIED:20240507T222323Z
UID:10000699-1717668000-1717671600@phillydragmafia.com
SUMMARY:Drag Queen Story Time at Walnut Street West Library
DESCRIPTION:Hear stories about love\, diversity\, and acceptance with Miss Brittany Lynn! Brittany Lynn is the founder and the offical chapter director of Philadelphia’s story time porogram! This event will takle place in Clark Park.
URL:https://phillydragmafia.com/event/drag-queen-story-time-at-walnut-street-west-library/
LOCATION:Clark Park\, 4300 Baltimore Ave.\, Phila\, PA\, United States
CATEGORIES:Community Event,Drag Queen Story Time,Drag Shows
ATTACH;FMTTYPE=image/png:https://phillydragmafia.com/wp-content/uploads/2024/05/drag-queen.png
END:VEVENT
BEGIN:VEVENT
DTSTART;TZID=America/New_York:20240608T100000
DTEND;TZID=America/New_York:20240608T230000
DTSTAMP:20260423T015009
CREATED:20240507T222318Z
LAST-MODIFIED:20240507T222318Z
UID:10000700-1717840800-1717887600@phillydragmafia.com
SUMMARY:Drag Queen Story Time at Haddonfield Library
DESCRIPTION:Hear stories about love\, diversity\, and acceptance with Miss Brittany Lynn! Brittany Lynn is the founder and the offical chapter director of Philadelphia’s story time porogram! This event will takle place at the Haddonfield Library at 60 N. Haddon Ave.
URL:https://phillydragmafia.com/event/drag-queen-story-time-at-haddonfield-library/
LOCATION:PA
CATEGORIES:Community Event,Drag Queen Story Time,Drag Shows
ATTACH;FMTTYPE=image/png:https://phillydragmafia.com/wp-content/uploads/2024/05/drag-queen.png
END:VEVENT
BEGIN:VEVENT
DTSTART;TZID=America/New_York:20240608T140000
DTEND;TZID=America/New_York:20240608T160000
DTSTAMP:20260423T015009
CREATED:20240507T222833Z
LAST-MODIFIED:20240530T131429Z
UID:10000701-1717855200-1717862400@phillydragmafia.com
SUMMARY:Drag Tea at the Sofitel
DESCRIPTION:Sofitel Philadelphia returns with the most celebrated drag tea in Philadelphia with two exclusive dates this year: Saturday June 8 and Saturday June 22.  Look for a new spin on a time-honored tradition. Sofitel\, famous for its classic afternoon tea service\, will debut a new Drag Tea featuring Brittany Lynn’s Drag Mafia. Sip tea (or spill it) in the presence of fabulous Drag Queens as you enjoy delicious offerings from Sofitel’s award-winning culinary team. Drag Tea starts each week at 2:00pm and runs through 4:00pm inside Chez Colette Brasserie. Come ready to be entertained as you enjoy classics\, like scones\, tea sandwiches\, pastries and Palais Des Thes (selection of nine different teas for you to choose) – plus your choice of a Champagne\, Mimosa or Bellini. Tickets are $65 per person for standard drag tea service\, or $75 with bottomless Champagne\, Mimosas and Bloody Marys. Five dollars from each purchase will be donated to the Mazzoni Center. Tickets are available at bit dot ly/pridetea24
URL:https://phillydragmafia.com/event/drag-tea-at-the-sofitel/2024-06-08/
LOCATION:Sofitel Hotel\, 120 S. 17th\, Phila.\, PA\, 19103\, United States
CATEGORIES:Community Event,Drag Brunch,Drag Shows
ATTACH;FMTTYPE=image/png:https://phillydragmafia.com/wp-content/uploads/2024/05/SparkleBrittanyBrunch.png
END:VEVENT
BEGIN:VEVENT
DTSTART;TZID=America/New_York:20240610T110000
DTEND;TZID=America/New_York:20240610T120000
DTSTAMP:20260423T015009
CREATED:20240507T224101Z
LAST-MODIFIED:20240507T224101Z
UID:10000705-1718017200-1718020800@phillydragmafia.com
SUMMARY:Drag Queen Story Time at Independence Library
DESCRIPTION:Hear stories about love\, diversity\, and acceptance with Miss Brittany Lynn! Brittany Lynn is the founder and the offical chapter director of Philadelphia’s story time porogram! This event will takle place at the Independecne Library located at 18 S. 7th St.-FREE EVENT!
URL:https://phillydragmafia.com/event/drag-queen-story-time-at-independence-library/
LOCATION:PA
CATEGORIES:Community Event,Drag Queen Story Time,Drag Shows
ATTACH;FMTTYPE=image/png:https://phillydragmafia.com/wp-content/uploads/2024/05/drag-queen.png
END:VEVENT
BEGIN:VEVENT
DTSTART;TZID=America/New_York:20240613T190000
DTEND;TZID=America/New_York:20240613T220000
DTSTAMP:20260423T015009
CREATED:20240521T155539Z
LAST-MODIFIED:20240521T155539Z
UID:10000714-1718305200-1718316000@phillydragmafia.com
SUMMARY:The Big\, Gay Variety Show!
DESCRIPTION:Join Brittany Lynn and the Philly Drag Mafia for a really gay pride show at the Manayunk Pop Up Beer Garden! Doors at 7pm\, show at 8pm! FREE EVENT!
URL:https://phillydragmafia.com/event/the-big-gay-variety-show/
LOCATION:Manayunk Pop Up Gardens\, 106 Jamestown Ave\, Phila\, PA\, 19127\, United States
CATEGORIES:Community Event,Drag Shows
ATTACH;FMTTYPE=image/png:https://phillydragmafia.com/wp-content/uploads/2024/05/Party.png
END:VEVENT
BEGIN:VEVENT
DTSTART;TZID=America/New_York:20240614T153000
DTEND;TZID=America/New_York:20240614T163000
DTSTAMP:20260423T015009
CREATED:20240507T233251Z
LAST-MODIFIED:20240507T235122Z
UID:10000706-1718379000-1718382600@phillydragmafia.com
SUMMARY:Drag Queen Story Time at the Lovett Library
DESCRIPTION:Hear stories about love\, diversity\, and acceptance with Miss Brittany Lynn! Brittany Lynn is the founder and the offical chapter director of Philadelphia’s story time porogram! This event will takle place at the Lovett Library located at 6945 Germantown Ave. – FREE EVENT!
URL:https://phillydragmafia.com/event/drag-queen-story-time-at-the-lovett-library/
LOCATION:PA
CATEGORIES:Community Event,Drag Queen Story Time,Drag Shows
ATTACH;FMTTYPE=image/png:https://phillydragmafia.com/wp-content/uploads/2024/05/drag-queen.png
END:VEVENT
BEGIN:VEVENT
DTSTART;TZID=America/New_York:20240617T173000
DTEND;TZID=America/New_York:20240617T183000
DTSTAMP:20260423T015009
CREATED:20240507T233808Z
LAST-MODIFIED:20240507T233808Z
UID:10000707-1718645400-1718649000@phillydragmafia.com
SUMMARY:Queen For a Day at Queen Memorial Library
DESCRIPTION:Brittany Lynn gives a live makeup and hair tutorial-live the fantasy and learn a few tricks! See how makeup and the art of drag has changed over the last three decades…Brittany Lynn has seen it all! This will take place at the Queen Memorial Library located at 1201 S. 23rd St.-FREE EVENT!
URL:https://phillydragmafia.com/event/queen-for-a-day-at-queen-memorial-library/
LOCATION:PA
CATEGORIES:Community Event,Drag Queen Story Time,Drag Shows
ATTACH;FMTTYPE=image/png:https://phillydragmafia.com/wp-content/uploads/2024/05/drag-queen.png
END:VEVENT
BEGIN:VEVENT
DTSTART;TZID=America/New_York:20240618T180000
DTEND;TZID=America/New_York:20240618T210000
DTSTAMP:20260423T015009
CREATED:20240515T205221Z
LAST-MODIFIED:20240523T175620Z
UID:10000712-1718733600-1718744400@phillydragmafia.com
SUMMARY:Drag Bingo at Resorts Casino
DESCRIPTION:Resorts Casino has its first Drag Bingo for Pride month! Fun games and prizes-including a $100 coverall game! Performances by Brittany Lynn\, Mrgan Wells\, and Billy Cavallo! FREE EVENT!
URL:https://phillydragmafia.com/event/drag-bingo-at-resorts-casino/
LOCATION:Resorts Casino\, 1133 Boardwalk\, Atlantic City\, NJ\, 08401\, United States
CATEGORIES:Community Event,Drag Bingo,Drag Shows
ATTACH;FMTTYPE=image/png:https://phillydragmafia.com/wp-content/uploads/2024/05/8A4A0EEB-73F0-4DE6-A480-D01DFBC807CA.png
END:VEVENT
BEGIN:VEVENT
DTSTART;TZID=America/New_York:20240620T110000
DTEND;TZID=America/New_York:20240620T120000
DTSTAMP:20260423T015009
CREATED:20240507T235057Z
LAST-MODIFIED:20240507T235057Z
UID:10000708-1718881200-1718884800@phillydragmafia.com
SUMMARY:Drag Queen Story Time at Andorra Library
DESCRIPTION:Hear stories about love\, diversity\, and acceptance with Miss Brittany Lynn! Brittany Lynn is the founder and the offical chapter director of Philadelphia’s story time porogram! This event will takle place at the Andorra Library located at 705 E. Catherdral Rd. – FREE EVENT!
URL:https://phillydragmafia.com/event/drag-queen-story-time-at-andorra-library/
LOCATION:PA
CATEGORIES:Community Event,Drag Queen Story Time,Drag Shows
ATTACH;FMTTYPE=image/png:https://phillydragmafia.com/wp-content/uploads/2024/05/drag-queen.png
END:VEVENT
BEGIN:VEVENT
DTSTART;TZID=America/New_York:20240622T140000
DTEND;TZID=America/New_York:20240622T160000
DTSTAMP:20260423T015009
CREATED:20240507T222833Z
LAST-MODIFIED:20240530T131429Z
UID:10000702-1719064800-1719072000@phillydragmafia.com
SUMMARY:Drag Tea at the Sofitel
DESCRIPTION:Sofitel Philadelphia returns with the most celebrated drag tea in Philadelphia with two exclusive dates this year: Saturday June 8 and Saturday June 22.  Look for a new spin on a time-honored tradition. Sofitel\, famous for its classic afternoon tea service\, will debut a new Drag Tea featuring Brittany Lynn’s Drag Mafia. Sip tea (or spill it) in the presence of fabulous Drag Queens as you enjoy delicious offerings from Sofitel’s award-winning culinary team. Drag Tea starts each week at 2:00pm and runs through 4:00pm inside Chez Colette Brasserie. Come ready to be entertained as you enjoy classics\, like scones\, tea sandwiches\, pastries and Palais Des Thes (selection of nine different teas for you to choose) – plus your choice of a Champagne\, Mimosa or Bellini. Tickets are $65 per person for standard drag tea service\, or $75 with bottomless Champagne\, Mimosas and Bloody Marys. Five dollars from each purchase will be donated to the Mazzoni Center. Tickets are available at bit dot ly/pridetea24
URL:https://phillydragmafia.com/event/drag-tea-at-the-sofitel/2024-06-22/
LOCATION:Sofitel Hotel\, 120 S. 17th\, Phila.\, PA\, 19103\, United States
CATEGORIES:Community Event,Drag Brunch,Drag Shows
ATTACH;FMTTYPE=image/png:https://phillydragmafia.com/wp-content/uploads/2024/05/SparkleBrittanyBrunch.png
END:VEVENT
BEGIN:VEVENT
DTSTART;TZID=America/New_York:20240622T220000
DTEND;TZID=America/New_York:20240623T010000
DTSTAMP:20260423T015009
CREATED:20240530T132301Z
LAST-MODIFIED:20240530T132301Z
UID:10000716-1719093600-1719104400@phillydragmafia.com
SUMMARY:Tabu Takeover with the Philly Drag Mafia
DESCRIPTION:Join us as The Philly Drag Mafia Takeover TABU! Hosted by Brittany Lynn (Winner Best of Philly 2022 and 2023- Best Drag Shows)! \nDrag Mafia TABU Takeover on 2nd Floor \n10PM-12AM with Special Performances \n$7 Stoli Cocktails on Special! \nMidnight Madness \n12AM-2AM with Popup Performances on the Roof Deck & Cabaret \n$6 Surfside on Special! \nNO COVER\nMusic By: DJ DA_BOOBOO!\n21+
URL:https://phillydragmafia.com/event/tabu-takeover-with-the-philly-drag-mafia/
LOCATION:254\, 254 S. 12th St.\, Phila\, PA\, 19107\, United States
CATEGORIES:Community Event,Drag Shows
ATTACH;FMTTYPE=image/jpeg:https://phillydragmafia.com/wp-content/uploads/2024/05/Takeover-Madness-Flyer-Pride-1-scaled.jpg
END:VEVENT
BEGIN:VEVENT
DTSTART;TZID=America/New_York:20240625T160000
DTEND;TZID=America/New_York:20240625T220000
DTSTAMP:20260423T015009
CREATED:20240620T221714Z
LAST-MODIFIED:20240620T221714Z
UID:10000719-1719331200-1719352800@phillydragmafia.com
SUMMARY:Pride Showcase at the Kimmel Center
DESCRIPTION:The Philadelphia Orchestra and Ensemble Arts celebrate Pride with free plaza events and a special one-night-only Orchestra performance hosted by Sapphira Cristál!  \nJoin The Philadelphia Orchestra and incoming Principal Guest Conductor Designate Marin Alsop for our third annual FREE Pride Concert! Fresh off her appearance on RuPaul’s Drag Race\, Philadelphia drag queen Sapphira Cristál will host this fabulous celebration of unity\, empowerment\, and the Philadelphia region’s LGBTQ+ community.  \nThe concert will feature music by LGBTQ+ composers and allies including works by Bernstein\, Copland\, and more. Joining in on the fun are the ANNA Crusis Feminist Choir\, the Philadelphia Gay Men’s Chorus\, and Philadelphia Voices of Pride. \nEnjoy fun entertainment in the plaza\, including a drag storytime with Brittany Lynn and a performance showcase featuring local drag queens and kings. \nPride Pre-Concert Celebration (no tickets required)\n4:00 PM–7:00 PM  \nJoin us for pre-concert entertainment in Commonwealth Plaza!  \n4:00 PM: Drag storytime with Brittany Lynn \n5:00 PM: Drag performance showcase featuring Brittany Lynn\, LisaLisa\, Cyrus K. Stratton\, Mister Right\, Karen Vonsay\, Iris Spectre\, Morgan Wells\, Victoria Courtez\, Hannibal Lickher \nPhiladelphia Orchestra Pride Concert (sold out)\n7:00 PM  \nMarin Alsop Conductor\nSapphira Cristál Host\nANNA Crusis Feminist Choir\nMiriam Davidson Artistic Director\nPhiladelphia Gay Men’s Chorus\nJoseph J. Buches Artistic Director\nPhiladelphia Voices of Pride\nDaniel Schwartz Artistic Director   \nProgram to include:  \nBernstein Overture to Candide\nCopland Excerpt from Appalachian Spring Suite\nEdwards and Rodgers “We Are Family”\nMaggio “As Long as We Live (Allons! Allons!)\,” from Open Road\nHigdon Fanfare Ritmico\nTchaikovsky Third movement from Symphony No. 6 (“Pathétique”) \nImportant: This is a free\, general admission event. Tickets are required for entry into the Philadelphia Orchestra concert in Marian Anderson Hall. Ticket holders will be seated on a first-come\, first-served basis beginning approximately 45 minutes prior to the start of the performance. Entry to the concert is not guaranteed. Please plan to arrive early\, as you may need to wait in line. A standby line will let additional people into the concert if seats are still available at the earliest convenience.  \nVogue Category and Dancing\n9:00 PM \nIn a Mock ball co-curated by Philadelphia Mother Rylee Prodigy\, witness the Performance category featuring some of the “It Girls” of the new generation and Legends from the Philadelphia Ballroom Scene with commentator ICON Kevin JZ Prodigy\, then dance and mingle with the community to the sounds of Legendary VJtheDJ. \nSponsors\nThe Pride Concert is generously supported in part by Dr. James F. Dougherty and George Condos. Additional support is given by Donald E. Barb\, Esq.\, and the Rev. Bruce H. Davidson; Christos Coutifaris and Deborah Driscoll\, in memory of Woody Driscoll; Allan Schimmel; and Jennifer and Ralph Watts.
URL:https://phillydragmafia.com/event/pride-showcase-at-the-kimmel-center/
LOCATION:PA
CATEGORIES:Community Event,Drag Queen Story Time,Drag Shows
ATTACH;FMTTYPE=image/jpeg:https://phillydragmafia.com/wp-content/uploads/2024/06/unnamed.jpg
END:VEVENT
BEGIN:VEVENT
DTSTART;TZID=America/New_York:20240627T080000
DTEND;TZID=America/New_York:20240627T170000
DTSTAMP:20260423T015009
CREATED:20240627T144711Z
LAST-MODIFIED:20240627T144711Z
UID:10000724-1719475200-1719507600@phillydragmafia.com
SUMMARY:DRAG QUEEN STORY TIME AT LOVETT MEMORIAL LIBRARY
DESCRIPTION:Come hear storites about love\, diversity\, and acceptance at the Lovett Memorial Library on South Street!
URL:https://phillydragmafia.com/event/drag-queen-story-time-at-lovett-memorial-library/
LOCATION:Lovett Memorial Library\, 6945 Germantown Avenue\, Phila\, PA\, 19119\, United States
CATEGORIES:Community Event,Drag Queen Story Time
ATTACH;FMTTYPE=image/png:https://phillydragmafia.com/wp-content/uploads/2024/06/drag-queen-Instagram-Post-copy.png
END:VEVENT
BEGIN:VEVENT
DTSTART;TZID=America/New_York:20240630T120000
DTEND;TZID=America/New_York:20240630T150000
DTSTAMP:20260423T015009
CREATED:20240508T000415Z
LAST-MODIFIED:20240508T000415Z
UID:10000711-1719748800-1719759600@phillydragmafia.com
SUMMARY:Drag Brunch at Two Locals Brewing Co.
DESCRIPTION:Join us for PRIDE DRAG BRUNCH at Two Locals Brewing Co! \nGet ready for a fabulous morning filled with delicious food\, brews\, and jaw-dropping performances by Philly’s most talented queens! This event is the perfect way to celebrate Pride in style while supporting local LGBTQ+ artists AND Philly’s first black owned brewery! \nWinner Philadelphia Magazine’s Best of Philly 2022 ZND 2023 -BEST DRAG SHOWS AND DRAG BRUNCHES! \n*Ticket purchase includes your seats and two fabulous shows. Brunch food and drinks are additional purchases the day of the event. \nBrittany and her Drag Mafia have been performing for over two decades — with shows at casinos\, restaurants\, and concert venues all over the tri-state area! \nDrag Mafia is the most award winning drag troupe around-not only for their shows\, but for their work with multiple charities on various platforms. Don’t miss out on this one hun-we are sure to please even the fussiest Queen in your crew!
URL:https://phillydragmafia.com/event/drag-brunch-at-two-locals-brewing-co/
LOCATION:PA
CATEGORIES:Community Event,Drag Brunch,Drag Shows
ATTACH;FMTTYPE=image/png:https://phillydragmafia.com/wp-content/uploads/2024/05/PRIDE-DRAG-BRUNCH-5-x-7-in.png
END:VEVENT
END:VCALENDAR