BEGIN:VCALENDAR
VERSION:2.0
PRODID:-//Philly Drag Mafia - ECPv6.15.20//NONSGML v1.0//EN
CALSCALE:GREGORIAN
METHOD:PUBLISH
X-WR-CALNAME:Philly Drag Mafia
X-ORIGINAL-URL:https://phillydragmafia.com
X-WR-CALDESC:Events for Philly Drag Mafia
REFRESH-INTERVAL;VALUE=DURATION:PT1H
X-Robots-Tag:noindex
X-PUBLISHED-TTL:PT1H
BEGIN:VTIMEZONE
TZID:America/New_York
BEGIN:DAYLIGHT
TZOFFSETFROM:-0500
TZOFFSETTO:-0400
TZNAME:EDT
DTSTART:20240310T070000
END:DAYLIGHT
BEGIN:STANDARD
TZOFFSETFROM:-0400
TZOFFSETTO:-0500
TZNAME:EST
DTSTART:20241103T060000
END:STANDARD
BEGIN:DAYLIGHT
TZOFFSETFROM:-0500
TZOFFSETTO:-0400
TZNAME:EDT
DTSTART:20250309T070000
END:DAYLIGHT
BEGIN:STANDARD
TZOFFSETFROM:-0400
TZOFFSETTO:-0500
TZNAME:EST
DTSTART:20251102T060000
END:STANDARD
BEGIN:DAYLIGHT
TZOFFSETFROM:-0500
TZOFFSETTO:-0400
TZNAME:EDT
DTSTART:20260308T070000
END:DAYLIGHT
BEGIN:STANDARD
TZOFFSETFROM:-0400
TZOFFSETTO:-0500
TZNAME:EST
DTSTART:20261101T060000
END:STANDARD
END:VTIMEZONE
BEGIN:VEVENT
DTSTART;TZID=America/New_York:20250803T110000
DTEND;TZID=America/New_York:20250803T140000
DTSTAMP:20260421T212256
CREATED:20250701T151750Z
LAST-MODIFIED:20250701T151750Z
UID:10000942-1754218800-1754229600@phillydragmafia.com
SUMMARY:Drag Brunch at Nucky's
DESCRIPTION:Drag brunch returns to Ventnor\, NJ – at Nucky’s Kitchen and Speakeasy! Now featuring your fave drag queens-And EVERYONE is welcome to come OUT and play with us! \nWinner Philadelphia Magazine’s Best of Philly 2022 & 2023- Best Drag Shows and Drag Brunches! \nFabulous food and cocktails from the Nucky’s kitchen! \nShow is hosted by the Queen\, Brittany Lynn-featuring drag superstars \, vocalists\, and more! \nLive music by Dj Da_BooBoo! \n(*Food\, drinks\, and grat not included in this ticket purchase.) \nSo come on OUT and play with the girls for Jersey’s best Sunday Funday!
URL:https://phillydragmafia.com/event/drag-brunch-at-nuckys/
LOCATION:Nucky’s Kitchen and Speakeasy\, 5211 Ventnor Avenue\, Ventnor\, NJ\, 08406\, United States
CATEGORIES:Community Event,Drag Brunch,Drag Shows
ATTACH;FMTTYPE=image/png:https://phillydragmafia.com/wp-content/uploads/2025/07/drag-1-scaled.png
END:VEVENT
BEGIN:VEVENT
DTSTART;TZID=America/New_York:20250817T120000
DTEND;TZID=America/New_York:20250817T150000
DTSTAMP:20260421T212256
CREATED:20250706T144004Z
LAST-MODIFIED:20250706T144004Z
UID:10000944-1755432000-1755442800@phillydragmafia.com
SUMMARY:Drag Brunch at Creekside Market & Tap
DESCRIPTION:Drag Brunch comes to Elkins Park – ONLY at Creeksaide Market & Tap! \nHosted by Philly’s Queen\, Brittany Lynn – and featuring the dolls of the Philly Drag Mafia – and everyone is welcome to come OUT and play with us! \nWinner Philadelphia Magazine’s Best of Philly 2022 & 2023 for Best Drag Shows and Drag Brunches! \nCelebrity impersonation\, live singing\, comedy\, and more! \nMusic and dancing with Dj Da Boo Boo! \nSpecialty cocktail menu from Creekside\, and amazing food options from Angie’s Vietnamese Cuisine and Creekside Restaurant & Deli. \nTickets: Table Seating or Bar Seating. (Bar seat purchases are for bar seats only.) \nSeating that morning will be first come\, first serve. \n(*Food\, drinks\, and grat not included in this ticket purchase.)
URL:https://phillydragmafia.com/event/drag-brunch-at-creekside-market-tap/
LOCATION:Creekside Market & Tap\, 7909 High School Road\, Elkins Park\, PA\, 19027\, United States
CATEGORIES:Community Event,Drag Brunch,Drag Shows
ATTACH;FMTTYPE=image/png:https://phillydragmafia.com/wp-content/uploads/2025/07/2-scaled.png
END:VEVENT
BEGIN:VEVENT
DTSTART;TZID=America/New_York:20250824T110000
DTEND;TZID=America/New_York:20250824T140000
DTSTAMP:20260421T212256
CREATED:20250715T153051Z
LAST-MODIFIED:20250715T153051Z
UID:10001026-1756033200-1756044000@phillydragmafia.com
SUMMARY:Drag Brunch at Silk City
DESCRIPTION:Drag brunch returns to No Libs at everyone’s fave spot- Silk City! \nGet ready – here comes your new Sunday Funday – filled with delicious food\, amazing cocktails\, and jaw-dropping performances by the tri-state area’s most talented queens! \nThis brunch has it all : drag queens\, live singing\, comedy\, and more! \nDoors open at 11am\, shows start promptly at noon! \nHosted by Philly’s Queen of Queens – Brittany Lynn\, with performances by her Philly Drag Mafia! Winner of Philadelphia Magazine’s Best of Philly 2022 AND 2023 – for BEST DRAG SHOWS AND DRAG BRUNCHES! \nTickets are General Admission – Our tables can be moved to accomodate any size group. If you purchase more than one ticket to seat a group\, just let us know and we will make sure to seat your entire party together. \n*Ticket purchase includes your seat and two fabulous shows. Brunch food and drinks are additional purchases the day of the event. \nNOTE: A good portion of the seating is barstool height / higher seating. if anyone in your party has specific needs\, please let us know so we can do our best to accommodate them. \nBrittany and her Drag Mafia have been performing for over two decades — with shows at casinos\, restaurants\, and concert venues all over the tri-state area! \nDrag Mafia is the most award winning drag troupe around-not only for their shows\, but for their work with multiple charities on various platforms. Don’t miss out on this one hun-we are sure to please even the fussiest Queen in your crew!
URL:https://phillydragmafia.com/event/drag-brunch-at-silk-city-2/
LOCATION:Silk City\, 435 Spring Garden\, Phila\, PA\, 19123-2846\, United States
CATEGORIES:Community Event,Drag Brunch
ATTACH;FMTTYPE=image/jpeg:https://phillydragmafia.com/wp-content/uploads/2025/07/Silk-City-Drag-Brunch-FLYER-AUG-scaled.jpg
END:VEVENT
BEGIN:VEVENT
DTSTART;TZID=America/New_York:20250825T190000
DTEND;TZID=America/New_York:20250825T210000
DTSTAMP:20260421T212256
CREATED:20250816T152254Z
LAST-MODIFIED:20250816T152254Z
UID:10001034-1756148400-1756155600@phillydragmafia.com
SUMMARY:Drag Bingo at the Cantina
DESCRIPTION:Play six fun rounds of bingo while winning fabulous gift cards to everyone’s fave spot on the Avenue! Hosted by Brittany LYnn with Billy Cavallo! FREE TO PLAY!
URL:https://phillydragmafia.com/event/drag-bingo-at-the-cantina-2/
LOCATION:Cantina\, 1651 E. Passyunk Ave.\, Phila\, PA\, 19148\, United States
CATEGORIES:Community Event,Drag Bingo
ATTACH;FMTTYPE=image/png:https://phillydragmafia.com/wp-content/uploads/2025/07/Drag-1-1.png
END:VEVENT
BEGIN:VEVENT
DTSTART;TZID=America/New_York:20250828T180000
DTEND;TZID=America/New_York:20250828T210000
DTSTAMP:20260421T212256
CREATED:20250715T145740Z
LAST-MODIFIED:20250715T152833Z
UID:10001025-1756404000-1756414800@phillydragmafia.com
SUMMARY:Sunset Drag Show at Bok Bar
DESCRIPTION:Join Philly’s Brittany Lynn and her Drag Mafia for their annual PRIDE show at Bok Bar! This year the show takes over Golden Hour at Bok Bar! Performances by Brittany Lynn and Billy Cavallo\, Morgan Wells\, and Demi Gawdess. Sunset Drag will take place once a month on the last Thursday all season long (May-October). Doors will open promptly at 5pm for normal service\, with the show running from 7-9 pm.\nGuests will be seated in order of arrival time. We cannot wait to see you up on the roof!\nTicketed event\, All ages
URL:https://phillydragmafia.com/event/sunset-drag-show-at-bok-bar-7/
LOCATION:Bok Bar\, 800 Mifflin St\, Phila\, PA\, 19148\, United States
CATEGORIES:Community Event,Dance Party,Drag Shows
ATTACH;FMTTYPE=image/png:https://phillydragmafia.com/wp-content/uploads/2025/07/IMG_6807-scaled-e1752591389491.png
END:VEVENT
END:VCALENDAR