BEGIN:VCALENDAR
VERSION:2.0
PRODID:-//Philly Drag Mafia - ECPv6.15.20//NONSGML v1.0//EN
CALSCALE:GREGORIAN
METHOD:PUBLISH
X-ORIGINAL-URL:https://phillydragmafia.com
X-WR-CALDESC:Events for Philly Drag Mafia
REFRESH-INTERVAL;VALUE=DURATION:PT1H
X-Robots-Tag:noindex
X-PUBLISHED-TTL:PT1H
BEGIN:VTIMEZONE
TZID:America/New_York
BEGIN:DAYLIGHT
TZOFFSETFROM:-0500
TZOFFSETTO:-0400
TZNAME:EDT
DTSTART:20240310T070000
END:DAYLIGHT
BEGIN:STANDARD
TZOFFSETFROM:-0400
TZOFFSETTO:-0500
TZNAME:EST
DTSTART:20241103T060000
END:STANDARD
BEGIN:DAYLIGHT
TZOFFSETFROM:-0500
TZOFFSETTO:-0400
TZNAME:EDT
DTSTART:20250309T070000
END:DAYLIGHT
BEGIN:STANDARD
TZOFFSETFROM:-0400
TZOFFSETTO:-0500
TZNAME:EST
DTSTART:20251102T060000
END:STANDARD
BEGIN:DAYLIGHT
TZOFFSETFROM:-0500
TZOFFSETTO:-0400
TZNAME:EDT
DTSTART:20260308T070000
END:DAYLIGHT
BEGIN:STANDARD
TZOFFSETFROM:-0400
TZOFFSETTO:-0500
TZNAME:EST
DTSTART:20261101T060000
END:STANDARD
END:VTIMEZONE
BEGIN:VEVENT
DTSTART;TZID=America/New_York:20250906T200000
DTEND;TZID=America/New_York:20250906T220000
DTSTAMP:20260421T182712
CREATED:20250901T002605Z
LAST-MODIFIED:20250901T002903Z
UID:10001036-1757188800-1757196000@phillydragmafia.com
SUMMARY:The Miss'd America Pageant at Caesar's In Atlantic City
DESCRIPTION:Former Miss’d America (2004) Brittany Lnn is gonna be a judge for this amazing night!\nAfter placing first runner up for five years\, Brittany finally took the crown on her sixth year in 2004 – now she is finally sitting on that fabulous judges panel!\nAfter the pageant\, Brittany will be performing at the Byrdcage at MIDNIGHT for the after-after party! \nSOOOOOOO – Who will be crowned on Sept 6th? \n👑 Meet the Miss’d America Royal Court 2025\nLeft to Right:\n💓First Runner Up – Miss Venus Mystique\n💓Miss’d America 2025 – Ms. Aria B. Cassadine\n💓Second Runner Up – Ms. Cherry Poppins \nSee who will claim the crown this year!\nReserve your seat now and don’t miss the excitement!
URL:https://phillydragmafia.com/event/the-missd-america-pageant-at-caesars-in-atlantic-city/
LOCATION:Caesars Altantic City – Circus Maximus Theater\, 2100 Pacific Ave\, Atlantic City\, NJ\, 08401\, United States
CATEGORIES:Community Event,Drag Shows
ATTACH;FMTTYPE=image/jpeg:https://phillydragmafia.com/wp-content/uploads/2025/08/537213858_1165558765606329_8055842211663142561_n.jpg
END:VEVENT
BEGIN:VEVENT
DTSTART;TZID=America/New_York:20250918T190000
DTEND;TZID=America/New_York:20250918T210000
DTSTAMP:20260421T182712
CREATED:20250816T151732Z
LAST-MODIFIED:20250816T152006Z
UID:10001032-1758222000-1758229200@phillydragmafia.com
SUMMARY:Drag Bingo at PHS Pop Up Garden Manayunk
DESCRIPTION:Play six rounds of bingo with fabulous perfoprmanjce by Brittany and the dolls of the Drag Mafia! Free event!
URL:https://phillydragmafia.com/event/drag-bingo-at-phs-pop-up-garden-manayunk/
LOCATION:PHS Pop Up Garden\, 106 Jamestown\, Philadelphia\, PA\, 19127\, United States
CATEGORIES:Community Event,Drag Bingo,Drag Shows
ATTACH;FMTTYPE=image/png:https://phillydragmafia.com/wp-content/uploads/2025/08/Join-us-for-a-night-of-fun-and-games-at-our-third-Annual-Bingo-Night-Instagram-Post.png
END:VEVENT
BEGIN:VEVENT
DTSTART;TZID=America/New_York:20250928T140000
DTEND;TZID=America/New_York:20250928T170000
DTSTAMP:20260421T182712
CREATED:20250816T152117Z
LAST-MODIFIED:20250901T001337Z
UID:10001033-1759068000-1759078800@phillydragmafia.com
SUMMARY:Drag BRUNCH at Bok Bar!!!
DESCRIPTION:Join Philly’s Brittany Lynn and her Drag Mafia for… DRAG BRUNCH – IT’S BACK AT BOK BAR FOR ONE DAY ONLY!\nPerformances by Brittany Lynn\, Ivanna Blackout\, Miss Redd\, and Belena Canto!\nGuests will be seated in order of arrival time. We cannot wait to see you up on the roof!\nDoors open 2pm\, show starts at 3pm.\nTicketed event\, All ages
URL:https://phillydragmafia.com/event/sunset-drag-show-at-bok-bar-8/
LOCATION:Bok Bar\, 800 Mifflin St\, Phila\, PA\, 19148\, United States
CATEGORIES:Community Event,Dance Party,Drag Brunch,Drag Shows
ATTACH;FMTTYPE=image/png:https://phillydragmafia.com/wp-content/uploads/2025/07/IMG_6807-scaled-e1752591389491.png
END:VEVENT
END:VCALENDAR