BEGIN:VCALENDAR
VERSION:2.0
PRODID:-//Philly Drag Mafia - ECPv6.15.20//NONSGML v1.0//EN
CALSCALE:GREGORIAN
METHOD:PUBLISH
X-ORIGINAL-URL:https://phillydragmafia.com
X-WR-CALDESC:Events for Philly Drag Mafia
REFRESH-INTERVAL;VALUE=DURATION:PT1H
X-Robots-Tag:noindex
X-PUBLISHED-TTL:PT1H
BEGIN:VTIMEZONE
TZID:America/New_York
BEGIN:DAYLIGHT
TZOFFSETFROM:-0500
TZOFFSETTO:-0400
TZNAME:EDT
DTSTART:20240310T070000
END:DAYLIGHT
BEGIN:STANDARD
TZOFFSETFROM:-0400
TZOFFSETTO:-0500
TZNAME:EST
DTSTART:20241103T060000
END:STANDARD
BEGIN:DAYLIGHT
TZOFFSETFROM:-0500
TZOFFSETTO:-0400
TZNAME:EDT
DTSTART:20250309T070000
END:DAYLIGHT
BEGIN:STANDARD
TZOFFSETFROM:-0400
TZOFFSETTO:-0500
TZNAME:EST
DTSTART:20251102T060000
END:STANDARD
BEGIN:DAYLIGHT
TZOFFSETFROM:-0500
TZOFFSETTO:-0400
TZNAME:EDT
DTSTART:20260308T070000
END:DAYLIGHT
BEGIN:STANDARD
TZOFFSETFROM:-0400
TZOFFSETTO:-0500
TZNAME:EST
DTSTART:20261101T060000
END:STANDARD
END:VTIMEZONE
BEGIN:VEVENT
DTSTART;TZID=America/New_York:20251003T180000
DTEND;TZID=America/New_York:20251003T210000
DTSTAMP:20260421T170123
CREATED:20250910T180507Z
LAST-MODIFIED:20250911T164112Z
UID:10001039-1759514400-1759525200@phillydragmafia.com
SUMMARY:Out & About Weekend Manayunk
DESCRIPTION:Manayunk is excited to be bringing back Out & About in MNYK to Main Street! In honor of National Coming Out Day in October\, Out & About in MNYK will host LGBTQ+ artists\, performers\, organizations\, and entertainment to promote Manayunk as a safe place that welcomes everyone. \nFor more info\, events\, etc. visit the link below:\nhttps://manayunk.com/mnyk-events/out-about-in-mnyk/ \nFRIDAY\, OCTOBER 3RD  \nDrag Bingo @ Winnie’s\nDoors 6pm / Bingo 7pm \nSATURDAY\, OCTOBER 4th \n11:00 AM\nDrag Storytime @ Gay Street Stage \n12:15 PM\nPhiladelphia Freedom Band Plays\nThroughout Main Street \n1:00 PM\nDrag Show @ Gay Street Stage \n3:00 PM\nKaraoke Competition @ Canalside Manayunk \n6:00 PM\nRocky Horror (1st show) @ Venice Island performing Arts \n9:00 PM\nRocky Horror (2nd show) @ Venice Island performing Arts
URL:https://phillydragmafia.com/event/out-about-weekend-manayunk/2025-10-03/
LOCATION:Manayunk\, Phila\, Pennsylvania
CATEGORIES:Community Event,Dance Party,Drag Bingo,Drag Shows
ATTACH;FMTTYPE=image/png:https://phillydragmafia.com/wp-content/uploads/2025/09/Manayunk.com-presents-1-scaled.png
END:VEVENT
BEGIN:VEVENT
DTSTART;TZID=America/New_York:20251003T180000
DTEND;TZID=America/New_York:20251003T210000
DTSTAMP:20260421T170123
CREATED:20250920T195520Z
LAST-MODIFIED:20250920T195520Z
UID:10001043-1759514400-1759525200@phillydragmafia.com
SUMMARY:Drag Bingo at Winnie's
DESCRIPTION:Kick off Manayunk’s Out & About Weekend at Winnie’s Drag Bingo hosted by the one and only Brittany Lynn\, play six rounds of bingo and catch dazzling performances by the Philly Drag Mafia!
URL:https://phillydragmafia.com/event/drag-bingo-at-winnies-2/
LOCATION:Winnie’s\, 4266 Main St.\, Phila\, Pennsylvania\, 19127
CATEGORIES:Community Event,Drag Bingo,Drag Shows
ATTACH;FMTTYPE=image/png:https://phillydragmafia.com/wp-content/uploads/2025/09/Bingo.png
END:VEVENT
BEGIN:VEVENT
DTSTART;TZID=America/New_York:20251004T110000
DTEND;TZID=America/New_York:20251004T230000
DTSTAMP:20260421T170123
CREATED:20250910T180507Z
LAST-MODIFIED:20250911T164112Z
UID:10001040-1759575600-1759618800@phillydragmafia.com
SUMMARY:Out & About Weekend Manayunk
DESCRIPTION:Manayunk is excited to be bringing back Out & About in MNYK to Main Street! In honor of National Coming Out Day in October\, Out & About in MNYK will host LGBTQ+ artists\, performers\, organizations\, and entertainment to promote Manayunk as a safe place that welcomes everyone. \nFor more info\, events\, etc. visit the link below:\nhttps://manayunk.com/mnyk-events/out-about-in-mnyk/ \nFRIDAY\, OCTOBER 3RD  \nDrag Bingo @ Winnie’s\nDoors 6pm / Bingo 7pm \nSATURDAY\, OCTOBER 4th \n11:00 AM\nDrag Storytime @ Gay Street Stage \n12:15 PM\nPhiladelphia Freedom Band Plays\nThroughout Main Street \n1:00 PM\nDrag Show @ Gay Street Stage \n3:00 PM\nKaraoke Competition @ Canalside Manayunk \n6:00 PM\nRocky Horror (1st show) @ Venice Island performing Arts \n9:00 PM\nRocky Horror (2nd show) @ Venice Island performing Arts
URL:https://phillydragmafia.com/event/out-about-weekend-manayunk/2025-10-04/
LOCATION:Manayunk\, Phila\, Pennsylvania
CATEGORIES:Community Event,Dance Party,Drag Bingo,Drag Shows
ATTACH;FMTTYPE=image/png:https://phillydragmafia.com/wp-content/uploads/2025/09/Manayunk.com-presents-1-scaled.png
END:VEVENT
BEGIN:VEVENT
DTSTART;TZID=America/New_York:20251011T180000
DTEND;TZID=America/New_York:20251011T210000
DTSTAMP:20260421T170123
CREATED:20250806T160639Z
LAST-MODIFIED:20250911T145623Z
UID:10001031-1760205600-1760216400@phillydragmafia.com
SUMMARY:Drag Bingo for Morton-Rutledge Fire Company
DESCRIPTION:Drag bingo returns to Morton-Rutledge Fire Company! 50/50’s\, raffles\, drag\, and bingo- what else can ya want?\nBingo will take place at the Milmont Fire Hall. Doors at 6pm\, bingo starts at 7pm!
URL:https://phillydragmafia.com/event/drag-bingo-for-mortoin-rutledge-fire-company/
LOCATION:Milmont Fire Hall\, 714 Belmont Ave\, Folsom\, PA\, 19033\, United States
CATEGORIES:Community Event,Drag Bingo,Drag Shows
ATTACH;FMTTYPE=image/png:https://phillydragmafia.com/wp-content/uploads/2025/08/Drag-1.png
END:VEVENT
BEGIN:VEVENT
DTSTART;TZID=America/New_York:20251019T110000
DTEND;TZID=America/New_York:20251019T140000
DTSTAMP:20260421T170123
CREATED:20250920T194454Z
LAST-MODIFIED:20251003T144239Z
UID:10001042-1760871600-1760882400@phillydragmafia.com
SUMMARY:Drag Brunch at Fringe Bar
DESCRIPTION:Join us for Drag Brunch at Fringe Bar! \nGet ready for a fabulous SUNDAY FUNDAY filled with a delicious buffet brunch (included with your ticket purchase)\, bottomless mimosas (package available to purchase the day of the event)\, and jaw-dropping performances by Philly’s most talented queens! Drag brunch is the perfect way to finish your weekend! Drag\, live singing\, comedy-it’s gonna be everything!!! \nHosted by Brittany Lynn\, with performances by her Philly Drag Mafia – Winner Philadelphia Magazine’s Best of Philly 2022 AND 2023 – for BEST DRAG SHOWS AND DRAG BRUNCHES! Featured performances by Lisa LIsa (of Bob & Barbara’s fame)\, Atlantic City’s Morgan Wells\, and Italian Opera Singer Belena Canto! \nSeating options: \nWe have bar seats (singles)\, and tables for two.\nThere are three VIP tables on the stage for people celebrating something special.\nThere are three tables on the mezzanine for those that want a view from above!\nOur tables can be moved to accomodate larger groups of six\, eight\, and ten. If you purchase more than one ticket to seat a group\, just let us know and we will make sure to seat your entire party together. \n*Ticket purchase includes your seat\, a bufftet brunch\, and two fabulous shows. Drinks and gratuity are additional purchases the day of the event. \nBrittany and her Drag Mafia have been performing for close to three decades — with shows at casinos\, restaurants\, and concert venues all over the tri-state area! \nDrag Mafia is the most award winning drag troupe around-not only for their shows\, but for their work with multiple charities on various platforms. Don’t miss out on this one hun-we are sure to please even the fussiest Queen in your crew!
URL:https://phillydragmafia.com/event/drag-brunch-at-fringe-arts/
LOCATION:Fringe Bar\, 140 North Christopher Columbus Boulevard\, Phila\, PA\, 19106\, United States
CATEGORIES:Community Event,Drag Brunch,Drag Shows
ATTACH;FMTTYPE=image/jpeg:https://phillydragmafia.com/wp-content/uploads/2025/09/Fringe-Drag-Brunch-1-scaled.jpg
END:VEVENT
BEGIN:VEVENT
DTSTART;TZID=America/New_York:20251025T120000
DTEND;TZID=America/New_York:20251025T150000
DTSTAMP:20260421T170123
CREATED:20250902T192002Z
LAST-MODIFIED:20250902T192002Z
UID:10001037-1761393600-1761404400@phillydragmafia.com
SUMMARY:Screamtime Saturday at Monster Vegan
DESCRIPTION:Screamtine Saturday! The ultimate horror fan drag brunch! Hosted by Brittany Lynn with special performances by the Philly Drag Mafia! (NOW THAT’S SCARY!) \nIndulge in Monster Vegan’s horrorifically fabulous food and monster themed cocktails\, while watching Brittany Lynn’s cultivated collection of the best in horror from both cinema and tv on all our screens! \nPop up performances throughout the day by the most evil queens! \nAAAAAAND play some horror trivia! Winning team gets a dream basket of ghoulish goodies! \nThis is THE ULTIMATE HORROR FAN’S DRAG BRUNCH! \nTickets: \n-Single bar seats \n-Two top tables (this ticket is for two people) \n-Fancy haunted booth (seats up to five people)\, there are only five of these available! *Note: three of these booths have great line of sight to the tv screens\, two of them do not but are great for watching performances \nEveryone will be able to participate in trivia no matter where you sit. \n(*Ticket price is for seating only- brunch food\, drinks\, and gratuity not included in ticket price.)
URL:https://phillydragmafia.com/event/screamtime-saturday-at-monster-vegan/
LOCATION:Monster Vegan\, 1229 Spruce St.\, Phila\, PA\, 19107\, United States
CATEGORIES:Community Event,Drag Brunch,Drag Shows
ATTACH;FMTTYPE=image/png:https://phillydragmafia.com/wp-content/uploads/2025/09/SCream-time-saturday-scaled.png
END:VEVENT
BEGIN:VEVENT
DTSTART;TZID=America/New_York:20251026T110000
DTEND;TZID=America/New_York:20251026T140000
DTSTAMP:20260421T170123
CREATED:20250910T165615Z
LAST-MODIFIED:20250923T210059Z
UID:10001038-1761476400-1761487200@phillydragmafia.com
SUMMARY:Drag Brunch at Silk City - Halloween Edition!
DESCRIPTION:Drag brunch returns to No Libs at everyone’s fave spot- Silk City! Halloween edition! \nGet ready – here comes your new Sunday Funday – filled with delicious food\, amazing cocktails\, and jaw-dropping performances by the tri-state area’s most talented queens! \nThis brunch has it all : drag queens\, live singing\, comedy\, and more! \nDoors open at 11am\, shows start promptly at noon! \nHosted by Philly’s Queen of Queens – Brittany Lynn\, with performances by her Philly Drag Mafia! Winner of Philadelphia Magazine’s Best of Philly 2022 AND 2023 – for BEST DRAG SHOWS AND DRAG BRUNCHES! \nTickets are General Admission – Our tables can be moved to accomodate any size group. If you purchase more than one ticket to seat a group\, just let us know and we will make sure to seat your entire party together. \n*Ticket purchase includes your seat and two fabulous shows. Brunch food and drinks are additional purchases the day of the event. \nNOTE: A good portion of the seating is barstool height / higher seating. if anyone in your party has specific needs\, please let us know so we can do our best to accommodate them. \nBrittany and her Drag Mafia have been performing for over two decades — with shows at casinos\, restaurants\, and concert venues all over the tri-state area! \nDrag Mafia is the most award winning drag troupe around-not only for their shows\, but for their work with multiple charities on various platforms. Don’t miss out on this one hun-we are sure to please even the fussiest Queen in your crew!
URL:https://phillydragmafia.com/event/drag-brunch-at-silk-city-halloween-edition/
LOCATION:Silk City\, 435 Spring Garden\, Phila\, PA\, 19123-2846\, United States
CATEGORIES:Community Event,Drag Brunch,Drag Shows
ATTACH;FMTTYPE=image/jpeg:https://phillydragmafia.com/wp-content/uploads/2025/09/Silk-City-Drag-Brunch-FLYER-HALLOWEEN-scaled.jpg
END:VEVENT
BEGIN:VEVENT
DTSTART;TZID=America/New_York:20251031T180000
DTEND;TZID=America/New_York:20251031T220000
DTSTAMP:20260421T170123
CREATED:20250911T150644Z
LAST-MODIFIED:20250911T150644Z
UID:10001041-1761933600-1761948000@phillydragmafia.com
SUMMARY:Halloween at the PHS Pop Up Garden Manayunk
DESCRIPTION:It’s Halloween night-and we have something spooky planned for ghostly ghouls and goblins of all ages! \nDrag Story Time at 6pm\, followed by a costume parade for the kids at 6:30pm. The first 50 kids will get a Halloween gift bag full of toys and treats put together by Miss Brittany Lynn! \nAt 7pm\, Brittany Lynn and the Philly Drag Mafia will be hosting their annual Halloween drag show – full of spooky stunts\, followed by a costume contest for the adults with lots of amazing prize baskets for the best and most original costumes! \nMusic by Dj Da Boo Boo throughout the event! \nThis entire night is a FREE EVENT – so come out and let’s do Halloween right!
URL:https://phillydragmafia.com/event/halloween-at-the-phs-pop-up-garden-manayunk/
LOCATION:PHS Pop Up Garden\, 106 Jamestown\, Philadelphia\, PA\, 19127\, United States
CATEGORIES:Community Event,Dance Party,Drag Queen Story Time,Drag Shows
ATTACH;FMTTYPE=image/png:https://phillydragmafia.com/wp-content/uploads/2025/09/at-the-garden-scaled.png
END:VEVENT
BEGIN:VEVENT
DTSTART;TZID=America/New_York:20251031T210000
DTEND;TZID=America/New_York:20251101T020000
DTSTAMP:20260421T170123
CREATED:20251030T154433Z
LAST-MODIFIED:20251030T154433Z
UID:10001045-1761944400-1761962400@phillydragmafia.com
SUMMARY:Halloween Bash at Morgan's Pier
DESCRIPTION:Morgan’s Pier closes out the 2025 season with a night to remember. On our final evening\, the waterfront transforms into a haunted playground where costumes\, cocktails\, and chaos collide. \nCome dressed to impress — or terrify — and party alongside Philly’s most fabulous. Drag legend Brittany Lynn will lead the madness with a costume contest worth cash prizes. \nYour ticket includes: \nAll-Night Open Bar (9 PM – 2 AM) — Premium pours until the lights go out. \nFree Hot Dogs — Because even monsters need fuel. \nMenace Cartel on the Decks — Dance floor energy all night. \nCostume Contest — Hosted by Drag Mafia royalty\, Brittany Lynn\, with cash on the line for the best looks. \nIt’s the Pier’s last party of the year — and you don’t want to miss it. \n*** Only tickets purchased through the official ETIX link are valid. *** \n*** THE ONLY OFFICIAL TICKET PROVIDER FOR THIS EVENT IS THE USE OF THIS ETIX LINK ***
URL:https://phillydragmafia.com/event/halloween-bash-at-morgans-pier/
LOCATION:Morgan’s Pier\, 221 N. Christopher Columbus Blvd\, Phila\, PA\, 19106\, United States
CATEGORIES:Community Event,Dance Party
ATTACH;FMTTYPE=image/webp:https://phillydragmafia.com/wp-content/uploads/2025/10/ScreenShot2025-09-16at3.23.50PM.webp
END:VEVENT
END:VCALENDAR