BEGIN:VCALENDAR
VERSION:2.0
PRODID:-//Philly Drag Mafia - ECPv6.15.20//NONSGML v1.0//EN
CALSCALE:GREGORIAN
METHOD:PUBLISH
X-ORIGINAL-URL:https://phillydragmafia.com
X-WR-CALDESC:Events for Philly Drag Mafia
REFRESH-INTERVAL;VALUE=DURATION:PT1H
X-Robots-Tag:noindex
X-PUBLISHED-TTL:PT1H
BEGIN:VTIMEZONE
TZID:America/New_York
BEGIN:DAYLIGHT
TZOFFSETFROM:-0500
TZOFFSETTO:-0400
TZNAME:EDT
DTSTART:20260308T070000
END:DAYLIGHT
BEGIN:STANDARD
TZOFFSETFROM:-0400
TZOFFSETTO:-0500
TZNAME:EST
DTSTART:20261101T060000
END:STANDARD
BEGIN:DAYLIGHT
TZOFFSETFROM:-0500
TZOFFSETTO:-0400
TZNAME:EDT
DTSTART:20270314T070000
END:DAYLIGHT
BEGIN:STANDARD
TZOFFSETFROM:-0400
TZOFFSETTO:-0500
TZNAME:EST
DTSTART:20271107T060000
END:STANDARD
BEGIN:DAYLIGHT
TZOFFSETFROM:-0500
TZOFFSETTO:-0400
TZNAME:EDT
DTSTART:20280312T070000
END:DAYLIGHT
BEGIN:STANDARD
TZOFFSETFROM:-0400
TZOFFSETTO:-0500
TZNAME:EST
DTSTART:20281105T060000
END:STANDARD
END:VTIMEZONE
BEGIN:VEVENT
DTSTART;TZID=America/New_York:20270107T210000
DTEND;TZID=America/New_York:20270107T230000
DTSTAMP:20260421T213828
CREATED:20260312T172611Z
LAST-MODIFIED:20260407T215852Z
UID:10001442-1799355600-1799362800@phillydragmafia.com
SUMMARY:Big\, Gay Trivia at Woody's
DESCRIPTION:A really BIG\, GAY Trivia comes to the infamous Woody’s on 13th Street! Play six rounds of trivia with Brittany Lynn and win some BIG prizes including a “Weekend Warrior Package” that includes Woody’s and Voyeur passes and drink tickets-and more! Weekly starting at 8pm-10pm.
URL:https://phillydragmafia.com/event/big-gay-trivia-at-woodys/2027-01-07/
LOCATION:Woody’s\, 212 S. 13th St\, Phila\, PA\, 19107\, United States
CATEGORIES:Community Event,Drag Shows,Trivia Night
ATTACH;FMTTYPE=image/jpeg:https://phillydragmafia.com/wp-content/uploads/2026/03/unnamed.jpg
END:VEVENT
BEGIN:VEVENT
DTSTART;TZID=America/New_York:20270114T210000
DTEND;TZID=America/New_York:20270114T230000
DTSTAMP:20260421T213828
CREATED:20260312T172611Z
LAST-MODIFIED:20260407T215852Z
UID:10001443-1799960400-1799967600@phillydragmafia.com
SUMMARY:Big\, Gay Trivia at Woody's
DESCRIPTION:A really BIG\, GAY Trivia comes to the infamous Woody’s on 13th Street! Play six rounds of trivia with Brittany Lynn and win some BIG prizes including a “Weekend Warrior Package” that includes Woody’s and Voyeur passes and drink tickets-and more! Weekly starting at 8pm-10pm.
URL:https://phillydragmafia.com/event/big-gay-trivia-at-woodys/2027-01-14/
LOCATION:Woody’s\, 212 S. 13th St\, Phila\, PA\, 19107\, United States
CATEGORIES:Community Event,Drag Shows,Trivia Night
ATTACH;FMTTYPE=image/jpeg:https://phillydragmafia.com/wp-content/uploads/2026/03/unnamed.jpg
END:VEVENT
BEGIN:VEVENT
DTSTART;TZID=America/New_York:20270121T210000
DTEND;TZID=America/New_York:20270121T230000
DTSTAMP:20260421T213828
CREATED:20260312T172611Z
LAST-MODIFIED:20260407T215852Z
UID:10001444-1800565200-1800572400@phillydragmafia.com
SUMMARY:Big\, Gay Trivia at Woody's
DESCRIPTION:A really BIG\, GAY Trivia comes to the infamous Woody’s on 13th Street! Play six rounds of trivia with Brittany Lynn and win some BIG prizes including a “Weekend Warrior Package” that includes Woody’s and Voyeur passes and drink tickets-and more! Weekly starting at 8pm-10pm.
URL:https://phillydragmafia.com/event/big-gay-trivia-at-woodys/2027-01-21/
LOCATION:Woody’s\, 212 S. 13th St\, Phila\, PA\, 19107\, United States
CATEGORIES:Community Event,Drag Shows,Trivia Night
ATTACH;FMTTYPE=image/jpeg:https://phillydragmafia.com/wp-content/uploads/2026/03/unnamed.jpg
END:VEVENT
BEGIN:VEVENT
DTSTART;TZID=America/New_York:20270128T210000
DTEND;TZID=America/New_York:20270128T230000
DTSTAMP:20260421T213828
CREATED:20260312T172611Z
LAST-MODIFIED:20260407T215852Z
UID:10001445-1801170000-1801177200@phillydragmafia.com
SUMMARY:Big\, Gay Trivia at Woody's
DESCRIPTION:A really BIG\, GAY Trivia comes to the infamous Woody’s on 13th Street! Play six rounds of trivia with Brittany Lynn and win some BIG prizes including a “Weekend Warrior Package” that includes Woody’s and Voyeur passes and drink tickets-and more! Weekly starting at 8pm-10pm.
URL:https://phillydragmafia.com/event/big-gay-trivia-at-woodys/2027-01-28/
LOCATION:Woody’s\, 212 S. 13th St\, Phila\, PA\, 19107\, United States
CATEGORIES:Community Event,Drag Shows,Trivia Night
ATTACH;FMTTYPE=image/jpeg:https://phillydragmafia.com/wp-content/uploads/2026/03/unnamed.jpg
END:VEVENT
END:VCALENDAR