BEGIN:VCALENDAR
VERSION:2.0
PRODID:-//Philly Drag Mafia - ECPv6.15.20//NONSGML v1.0//EN
CALSCALE:GREGORIAN
METHOD:PUBLISH
X-WR-CALNAME:Philly Drag Mafia
X-ORIGINAL-URL:https://phillydragmafia.com
X-WR-CALDESC:Events for Philly Drag Mafia
REFRESH-INTERVAL;VALUE=DURATION:PT1H
X-Robots-Tag:noindex
X-PUBLISHED-TTL:PT1H
BEGIN:VTIMEZONE
TZID:America/New_York
BEGIN:DAYLIGHT
TZOFFSETFROM:-0500
TZOFFSETTO:-0400
TZNAME:EDT
DTSTART:20230312T070000
END:DAYLIGHT
BEGIN:STANDARD
TZOFFSETFROM:-0400
TZOFFSETTO:-0500
TZNAME:EST
DTSTART:20231105T060000
END:STANDARD
BEGIN:DAYLIGHT
TZOFFSETFROM:-0500
TZOFFSETTO:-0400
TZNAME:EDT
DTSTART:20240310T070000
END:DAYLIGHT
BEGIN:STANDARD
TZOFFSETFROM:-0400
TZOFFSETTO:-0500
TZNAME:EST
DTSTART:20241103T060000
END:STANDARD
BEGIN:DAYLIGHT
TZOFFSETFROM:-0500
TZOFFSETTO:-0400
TZNAME:EDT
DTSTART:20250309T070000
END:DAYLIGHT
BEGIN:STANDARD
TZOFFSETFROM:-0400
TZOFFSETTO:-0500
TZNAME:EST
DTSTART:20251102T060000
END:STANDARD
END:VTIMEZONE
BEGIN:VEVENT
DTSTART;TZID=America/New_York:20240622T140000
DTEND;TZID=America/New_York:20240622T160000
DTSTAMP:20260423T032800
CREATED:20240507T222833Z
LAST-MODIFIED:20240530T131429Z
UID:10000702-1719064800-1719072000@phillydragmafia.com
SUMMARY:Drag Tea at the Sofitel
DESCRIPTION:Sofitel Philadelphia returns with the most celebrated drag tea in Philadelphia with two exclusive dates this year: Saturday June 8 and Saturday June 22.  Look for a new spin on a time-honored tradition. Sofitel\, famous for its classic afternoon tea service\, will debut a new Drag Tea featuring Brittany Lynn’s Drag Mafia. Sip tea (or spill it) in the presence of fabulous Drag Queens as you enjoy delicious offerings from Sofitel’s award-winning culinary team. Drag Tea starts each week at 2:00pm and runs through 4:00pm inside Chez Colette Brasserie. Come ready to be entertained as you enjoy classics\, like scones\, tea sandwiches\, pastries and Palais Des Thes (selection of nine different teas for you to choose) – plus your choice of a Champagne\, Mimosa or Bellini. Tickets are $65 per person for standard drag tea service\, or $75 with bottomless Champagne\, Mimosas and Bloody Marys. Five dollars from each purchase will be donated to the Mazzoni Center. Tickets are available at bit dot ly/pridetea24
URL:https://phillydragmafia.com/event/drag-tea-at-the-sofitel/2024-06-22/
LOCATION:Sofitel Hotel\, 120 S. 17th\, Phila.\, PA\, 19103\, United States
CATEGORIES:Community Event,Drag Brunch,Drag Shows
ATTACH;FMTTYPE=image/png:https://phillydragmafia.com/wp-content/uploads/2024/05/SparkleBrittanyBrunch.png
END:VEVENT
BEGIN:VEVENT
DTSTART;TZID=America/New_York:20240622T220000
DTEND;TZID=America/New_York:20240623T010000
DTSTAMP:20260423T032800
CREATED:20240530T132301Z
LAST-MODIFIED:20240530T132301Z
UID:10000716-1719093600-1719104400@phillydragmafia.com
SUMMARY:Tabu Takeover with the Philly Drag Mafia
DESCRIPTION:Join us as The Philly Drag Mafia Takeover TABU! Hosted by Brittany Lynn (Winner Best of Philly 2022 and 2023- Best Drag Shows)! \nDrag Mafia TABU Takeover on 2nd Floor \n10PM-12AM with Special Performances \n$7 Stoli Cocktails on Special! \nMidnight Madness \n12AM-2AM with Popup Performances on the Roof Deck & Cabaret \n$6 Surfside on Special! \nNO COVER\nMusic By: DJ DA_BOOBOO!\n21+
URL:https://phillydragmafia.com/event/tabu-takeover-with-the-philly-drag-mafia/
LOCATION:254\, 254 S. 12th St.\, Phila\, PA\, 19107\, United States
CATEGORIES:Community Event,Drag Shows
ATTACH;FMTTYPE=image/jpeg:https://phillydragmafia.com/wp-content/uploads/2024/05/Takeover-Madness-Flyer-Pride-1-scaled.jpg
END:VEVENT
END:VCALENDAR