BEGIN:VCALENDAR
VERSION:2.0
PRODID:-//Philly Drag Mafia - ECPv6.15.20//NONSGML v1.0//EN
CALSCALE:GREGORIAN
METHOD:PUBLISH
X-WR-CALNAME:Philly Drag Mafia
X-ORIGINAL-URL:https://phillydragmafia.com
X-WR-CALDESC:Events for Philly Drag Mafia
REFRESH-INTERVAL;VALUE=DURATION:PT1H
X-Robots-Tag:noindex
X-PUBLISHED-TTL:PT1H
BEGIN:VTIMEZONE
TZID:America/New_York
BEGIN:DAYLIGHT
TZOFFSETFROM:-0500
TZOFFSETTO:-0400
TZNAME:EDT
DTSTART:20240310T070000
END:DAYLIGHT
BEGIN:STANDARD
TZOFFSETFROM:-0400
TZOFFSETTO:-0500
TZNAME:EST
DTSTART:20241103T060000
END:STANDARD
BEGIN:DAYLIGHT
TZOFFSETFROM:-0500
TZOFFSETTO:-0400
TZNAME:EDT
DTSTART:20250309T070000
END:DAYLIGHT
BEGIN:STANDARD
TZOFFSETFROM:-0400
TZOFFSETTO:-0500
TZNAME:EST
DTSTART:20251102T060000
END:STANDARD
BEGIN:DAYLIGHT
TZOFFSETFROM:-0500
TZOFFSETTO:-0400
TZNAME:EDT
DTSTART:20260308T070000
END:DAYLIGHT
BEGIN:STANDARD
TZOFFSETFROM:-0400
TZOFFSETTO:-0500
TZNAME:EST
DTSTART:20261101T060000
END:STANDARD
END:VTIMEZONE
BEGIN:VEVENT
DTSTART;TZID=America/New_York:20250620T193000
DTEND;TZID=America/New_York:20250620T213000
DTSTAMP:20260422T024250
CREATED:20250607T212029Z
LAST-MODIFIED:20250607T212059Z
UID:10000935-1750447800-1750455000@phillydragmafia.com
SUMMARY:Drag Bingo at Winnie's
DESCRIPTION:Celebrate Pride Month at Winnie’s Manayunk! Our Pride Bingo event sells out every year so grab your tickets now for a drag-tastic night of games\, prizes\, music\, and drink specials! Tickets are $25 per person and include 5 bingo games. \nDoors open at 6:00PM\nGames start at 7:30PM
URL:https://phillydragmafia.com/event/drag-bingo-at-winnies-3/
LOCATION:Winnie’s\, 4266 Main St.\, Phila\, Pennsylvania\, 19127
CATEGORIES:Community Event,Drag Bingo,Drag Shows
ATTACH;FMTTYPE=image/png:https://phillydragmafia.com/wp-content/uploads/2025/05/Bingo-1.png
END:VEVENT
END:VCALENDAR