BEGIN:VCALENDAR
VERSION:2.0
PRODID:-//Philly Drag Mafia - ECPv6.15.20//NONSGML v1.0//EN
CALSCALE:GREGORIAN
METHOD:PUBLISH
X-WR-CALNAME:Philly Drag Mafia
X-ORIGINAL-URL:https://phillydragmafia.com
X-WR-CALDESC:Events for Philly Drag Mafia
REFRESH-INTERVAL;VALUE=DURATION:PT1H
X-Robots-Tag:noindex
X-PUBLISHED-TTL:PT1H
BEGIN:VTIMEZONE
TZID:America/New_York
BEGIN:DAYLIGHT
TZOFFSETFROM:-0500
TZOFFSETTO:-0400
TZNAME:EDT
DTSTART:20240310T070000
END:DAYLIGHT
BEGIN:STANDARD
TZOFFSETFROM:-0400
TZOFFSETTO:-0500
TZNAME:EST
DTSTART:20241103T060000
END:STANDARD
BEGIN:DAYLIGHT
TZOFFSETFROM:-0500
TZOFFSETTO:-0400
TZNAME:EDT
DTSTART:20250309T070000
END:DAYLIGHT
BEGIN:STANDARD
TZOFFSETFROM:-0400
TZOFFSETTO:-0500
TZNAME:EST
DTSTART:20251102T060000
END:STANDARD
BEGIN:DAYLIGHT
TZOFFSETFROM:-0500
TZOFFSETTO:-0400
TZNAME:EDT
DTSTART:20260308T070000
END:DAYLIGHT
BEGIN:STANDARD
TZOFFSETFROM:-0400
TZOFFSETTO:-0500
TZNAME:EST
DTSTART:20261101T060000
END:STANDARD
END:VTIMEZONE
BEGIN:VEVENT
DTSTART;TZID=America/New_York:20250726T210000
DTEND;TZID=America/New_York:20250726T220000
DTSTAMP:20260422T005359
CREATED:20250715T215209Z
LAST-MODIFIED:20250715T215209Z
UID:10001027-1753563600-1753567200@phillydragmafia.com
SUMMARY:254 Takeover Show!
DESCRIPTION:Come OUT for a free\, heart pumping event at 254! Doors open 9pm-show starts promptly at 10pm! Hosted by Brittany Lynn and featuring Billy Cavallo\, Demi Gawdess\, and THAT QUEEN! Dj Da Boo Boo plays bops all night long! \n254 S. 12th St.
URL:https://phillydragmafia.com/event/254-takeover-show-2/
LOCATION:254\, 254 S. 12th St.\, Phila\, PA\, 19107\, United States
CATEGORIES:Community Event,Dance Party,Drag Shows
ATTACH;FMTTYPE=image/jpeg:https://phillydragmafia.com/wp-content/uploads/2025/07/unnamed-scaled.jpg
END:VEVENT
END:VCALENDAR