BEGIN:VCALENDAR
VERSION:2.0
PRODID:-//Philly Drag Mafia - ECPv6.15.20//NONSGML v1.0//EN
CALSCALE:GREGORIAN
METHOD:PUBLISH
X-ORIGINAL-URL:https://phillydragmafia.com
X-WR-CALDESC:Events for Philly Drag Mafia
REFRESH-INTERVAL;VALUE=DURATION:PT1H
X-Robots-Tag:noindex
X-PUBLISHED-TTL:PT1H
BEGIN:VTIMEZONE
TZID:America/New_York
BEGIN:DAYLIGHT
TZOFFSETFROM:-0500
TZOFFSETTO:-0400
TZNAME:EDT
DTSTART:20240310T070000
END:DAYLIGHT
BEGIN:STANDARD
TZOFFSETFROM:-0400
TZOFFSETTO:-0500
TZNAME:EST
DTSTART:20241103T060000
END:STANDARD
BEGIN:DAYLIGHT
TZOFFSETFROM:-0500
TZOFFSETTO:-0400
TZNAME:EDT
DTSTART:20250309T070000
END:DAYLIGHT
BEGIN:STANDARD
TZOFFSETFROM:-0400
TZOFFSETTO:-0500
TZNAME:EST
DTSTART:20251102T060000
END:STANDARD
BEGIN:DAYLIGHT
TZOFFSETFROM:-0500
TZOFFSETTO:-0400
TZNAME:EDT
DTSTART:20260308T070000
END:DAYLIGHT
BEGIN:STANDARD
TZOFFSETFROM:-0400
TZOFFSETTO:-0500
TZNAME:EST
DTSTART:20261101T060000
END:STANDARD
END:VTIMEZONE
BEGIN:VEVENT
DTSTART;TZID=America/New_York:20251004T110000
DTEND;TZID=America/New_York:20251004T230000
DTSTAMP:20260421T200419
CREATED:20250910T180507Z
LAST-MODIFIED:20250911T164112Z
UID:10001040-1759575600-1759618800@phillydragmafia.com
SUMMARY:Out & About Weekend Manayunk
DESCRIPTION:Manayunk is excited to be bringing back Out & About in MNYK to Main Street! In honor of National Coming Out Day in October\, Out & About in MNYK will host LGBTQ+ artists\, performers\, organizations\, and entertainment to promote Manayunk as a safe place that welcomes everyone. \nFor more info\, events\, etc. visit the link below:\nhttps://manayunk.com/mnyk-events/out-about-in-mnyk/ \nFRIDAY\, OCTOBER 3RD  \nDrag Bingo @ Winnie’s\nDoors 6pm / Bingo 7pm \nSATURDAY\, OCTOBER 4th \n11:00 AM\nDrag Storytime @ Gay Street Stage \n12:15 PM\nPhiladelphia Freedom Band Plays\nThroughout Main Street \n1:00 PM\nDrag Show @ Gay Street Stage \n3:00 PM\nKaraoke Competition @ Canalside Manayunk \n6:00 PM\nRocky Horror (1st show) @ Venice Island performing Arts \n9:00 PM\nRocky Horror (2nd show) @ Venice Island performing Arts
URL:https://phillydragmafia.com/event/out-about-weekend-manayunk/2025-10-04/
LOCATION:Manayunk\, Phila\, Pennsylvania
CATEGORIES:Community Event,Dance Party,Drag Bingo,Drag Shows
ATTACH;FMTTYPE=image/png:https://phillydragmafia.com/wp-content/uploads/2025/09/Manayunk.com-presents-1-scaled.png
END:VEVENT
END:VCALENDAR