BEGIN:VCALENDAR
VERSION:2.0
PRODID:-//Philly Drag Mafia - ECPv6.15.20//NONSGML v1.0//EN
CALSCALE:GREGORIAN
METHOD:PUBLISH
X-ORIGINAL-URL:https://phillydragmafia.com
X-WR-CALDESC:Events for Philly Drag Mafia
REFRESH-INTERVAL;VALUE=DURATION:PT1H
X-Robots-Tag:noindex
X-PUBLISHED-TTL:PT1H
BEGIN:VTIMEZONE
TZID:America/New_York
BEGIN:DAYLIGHT
TZOFFSETFROM:-0500
TZOFFSETTO:-0400
TZNAME:EDT
DTSTART:20240310T070000
END:DAYLIGHT
BEGIN:STANDARD
TZOFFSETFROM:-0400
TZOFFSETTO:-0500
TZNAME:EST
DTSTART:20241103T060000
END:STANDARD
BEGIN:DAYLIGHT
TZOFFSETFROM:-0500
TZOFFSETTO:-0400
TZNAME:EDT
DTSTART:20250309T070000
END:DAYLIGHT
BEGIN:STANDARD
TZOFFSETFROM:-0400
TZOFFSETTO:-0500
TZNAME:EST
DTSTART:20251102T060000
END:STANDARD
BEGIN:DAYLIGHT
TZOFFSETFROM:-0500
TZOFFSETTO:-0400
TZNAME:EDT
DTSTART:20260308T070000
END:DAYLIGHT
BEGIN:STANDARD
TZOFFSETFROM:-0400
TZOFFSETTO:-0500
TZNAME:EST
DTSTART:20261101T060000
END:STANDARD
END:VTIMEZONE
BEGIN:VEVENT
DTSTART;TZID=America/New_York:20251126T190000
DTEND;TZID=America/New_York:20251126T210000
DTSTAMP:20260421T200445
CREATED:20251030T161137Z
LAST-MODIFIED:20251114T143528Z
UID:10001109-1764183600-1764190800@phillydragmafia.com
SUMMARY:Feast and Fierce - Thanksgiving Eve Drag Show at Anzu Social in New Hope
DESCRIPTION:Get ready to gobble\, giggle\, and glam it up at Anzu Social! Thanksgiving Eve turns fabulous with Philadelphia Magazine’s Best of Philly winners\, Philly Drag Mafia\, serving up a show that’s equal parts feast and fierce. \nSip\, savor\, and sparkle ✨ Enjoy a welcome cocktail and watch as four dazzling queens light up the stage with show-stopping performances! \nFood & drink à la carte menu available to enjoy throughout the show!
URL:https://phillydragmafia.com/event/feast-and-fierce-thnanksgiving-eve-drag-show-at-anzu-social-in-new-hope/
LOCATION:Anzu Social\, 9 S Main St.\, New Hope\, PA\, 18938\, United States
CATEGORIES:Community Event,Drag Shows
ATTACH;FMTTYPE=image/webp:https://phillydragmafia.com/wp-content/uploads/2025/10/shop-graphics-24-1024x576-1.webp
END:VEVENT
END:VCALENDAR